BEGIN:VCALENDAR
VERSION:2.0
PRODID:-//ChamberMaster//Event Calendar 2.0//EN
METHOD:PUBLISH
X-PUBLISHED-TTL:P3D
REFRESH-INTERVAL:P3D
CALSCALE:GREGORIAN
BEGIN:VEVENT
DTSTART:20240417T220000Z
DTEND:20240418T000000Z
X-MICROSOFT-CDO-ALLDAYEVENT:FALSE
SUMMARY:2024 Job Fair at SCHS
DESCRIPTION:Join SCHS & the Bethany-Fenwick Area Chamber of Commerce at Sussex Central High School for a job fair on Wenesday\, April 17th. Visit with local businesses seeking to provide on the job training for career-oriented applicants! Apply and be interviewed onsite. This event was coordinated with the help of the Georgetown Chamber of Commerce and the Greater Millsboro Chamber of Commerce. \n\n\n\nThe following businesses will have representatives on site:  Some businesses will have co-op or job shadowing opportunities for students that meet the necessary requirements.\n\n \n\n	A & A Air Services\n	ALOFT AeroArchitects\n	Baywood Clubhouse\n	Beebe Healthcare\n	Bethany-Fenwick Area Chamber of Commerce\n	Community Integrated Services\n	Delaware Air National Guard\n	Delaware Department of Human Resources\n	Delaware Technical Community College\n	DiFebo's Restaurant & Market\n	Factory Sports Inc.\n	Gale Force Rentals\n	Georgetown Police Department\n	Goodwill\n	HomeWell Care Services\n	Indian River Marina\n	Indian River School District\n	Millsboro Police Department\n	Mountaire Farms\n	Neighborly Home Care\n	Old Navy Outlet\n	Piedmont Airlines\n	RSC Landscaping\n	Sullivan's Landscaping & Maintenance\n	Surf Bagel\n	Sussex County EMS\n	Sussex County Government\n	Sussex Family YMCA\n	Sussex Tech Adult Education\n	T-Mobile\n	TidalHealth\n	Troon Golf\n	Zava Cafe Hospitality Group
X-ALT-DESC;FMTTYPE=text/html:<span style="font-size:14px\;"><span style="color: rgb(29\, 33\, 41)\; font-family: Helvetica\, Arial\, sans-serif\; white-space: pre-wrap\;">Join SCHS &amp\; the Bethany-Fenwick Area Chamber of Commerce at Sussex Central High School for a job fair on <strong>Wenesday\, April 17th</strong>. Visit with local businesses seeking to provide on the job training for career-oriented applicants! Apply and be interviewed onsite. This event was coordinated with the help of the Georgetown Chamber of Commerce and the Greater Millsboro Chamber of Commerce. </span><br />\n<br />\n<span style="color: rgb(29\, 33\, 41)\; font-family: Helvetica\, Arial\, sans-serif\; white-space: pre-wrap\;"><strong>The following businesses will have representatives on site: </strong></span></span> <span style="font-family:arial\;"><em><span style="background-color: rgb(255\, 255\, 255)\; color: rgb(29\, 33\, 41)\; white-space: pre-wrap\;">Some businesses will have co-op or job shadowing </span><font background-color:="" color="#1d2129" font-size:="" style="font-family: sans-serif\, Arial\, Verdana\, " trebuchet=""><span style="color: rgb(51\, 51\, 51)\;" trebuchet="" white-space:="">opportunities for students that meet the&nbsp\;</span><span style="white-space: pre-wrap\;">necessary</span><span style="color: rgb(51\, 51\, 51)\;" trebuchet="" white-space:="">&nbsp\;requirements.</span></font></em></span><br />\n&nbsp\;\n<ul>\n	<li><span style="font-family:arial\;"><font background-color:="" color="#1d2129" font-size:="" style="font-family: sans-serif\, Arial\, Verdana\, " trebuchet=""><span style="color: rgb(51\, 51\, 51)\;" trebuchet="" white-space:="">A &amp\; A Air Services</span></font></span></li>\n	<li><span style="font-family:arial\;"><font background-color:="" color="#1d2129" font-size:="" style="font-family: sans-serif\, Arial\, Verdana\, " trebuchet=""><span style="color: rgb(51\, 51\, 51)\;" trebuchet="" white-space:="">ALOFT AeroArchitects</span></font></span></li>\n	<li><span style="font-family:arial\;"><font background-color:="" color="#1d2129" font-size:="" style="font-family: sans-serif\, Arial\, Verdana\, " trebuchet=""><span style="color: rgb(51\, 51\, 51)\;" trebuchet="" white-space:="">Baywood Clubhouse</span></font></span></li>\n	<li><span style="font-family:arial\;"><font background-color:="" color="#1d2129" font-size:="" style="font-family: sans-serif\, Arial\, Verdana\, " trebuchet=""><span style="color: rgb(51\, 51\, 51)\;" trebuchet="" white-space:="">Beebe Healthcare</span></font></span></li>\n	<li><span style="font-family:arial\;"><font background-color:="" color="#1d2129" font-size:="" style="font-family: sans-serif\, Arial\, Verdana\, " trebuchet=""><span style="color: rgb(51\, 51\, 51)\;" trebuchet="" white-space:="">Bethany-Fenwick Area Chamber of Commerce</span></font></span></li>\n	<li><span style="font-family:arial\;"><font background-color:="" color="#1d2129" font-size:="" style="font-family: sans-serif\, Arial\, Verdana\, " trebuchet=""><span style="color: rgb(51\, 51\, 51)\;" trebuchet="" white-space:="">Community Integrated Services</span></font></span></li>\n	<li><span style="font-family:arial\;"><font background-color:="" color="#1d2129" font-size:="" style="font-family: sans-serif\, Arial\, Verdana\, " trebuchet=""><span style="color: rgb(51\, 51\, 51)\;" trebuchet="" white-space:="">Delaware Air National Guard</span></font></span></li>\n	<li><span style="font-family:arial\;"><font background-color:="" color="#1d2129" font-size:="" style="font-family: sans-serif\, Arial\, Verdana\, " trebuchet=""><span style="color: rgb(51\, 51\, 51)\;" trebuchet="" white-space:="">Delaware Department of Human Resources</span></font></span></li>\n	<li><span style="font-family:arial\;"><font background-color:="" color="#1d2129" font-size:="" style="font-family: sans-serif\, Arial\, Verdana\, " trebuchet=""><span style="color: rgb(51\, 51\, 51)\;" trebuchet="" white-space:="">Delaware Technical Community College</span></font></span></li>\n	<li><span style="font-family:arial\;"><font background-color:="" color="#1d2129" font-size:="" style="font-family: sans-serif\, Arial\, Verdana\, " trebuchet=""><span style="color: rgb(51\, 51\, 51)\;" trebuchet="" white-space:="">DiFebo&#39\;s Restaurant &amp\; Market</span></font></span></li>\n	<li><span style="font-family:arial\;"><font background-color:="" color="#1d2129" font-size:="" style="font-family: sans-serif\, Arial\, Verdana\, " trebuchet=""><span style="color: rgb(51\, 51\, 51)\;" trebuchet="" white-space:="">Factory Sports Inc.</span></font></span></li>\n	<li><span style="font-family:arial\;"><font background-color:="" color="#1d2129" font-size:="" style="font-family: sans-serif\, Arial\, Verdana\, " trebuchet=""><span style="color: rgb(51\, 51\, 51)\;" trebuchet="" white-space:="">Gale Force Rentals</span></font></span></li>\n	<li><span style="font-family:arial\;"><font background-color:="" color="#1d2129" font-size:="" style="font-family: sans-serif\, Arial\, Verdana\, " trebuchet=""><span style="color: rgb(51\, 51\, 51)\;" trebuchet="" white-space:="">Georgetown Police Department</span></font></span></li>\n	<li><span style="font-family:arial\;"><font background-color:="" color="#1d2129" font-size:="" style="font-family: sans-serif\, Arial\, Verdana\, " trebuchet=""><span style="color: rgb(51\, 51\, 51)\;" trebuchet="" white-space:="">Goodwill</span></font></span></li>\n	<li><span style="font-family:arial\;"><font background-color:="" color="#1d2129" font-size:="" style="font-family: sans-serif\, Arial\, Verdana\, " trebuchet=""><span style="color: rgb(51\, 51\, 51)\;" trebuchet="" white-space:="">HomeWell Care Services</span></font></span></li>\n	<li><span style="font-family:arial\;"><font background-color:="" color="#1d2129" font-size:="" style="font-family: sans-serif\, Arial\, Verdana\, " trebuchet=""><span style="color: rgb(51\, 51\, 51)\;" trebuchet="" white-space:="">Indian River Marina</span></font></span></li>\n	<li><span style="font-family:arial\;"><font background-color:="" color="#1d2129" font-size:="" style="font-family: sans-serif\, Arial\, Verdana\, " trebuchet=""><span style="color: rgb(51\, 51\, 51)\;" trebuchet="" white-space:="">Indian River School District</span></font></span></li>\n	<li><span style="font-family:arial\;"><font background-color:="" color="#1d2129" font-size:="" style="font-family: sans-serif\, Arial\, Verdana\, " trebuchet=""><span style="color: rgb(51\, 51\, 51)\;" trebuchet="" white-space:="">Millsboro Police Department</span></font></span></li>\n	<li><span style="font-family:arial\;"><font background-color:="" color="#1d2129" font-size:="" style="font-family: sans-serif\, Arial\, Verdana\, " trebuchet=""><span style="color: rgb(51\, 51\, 51)\;" trebuchet="" white-space:="">Mountaire Farms</span></font></span></li>\n	<li><span style="font-family:arial\;"><font background-color:="" color="#1d2129" font-size:="" style="font-family: sans-serif\, Arial\, Verdana\, " trebuchet=""><span style="color: rgb(51\, 51\, 51)\;" trebuchet="" white-space:="">Neighborly Home Care</span></font></span></li>\n	<li><span style="font-family:arial\;"><font background-color:="" color="#1d2129" font-size:="" style="font-family: sans-serif\, Arial\, Verdana\, " trebuchet=""><span style="color: rgb(51\, 51\, 51)\;" trebuchet="" white-space:="">Old Navy Outlet</span></font></span></li>\n	<li><span style="font-family:arial\;"><font background-color:="" color="#1d2129" font-size:="" style="font-family: sans-serif\, Arial\, Verdana\, " trebuchet=""><span style="color: rgb(51\, 51\, 51)\;" trebuchet="" white-space:="">Piedmont Airlines</span></font></span></li>\n	<li><span style="font-family:arial\;"><font background-color:="" color="#1d2129" font-size:="" style="font-family: sans-serif\, Arial\, Verdana\, " trebuchet=""><span style="color: rgb(51\, 51\, 51)\;" trebuchet="" white-space:="">RSC Landscaping</span></font></span></li>\n	<li><span style="font-family:arial\;"><font background-color:="" color="#1d2129" font-size:="" style="font-family: sans-serif\, Arial\, Verdana\, " trebuchet=""><span style="color: rgb(51\, 51\, 51)\;" trebuchet="" white-space:="">Sullivan&#39\;s Landscaping &amp\; Maintenance</span></font></span></li>\n	<li><span style="font-family:arial\;"><font background-color:="" color="#1d2129" font-size:="" style="font-family: sans-serif\, Arial\, Verdana\, " trebuchet=""><span style="color: rgb(51\, 51\, 51)\;" trebuchet="" white-space:="">Surf Bagel</span></font></span></li>\n	<li><span style="font-family:arial\;"><font background-color:="" color="#1d2129" font-size:="" style="font-family: sans-serif\, Arial\, Verdana\, " trebuchet=""><span style="color: rgb(51\, 51\, 51)\;" trebuchet="" white-space:="">Sussex County EMS</span></font></span></li>\n	<li><span style="font-family:arial\;"><font background-color:="" color="#1d2129" font-size:="" style="font-family: sans-serif\, Arial\, Verdana\, " trebuchet=""><span style="color: rgb(51\, 51\, 51)\;" trebuchet="" white-space:="">Sussex County Government</span></font></span></li>\n	<li>Sussex Family YMCA</li>\n	<li>Sussex Tech Adult Education</li>\n	<li>T-Mobile</li>\n	<li>TidalHealth</li>\n	<li>Troon Golf</li>\n	<li>Zava Cafe Hospitality Group</li>\n</ul>\n
LOCATION:Sussex Central High School 26026 Patriots Way Georgetown\, DE 19947
UID:e.2126.28677
SEQUENCE:3
DTSTAMP:20260420T073427Z
URL:http://business.thequietresorts.com/events/details/2024-job-fair-at-schs-28677
END:VEVENT

END:VCALENDAR
