BEGIN:VCALENDAR
VERSION:2.0
PRODID:-//ChamberMaster//Event Calendar 2.0//EN
METHOD:PUBLISH
X-PUBLISHED-TTL:P3D
REFRESH-INTERVAL:P3D
CALSCALE:GREGORIAN
BEGIN:VEVENT
DTSTART;VALUE=DATE:20240102
DTEND;VALUE=DATE:20240215
TRANSP:TRANSPARENT
X-MICROSOFT-CDO-ALLDAYEVENT:TRUE
SUMMARY:2024 Job Fair at IRHS - Business Application
DESCRIPTION:Registration has been extended through February 14\, 2024! \n\n\n\nThe 2024 Job Fair at Indian River High School is scheduled for Wednesday\, February 21\, 2024!  The event will be open to the public and held in the Indian River High School gymnasium from 6:00PM - 8:00PM.\n\n\n\nDeadline for early table registration is Wednesday\, January 24th ($25). A late registration period will be available (pending space) from January 25th - February 14th ($50 fee).\n\n\n\nThe purpose of the Job Fair is to connect the business community to an available workforce in both the school and community at-large\, creating relationships and opportunities for all present.\n\n\n\nParticipating Businesses are responsible for:\n\n	Set-up\, tear down and staffing their booth. Booth must be tended to at all times during the event. If member is conducting on-site interviews\, a second employee is required to be present to tend to the booth.\n	Provide recruiting materials\, brochures\, giveaways and employment applications.\n	Set-up will be from 5pm to 5:45pm. No exceptions!\n	If conducting on site interviews\, must allow for pre-registration of interview slots.\n\n  \n\nIndian River High School is responsible for:\n\n\n	Student scheduling and communication.\n	Providing space\, table\, and 2 chairs per business.\n\n  \n\nFor businesses interested in providing co-op or job shadowing opportunities to students\, please find below those program requirements.\n\n\n\nIndian River High School   Cooperative Education Requirements\n\n\n	Students must have a job that coincides with their pathway.\n	Co-op is only available to seniors.\n	Must work a minimum of 15 hours per week.\n	Students must have earned at least 19 credits towards graduation by the end of their junior year.\n	Student must turn in a weekly timecard signed by their employer verifying hours worked.\n	Employers must complete two evaluations (provided by the program) per marking period on employee.\n	Co-op coordinator must make a site visit at least once per marking period.\n	Student must pass all courses to remain eligible for co-op.\n	If student is terminated\, student may be removed from the co-op program.\n\n  \n\nJob Shadowing Program   the purpose of this program is to provide students the opportunity to gain more knowledge/experience in their field of interest.  This allows the student the ability to determine if this career aligns with their interests and expectations.\n\n\n	Students must maintain a "B" average.\n	Student attendance must be in good standing.\n	Student must not have any referrals or suspensions.\n	Student may be excused from school two days per marking period to shadow a professional in the community.
X-ALT-DESC;FMTTYPE=text/html:<span style="font-family:arial\;"><span style="font-size:14px\;"><span style="color:#006400\;"><strong>Registration has been extended through February 14\, 2024!&nbsp\;</strong></span><br />\n<br />\n<span style="color:#000000\;">The 2024 Job Fair at Indian River High School is scheduled for Wednesday\, February 21\, 2024!&nbsp\; The event will be open to the public and held in the Indian River High School gymnasium from 6:00PM - 8:00PM.<br />\n<br />\nDeadline for early table registration is Wednesday\, January 24th ($25). A late registration period will be available (pending space) from January 25th - February 14th ($50 fee).</span><br />\n<br />\n<span style="color:#000000\;">The purpose of the Job Fair is to connect the business community to an available workforce in both the school and community at-large\, creating relationships and opportunities for all present.<br />\n<br />\nParticipating Businesses are responsible for:</span></span></span>\n<ul>\n	<li style="margin:0px 0px 10.66px\;color:rgb(0\, 0\, 0)\;line-height:107%\;font-family:Century Gothic\,sans-serif\;font-size:12pt\;font-style:normal\;font-weight:400\;"><span style="color:#000000\;"><span style="font-size:14px\;"><span style="font-family:arial\;">Set-up\, tear down and staffing their booth. Booth must be tended to at all times during the event. If member is conducting on-site interviews\, a second employee is required to be present to tend to the booth.</span></span></span></li>\n	<li style="margin:0px 0px 10.66px\;color:rgb(0\, 0\, 0)\;line-height:107%\;font-family:Century Gothic\,sans-serif\;font-size:12pt\;font-style:normal\;font-weight:400\;"><span style="color:#000000\;"><span style="font-size:14px\;"><span style="font-family:arial\;">Provide recruiting materials\, brochures\, giveaways and employment applications.</span></span></span></li>\n	<li style="margin:0px 0px 10.66px\;color:rgb(0\, 0\, 0)\;line-height:107%\;font-family:Century Gothic\,sans-serif\;font-size:12pt\;font-style:normal\;font-weight:400\;"><span style="color:#000000\;"><span style="font-size:14px\;"><span style="font-family:arial\;">Set-up will be from 5pm&nbsp\;to 5:45pm. No exceptions!</span></span></span></li>\n	<li style="margin:0px 0px 10.66px\;color:rgb(0\, 0\, 0)\;line-height:107%\;font-family:Century Gothic\,sans-serif\;font-size:12pt\;font-style:normal\;font-weight:400\;"><span style="color:#000000\;"><span style="font-size:14px\;"><span style="font-family:arial\;">If conducting on site interviews\, must allow for pre-registration of interview slots.</span></span></span></li>\n</ul>\n<span style="color:#000000\;"> <span style="font-size:14px\;"><span style="font-family:arial\;">&nbsp\;<br />\nIndian River High School is responsible for:</span></span></span>\n\n<ul>\n	<li style="margin:0px 0px 10.66px\;color:rgb(0\, 0\, 0)\;line-height:107%\;font-family:Century Gothic\,sans-serif\;font-size:12pt\;font-style:normal\;font-weight:400\;"><span style="color:#000000\;"><span style="font-size:14px\;"><span style="font-family:arial\;">Student scheduling and communication.</span></span></span></li>\n	<li style="margin:0px 0px 10.66px\;color:rgb(0\, 0\, 0)\;line-height:107%\;font-family:Century Gothic\,sans-serif\;font-size:12pt\;font-style:normal\;font-weight:400\;"><span style="color:#000000\;"><span style="font-size:14px\;"><span style="font-family:arial\;">Providing space\, table\, and 2 chairs per business.</span></span></span></li>\n</ul>\n<span style="color:#000000\;"> <span style="font-size:14px\;"><span style="font-family:arial\;">&nbsp\;<br />\nFor businesses interested in providing co-op or job shadowing opportunities to students\, please find below those program requirements.<br />\n<br />\nIndian River High School &ndash\; Cooperative Education Requirements</span></span></span>\n\n<ul>\n	<li style="margin:0px 0px 10.66px\;color:rgb(0\, 0\, 0)\;line-height:107%\;font-family:Century Gothic\,sans-serif\;font-size:12pt\;font-style:normal\;font-weight:400\;"><span style="color:#000000\;"><span style="font-size:14px\;"><span style="font-family:arial\;">Students must have a job that coincides with their pathway.</span></span></span></li>\n	<li style="margin:0px 0px 10.66px\;color:rgb(0\, 0\, 0)\;line-height:107%\;font-family:Century Gothic\,sans-serif\;font-size:12pt\;font-style:normal\;font-weight:400\;"><span style="color:#000000\;"><span style="font-size:14px\;"><span style="font-family:arial\;">Co-op is only available to seniors.</span></span></span></li>\n	<li style="margin:0px 0px 10.66px\;color:rgb(0\, 0\, 0)\;line-height:107%\;font-family:Century Gothic\,sans-serif\;font-size:12pt\;font-style:normal\;font-weight:400\;"><span style="color:#000000\;"><span style="font-size:14px\;"><span style="font-family:arial\;">Must work a minimum of 15 hours per week.</span></span></span></li>\n	<li style="margin:0px 0px 10.66px\;color:rgb(0\, 0\, 0)\;line-height:107%\;font-family:Century Gothic\,sans-serif\;font-size:12pt\;font-style:normal\;font-weight:400\;"><span style="color:#000000\;"><span style="font-size:14px\;"><span style="font-family:arial\;">Students must have earned at least 19 credits towards graduation by the end of their junior year.</span></span></span></li>\n	<li style="margin:0px 0px 10.66px\;color:rgb(0\, 0\, 0)\;line-height:107%\;font-family:Century Gothic\,sans-serif\;font-size:12pt\;font-style:normal\;font-weight:400\;"><span style="color:#000000\;"><span style="font-size:14px\;"><span style="font-family:arial\;">Student must turn in a weekly timecard signed by their employer verifying hours worked.</span></span></span></li>\n	<li style="margin:0px 0px 10.66px\;color:rgb(0\, 0\, 0)\;line-height:107%\;font-family:Century Gothic\,sans-serif\;font-size:12pt\;font-style:normal\;font-weight:400\;"><span style="color:#000000\;"><span style="font-size:14px\;"><span style="font-family:arial\;">Employers must complete two evaluations (provided by the program) per marking period on employee.</span></span></span></li>\n	<li style="margin:0px 0px 10.66px\;color:rgb(0\, 0\, 0)\;line-height:107%\;font-family:Century Gothic\,sans-serif\;font-size:12pt\;font-style:normal\;font-weight:400\;"><span style="color:#000000\;"><span style="font-size:14px\;"><span style="font-family:arial\;">Co-op coordinator must make a site visit at least once per marking period.</span></span></span></li>\n	<li style="margin:0px 0px 10.66px\;color:rgb(0\, 0\, 0)\;line-height:107%\;font-family:Century Gothic\,sans-serif\;font-size:12pt\;font-style:normal\;font-weight:400\;"><span style="color:#000000\;"><span style="font-size:14px\;"><span style="font-family:arial\;">Student must pass all courses to remain eligible for co-op.</span></span></span></li>\n	<li style="margin:0px 0px 10.66px\;color:rgb(0\, 0\, 0)\;line-height:107%\;font-family:Century Gothic\,sans-serif\;font-size:12pt\;font-style:normal\;font-weight:400\;"><span style="color:#000000\;"><span style="font-size:14px\;"><span style="font-family:arial\;">If student is terminated\, student may be removed from the co-op program.</span></span></span></li>\n</ul>\n<span style="color:#000000\;"> <span style="font-size:14px\;"><span style="font-family:arial\;">&nbsp\;<br />\nJob Shadowing Program &ndash\;<strong> </strong>the purpose of this program is to provide students the opportunity to gain more knowledge/experience in their field of interest.&nbsp\; This allows the student the ability to determine if this career aligns with their interests and expectations.</span></span></span>\n\n<ul>\n	<li style="margin:0px 0px 10.66px\;color:rgb(0\, 0\, 0)\;line-height:107%\;font-family:Century Gothic\,sans-serif\;font-size:12pt\;font-style:normal\;font-weight:400\;"><span style="color:#000000\;"><span style="font-size:14px\;"><span style="font-family:arial\;">Students must maintain a &ldquo\;B&rdquo\; average.</span></span></span></li>\n	<li style="margin:0px 0px 10.66px\;color:rgb(0\, 0\, 0)\;line-height:107%\;font-family:Century Gothic\,sans-serif\;font-size:12pt\;font-style:normal\;font-weight:400\;"><span style="color:#000000\;"><span style="font-size:14px\;"><span style="font-family:arial\;">Student attendance must be in good standing.</span></span></span></li>\n	<li style="margin:0px 0px 10.66px\;color:rgb(0\, 0\, 0)\;line-height:107%\;font-family:Century Gothic\,sans-serif\;font-size:12pt\;font-style:normal\;font-weight:400\;"><span style="color:#000000\;"><span style="font-size:14px\;"><span style="font-family:arial\;">Student must not have any referrals or suspensions.</span></span></span></li>\n	<li style="margin:0px 0px 10.66px\;color:rgb(0\, 0\, 0)\;line-height:107%\;font-family:Century Gothic\,sans-serif\;font-size:12pt\;font-style:normal\;font-weight:400\;"><span style="color:#000000\;"><span style="font-size:14px\;"><span style="font-family:arial\;">Student may be excused from school two days per marking period to shadow a professional in the community.</span></span></span></li>\n</ul>\n
LOCATION:Indian River High School 29722 Armory Road Dagsboro\, DE 19939
UID:e.2126.27641
SEQUENCE:3
DTSTAMP:20260420T093912Z
URL:http://business.thequietresorts.com/events/details/2024-job-fair-at-irhs-business-application-27641
END:VEVENT

END:VCALENDAR
