BEGIN:VCALENDAR
VERSION:2.0
PRODID:-//ChamberMaster//Event Calendar 2.0//EN
METHOD:PUBLISH
X-PUBLISHED-TTL:P3D
REFRESH-INTERVAL:P3D
CALSCALE:GREGORIAN
BEGIN:VEVENT
DTSTART:20231001T160000Z
DTEND:20231111T045500Z
X-MICROSOFT-CDO-ALLDAYEVENT:FALSE
SUMMARY:2024 Discover the Quiet Resorts Guide & Map Ad Sales
DESCRIPTION:The Ultimate Information Source for the Area!\n\nThe Discover the Quiet Resorts Guide & Map is the only publication focused on southeastern Delaware. This annual publication features content and information for visitors and locals alike. \n\n\n\nAbout the Guide\n\n	50\,000 saddle stitch guides printed and distributed annually.\n	Includes a listing of all Chamber Members in the Business Directory. \n	Includes beach regulations\, 2024 Event Calendar\, State Parks\, Accommodations\, and more!\n	Electronic version featured on thequietresorts.com year-round. \n	96 total pages\, not including the front and back covers.\n\nAbout the Maps\n\n\n	Individual 11x17 maps of the region and of each town in the Quiet Resorts.\n	Town maps include listings of members in that town and landmarks.\n	Distributed alongside the 2024 Area Guide and in the Quiet Resorts Information Center.\n	Digital versions of each map will be available on thequietresorts.com year-round.\n\nDistribution\n\n\n	Distributed to 114 locations in 6 states!\n	Distributed to 34 travel centers throughout the Mid-Atlantic region. \n	Distributed to local businesses (Real Estate Agencies\, Accommodations\, Grocery Stores\, Gas Stations). \n	Featured in the Chamber Information Center which welcomes 5\,000+ individuals annually.\n	Mailed nationwide to over 3\,000 individuals upon request (inquiries via phone\, email\, web\, advertising leads).\n	Distribution Month: January 2024\n\nAvailable Discounts \n\n\n	New Advertisers - First-time advertisers reserve your ad before October 25\, 2023\, for a 10% discount.  Use promo code New10 when registering.\n	Previous Advertisers - Returning advertisers reserve your ad before October 25\, 2023\, for a 10% discount.  Use promo code Previous10 when registering. \n\n\n\n**Deadline to Reserve Ad Space: Friday\, November 10\, 2023.\n\nAll ads are due to Matt Marsilii by Wednesday\, November 22\, 2023.\n\nAds must meet the following requirements:\n\n\n	PDF Format\n	1/4" bleeds\n	300 PPI\n\nSend us your ad or have us create one for you for a fee of $50. \n\n\n\nThe Chamber is offering two payment options:\n\n\n	Pay in-full\n	Quarterly\n\n\n\nCorporate Sponsors\n\nReserve your ad space now and it will be built into your corporate sponsorship. \n\n \n\n\nPlease do not delay in reserving your ad space!\n\np.p1 {margin: 0.0px 0.0px 0.0px 18.0px\; text-indent: -18.0px\; font: 11.0px 'Century Gothic'\; color: #1b4b77}\n\np.p1 {margin: 0.0px 0.0px 0.0px 0.0px\; font: 11.0px 'Century Gothic'}\n\np.p1 {margin: 0.0px 0.0px 0.0px 0.0px\; font: 11.0px 'Century Gothic'}\n\np.p1 {margin: 0.0px 0.0px 0.0px 0.0px\; font: 11.0px 'Century Gothic'}\n\np.p1 {margin: 0.0px 0.0px 0.0px 0.0px\; font: 11.0px 'Century Gothic'\; color: #01137b}
X-ALT-DESC;FMTTYPE=text/html:<span style="font-size:14px\;"><span style="font-family:arial\;"><strong>The Ultimate Information Source for the Area!</strong><br />\nThe <em>Discover the Quiet Resorts Guide &amp\; Map</em> is the only publication focused on southeastern Delaware. This annual publication features content and information for visitors and locals alike.&nbsp\;<br />\n<br />\n<strong>About the Guide</strong></span></span>\n<ul>\n	<li><span style="font-size:14px\;">50\,000 saddle stitch guides printed and distributed annually.</span></li>\n	<li><span style="font-size:14px\;">Includes a listing of all Chamber Members in the Business Directory.<span style="font-family:arial\;"><span style="font-family:arial\;">&nbsp\;</span></span></span></li>\n	<li><span style="font-size:14px\;">Includes beach regulations\, 2024&nbsp\;Event Calendar\, State Parks\, Accommodations\, </span><span style="font-size:14px\;">and more!</span></li>\n	<li><span style="font-size:14px\;"><span style="font-family:arial\;"><a href="https://thequietresorts.com/app/themes/evolution/chamber_flipbook/mobile/index.html">Electronic version </a>featured on <a href="https://thequietresorts.com/">thequietresorts.com</a>&nbsp\;year-round.&nbsp\;</span></span></li>\n	<li><span style="font-size:14px\;">96 total pages\, not including the front and back covers.</span></li>\n</ul>\n<span style="font-size: 14px\;"><span style="font-family: arial\;"><strong>About the Maps</strong></span></span>\n\n<ul>\n	<li><span style="font-size: 14px\;">Individual 11x17 maps of the region and of each town in the Quiet Resorts.</span></li>\n	<li><span style="font-size: 14px\;">Town maps include listings of members in that town and landmarks.</span></li>\n	<li><span style="font-size: 14px\;">Distributed alongside the 2024 Area Guide and in the Quiet Resorts Information Center.</span></li>\n	<li><span style="font-size: 14px\;">Digital versions of each map will be available&nbsp\;<span style="font-family: arial\;">on&nbsp\;</span><a href="https://thequietresorts.com/" style="font-family: arial\;">thequietresorts.com</a><span style="font-family: arial\;">&nbsp\;year-round.</span></span></li>\n</ul>\n<span style="font-size:14px\;"><span style="font-family:arial\;"><strong>Distribution</strong></span></span>\n\n<ul>\n	<li><span style="font-size:14px\;"><span style="font-family:arial\;">Distributed to 114&nbsp\;locations in 6 states!</span></span></li>\n	<li><span style="font-size:14px\;"><span style="font-family:arial\;">Distributed to&nbsp\;34 travel centers throughout the Mid-Atlantic region.&nbsp\;</span></span></li>\n	<li><span style="font-size:14px\;"><span style="font-family:arial\;">Distributed to&nbsp\;local businesses (Real Estate Agencies\, Accommodations\, Grocery Stores\, Gas Stations).&nbsp\;</span></span></li>\n	<li><span style="font-size:14px\;"><span style="font-family:arial\;">Featured in the Chamber Information Center which welcomes 5\,000+ individuals annually.</span></span></li>\n	<li><span style="font-size:14px\;"><span style="font-family:arial\;">Mailed nationwide to over 3\,000&nbsp\;individuals upon request&nbsp\;(inquiries via phone\, email\, web\, advertising leads).</span></span></li>\n	<li><span style="font-size:14px\;"><span style="font-family:arial\;"><strong>Distribution Month: January&nbsp\;2024</strong></span></span></li>\n</ul>\n<font face="arial"><span style="font-size: 14px\;"><b>Available Discounts</b></span></font>&nbsp\;\n\n<ul>\n	<li>New Advertisers - First-time advertisers reserve your ad before October 25\, 2023\, for a 10% discount.&nbsp\; Use promo code New10 when registering.</li>\n	<li>Previous Advertisers - Returning advertisers reserve your ad before October 25\, 2023\, for a 10% discount.&nbsp\; Use promo code Previous10 when registering.&nbsp\;</li>\n</ul>\n<br />\n<span style="font-size:14px\;"><span style="font-family:arial\;"><strong><span style="font-size:16px\;">**Deadline to Reserve Ad Space: Friday\, November 10\, 2023.</span></strong></span></span><br />\n<span style="font-size:14px\;"><span style="font-family:arial\;">All ads are due to Matt Marsilii by Wednesday\, November 22\, 2023.<br />\nAds must meet the following requirements:</span></span>\n\n<ul>\n	<li><span style="font-size:14px\;"><span style="font-family:arial\;">PDF Format</span></span></li>\n	<li><span style="font-size:14px\;"><span style="font-family:arial\;">1/4&quot\; bleeds</span></span></li>\n	<li><span style="font-size:14px\;"><span style="font-family:arial\;">300 PPI</span></span></li>\n</ul>\n<span style="font-size:14px\;"><span style="font-family:arial\;">Send us your ad or have us create one for you for a fee of $50.&nbsp\;</span><br />\n<br />\n<strong style="font-family: arial\; font-size: 14px\;">The Chamber is offering two payment options:</strong></span>\n\n<ul>\n	<li><span style="font-size:14px\;"><strong style="font-family: arial\; font-size: 14px\;">Pay&nbsp\;in-full</strong></span></li>\n	<li><span style="font-size:14px\;"><strong style="font-family: arial\; font-size: 14px\;">Quarterly</strong></span></li>\n</ul>\n<br />\n<span style="font-size:14px\;"><span style="font-family:arial\;"><strong>Corporate Sponsors</strong><br />\nReserve your ad space now and it will be built into your corporate sponsorship.&nbsp\;</span></span><br />\n&nbsp\;\n<hr /><br />\n<span style="font-size:14px\;"><span style="font-family:arial\;"><em><strong>Please do not delay in reserving your ad space!</strong></em></span></span><br />\n<style type="text/css">p.p1 {margin: 0.0px 0.0px 0.0px 18.0px\; text-indent: -18.0px\; font: 11.0px 'Century Gothic'\; color: #1b4b77}\n</style>\n<style type="text/css">p.p1 {margin: 0.0px 0.0px 0.0px 0.0px\; font: 11.0px 'Century Gothic'}\n</style>\n<style type="text/css">p.p1 {margin: 0.0px 0.0px 0.0px 0.0px\; font: 11.0px 'Century Gothic'}\n</style>\n<style type="text/css">p.p1 {margin: 0.0px 0.0px 0.0px 0.0px\; font: 11.0px 'Century Gothic'}\n</style>\n<style type="text/css">p.p1 {margin: 0.0px 0.0px 0.0px 0.0px\; font: 11.0px 'Century Gothic'\; color: #01137b}\n</style>\n
LOCATION:
UID:e.2126.26670
SEQUENCE:3
DTSTAMP:20260420T181326Z
URL:http://business.thequietresorts.com/events/details/2024-discover-the-quiet-resorts-guide-map-ad-sales-26670
END:VEVENT

END:VCALENDAR
