BEGIN:VCALENDAR
VERSION:2.0
PRODID:-//ChamberMaster//Event Calendar 2.0//EN
METHOD:PUBLISH
X-PUBLISHED-TTL:P3D
REFRESH-INTERVAL:P3D
CALSCALE:GREGORIAN
BEGIN:VEVENT
DTSTART:20240622T130000Z
DTEND:20240622T160000Z
X-MICROSOFT-CDO-ALLDAYEVENT:FALSE
SUMMARY:2024 CSCDE Wings of Hope
DESCRIPTION:CSCDE is excited to announce our annual Wings of Hope: A Butterfly Release which will be held Saturday\, June 22\, 2024 at Milton Memorial Park from 9am to noon. Our ceremony begins promptly at 10:30AM\, and will once again be hosted by Mallory Metzner of Coast TV. As a part of a repertoire of signature events that have become widely associated with CSCDE throughout Sussex County\, this very special and unique celebration of life has become an inspiration for many in the community who have been touched by cancer. The event is highlighted by the release of beautiful butterflies in recognition of family\, friends\, and neighbors throughout Delaware\, whose lives have been impacted by cancer.
X-ALT-DESC;FMTTYPE=text/html:CSCDE is excited to announce our annual Wings of Hope: A Butterfly Release which will be held Saturday\, June 22\, 2024 at Milton Memorial Park from 9am to noon. Our ceremony begins promptly at 10:30AM\, and will once again be hosted by Mallory Metzner of Coast TV. As a part of a repertoire of signature events that have become widely associated with CSCDE throughout Sussex County\, this very special and unique celebration of life has become an inspiration for many in the community who have been touched by cancer. The event is highlighted by the release of beautiful butterflies in recognition of family\, friends\, and neighbors throughout Delaware\, whose lives have been impacted by cancer.
LOCATION:Milton Memorial Park 113 Union Street Milton\, DE 19968
UID:e.2126.28664
SEQUENCE:3
DTSTAMP:20260420T055531Z
URL:http://business.thequietresorts.com/events/details/2024-cscde-wings-of-hope-28664
END:VEVENT

END:VCALENDAR
