BEGIN:VCALENDAR
VERSION:2.0
PRODID:-//ChamberMaster//Event Calendar 2.0//EN
METHOD:PUBLISH
X-PUBLISHED-TTL:P3D
REFRESH-INTERVAL:P3D
CALSCALE:GREGORIAN
BEGIN:VEVENT
DTSTART:20240101T130000Z
DTEND:20240101T220000Z
X-MICROSOFT-CDO-ALLDAYEVENT:FALSE
SUMMARY:2024 Annual Hair of the Dog Walk/Run/Plunge
DESCRIPTION:RING IN 2024 in the QUIET RESORTS with a RUN & PLUNGE!\n\nThe Quiet Resorts Charitable Foundation proudly presents the Hair of the Dog 5 K Run/1 Mile Walk and the Leo Brady Plunge!\n\n\n\nREGISTER ONLINE: CLICK HERE\n\n\n\nON-SITE REGISTRATION & PACKET PICK UP\n\nSunday\, December 31st\n\nMango's on Garfield in Bethany Beach.\n\n1 p.m. - 4 p.m. for race day packet pick-up\n\n\n\nMonday\, January 1st\n\nBethany Beach Bandstand Plaza\n\n8:30 a.m.  - 9:30 a.m.  Packet Pick Up \n\n9:55 a.m. Pre-Race meeting at the starting line\n\n10:00 a.m. National Anthem 5k Race Starts\n\n10:05 a.m. 1 Mile Walk Starts\n\n10:00 a.m.-11:30 a.m. Onsite registration for the plunge\n\n11:00 a.m. 5k Awards\n\n12 NOON- Plunge\n\n\n\nEvent Highlights:\nAll pre-registered (by December 23\, 2023) registrants will receive a commemorative long sleeve t-shirt with a cool refreshed design in their desired size (unisex Tech Tee Shirts).\n\n\n\nOnline registration for these events closes Friday\, December 29\, 2023\, at 5 PM.  Packet pick up will be on Saturday\, December 31\, 2023\, from 1   4 PM at Mango's in Bethany Beach. There will be onsite registration on Sunday\, however\, event shirts are not guaranteed unless you register by December 23rd. Register Here.\n\n\n\nONLINE REGISTRATION CLOSES AT 5 PM ON 12/29/23\n\nONSITE REGISTRATION IS AVAILABLE ON 12/31/23 AT MANGO'S IN BETHANY BEACH
X-ALT-DESC;FMTTYPE=text/html:<p><span style="font-family: sans-serif\, Arial\, Verdana\, &quot\;Trebuchet MS&quot\;\; font-size: 13px\; background-color: rgb(255\, 255\, 255)\; color: rgb(0\, 0\, 128)\;"><strong>RING IN 2024&nbsp\;in the QUIET RESORTS with a RUN &amp\; PLUNGE!</strong></span><br style="color: rgb(51\, 51\, 51)\; font-family: sans-serif\, Arial\, Verdana\, &quot\;Trebuchet MS&quot\;\; font-size: 13px\; background-color: rgb(255\, 255\, 255)\;" />\n<span style="color: rgb(51\, 51\, 51)\; font-family: sans-serif\, Arial\, Verdana\, &quot\;Trebuchet MS&quot\;\; font-size: 13px\; background-color: rgb(255\, 255\, 255)\;">The Quiet Resorts Charitable Foundation proudly presents the</span><strong style="color: rgb(51\, 51\, 51)\; font-family: sans-serif\, Arial\, Verdana\, &quot\;Trebuchet MS&quot\;\; font-size: 13px\; background-color: rgb(255\, 255\, 255)\;">&nbsp\;Hair of the Dog 5 K Run/1 Mile&nbsp\;Walk&nbsp\;</strong><span style="color: rgb(51\, 51\, 51)\; font-family: sans-serif\, Arial\, Verdana\, &quot\;Trebuchet MS&quot\;\; font-size: 13px\; background-color: rgb(255\, 255\, 255)\;">and the</span><strong style="color: rgb(51\, 51\, 51)\; font-family: sans-serif\, Arial\, Verdana\, &quot\;Trebuchet MS&quot\;\; font-size: 13px\; background-color: rgb(255\, 255\, 255)\;">&nbsp\;Leo Brady Plunge</strong><span style="color: rgb(51\, 51\, 51)\; font-family: sans-serif\, Arial\, Verdana\, &quot\;Trebuchet MS&quot\;\; font-size: 13px\; background-color: rgb(255\, 255\, 255)\;">!</span><br />\n<br />\n<strong style=""><font color="#ff8c00">REGISTER ONLINE: </font><font color="#0000ff">CLICK HERE</font></strong><br />\n<br />\n<span style="color: rgb(255\, 140\, 0)\;"><strong>ON-SITE REGISTRATION &amp\; PACKET PICK UP</strong></span><br />\n<span style="color: rgb(0\, 0\, 128)\;"><strong>Sunday\, December 31st</strong></span><br />\nMango&#39\;s on Garfield in Bethany Beach.<br />\n1&nbsp\;p.m. - 4&nbsp\;p.m. for race day packet pick-up<br />\n<br />\n<span style="color: rgb(0\, 0\, 128)\;"><strong>Monday\, January 1st</strong></span><br />\nBethany Beach&nbsp\;Bandstand Plaza<br />\n8:30 a.m.&nbsp\; - 9:30 a.m.&nbsp\; Packet Pick Up&nbsp\;<br />\n9:55 a.m. Pre-Race meeting at the starting line<br />\n10:00 a.m. National Anthem 5k Race Starts<br />\n10:05 a.m. 1 Mile Walk Starts<br />\n10:00 a.m.-11:30 a.m. Onsite registration for the plunge<br />\n11:00&nbsp\;a.m. 5k Awards<br />\n12 NOON- Plunge<br />\n<br />\n<strong><span style="color:navy\;">Event Highlights:</span></strong></p>\n<span style="color: rgba(28\, 28\, 28\, 0.8)\;">All pre-registered (by December 23\, 2023) registrants will receive a commemorative long sleeve t-shirt with a cool refreshed design in their desired size (unisex Tech Tee Shirts).</span>\n\n<div align="center" style="margin-bottom:0in\;text-align:center\;line-height:normal\;">\n<hr align="center" noshade="noshade" size="2" style="color:#333333\;" width="100%" /></div>\n<span style="color: rgba(28\, 28\, 28\, 0.8)\;">Online registration for these events closes Friday\, December 29\, 2023\, at 5 PM. &nbsp\;Packet pick up will be on Saturday\, December 31\, 2023\, from 1 &ndash\; 4 PM at Mango&rsquo\;s in Bethany Beach. There will be onsite registration on Sunday\, however\, event shirts are not guaranteed unless you register by December 23rd.&nbsp\;</span><a href="https://qrcf.org/event/13th-annual-hair-of-the-dog-5k-1-m-walk-and-plunge/" rel="noopener noreferrer" style="box-sizing: inherit\; text-decoration-line: none\; transition: all 0.1s cubic-bezier(0.33\, 0.66\, 0.66\, 1) 0s\; color: rgb(0\, 0\, 0)\; overflow-wrap: break-word\; font-weight: bold\; font-family: Georgia\, serif\; font-size: 16px\;" target="_blank"><span style="color:#0000FF\;">Register Here</span></a>.<br />\n<br />\n<strong style="box-sizing: inherit\; color: rgba(28\, 28\, 28\, 0.8)\; font-family: Georgia\, serif\; font-size: 16px\; text-align: center\;">ONLINE REGISTRATION CLOSES AT 5 PM ON 12/29/23<br style="box-sizing: inherit\;" />\nONSITE REGISTRATION IS AVAILABLE ON 12/31/23 AT MANGO&rsquo\;S IN BETHANY BEACH</strong>\n\n<div style="color:#333333\;line-height:normal\;">&nbsp\;</div>\n
LOCATION:Hair of the Dog & Plunge Bethany Beach Boardwalk Bethany Beach\, DE 19930 Post 5K/1 Mile Party Mango's Bethany Beach Boardwalk Bethany Beach\, DE 19930 Post Plunge Party The Boathouse 39817 Hickman Plaza Rd. Bethany Beach\, DE 19930
UID:e.2126.27149
SEQUENCE:3
DTSTAMP:20260420T135225Z
URL:http://business.thequietresorts.com/events/details/2024-annual-hair-of-the-dog-walk-run-plunge-27149
END:VEVENT

END:VCALENDAR
