BEGIN:VCALENDAR
VERSION:2.0
PRODID:-//ChamberMaster//Event Calendar 2.0//EN
METHOD:PUBLISH
X-PUBLISHED-TTL:P3D
REFRESH-INTERVAL:P3D
CALSCALE:GREGORIAN
BEGIN:VEVENT
DTSTART:20230505T160000Z
DTEND:20230505T180000Z
X-MICROSOFT-CDO-ALLDAYEVENT:FALSE
SUMMARY:2023 Joshua M. Freeman Valor Awards
DESCRIPTION:The Bethany-Fenwick Area Chamber of Commerce is pleased to honor the outstanding police officers\, paramedics\, EMT's and firefighters who help keep our local communities safe throughout the year. The 2023 Joshua M. Freeman Valor Awards\, presented by the Carl M. Freeman Companies\, recognizes their service and dedication to our community.\n\n\n\nAttendance for department Chiefs and Honorees is complimentary. Guests of awardees\, dignitaries are invited to join for $30\n\n \n\nLUNCHEON MENU\n\n \n\nAppetizers\n\nHoney butter rolls with whipped butter\n\nHouse Salad: bibb lettuce\, sliced cucumber\, cherry tomatoes with a champagne vinaigrette\n\n\n\nEntrees\n\nChicken Katsu\n\n(Japanese Fried Chicken) served with saffron rice\, roasted broccoli & cauliflower\n\n\n\nShort Rib Ravioli\n\nRavioli served with mushroom cream sauce\n\n\n\nGrilled Mahi\n\nMahi with lemon dill cream sauce served with saffron rice\, roasted broccoli & cauliflower\n\n\n\nVegetable Yakisoba\n\n(Vegetarian Option) stir fry noodles & vegetables\n\n\n\nDessert \n\nLemon bar with raspberry compote
X-ALT-DESC;FMTTYPE=text/html:<span style="text-align: left\; color: rgb(51\, 51\, 51)\; text-transform: none\; text-indent: 0px\; letter-spacing: normal\; font-family: arial\; font-size: 14px\; font-style: normal\; font-variant: normal\; font-weight: 400\; text-decoration: none\; word-spacing: 0px\; float: none\; display: inline !important\; white-space: normal\; orphans: 2\; background-color: transparent\; -webkit-text-stroke-width: 0px\;">The Bethany-Fenwick Area Chamber of Commerce is pleased to honor the outstanding police officers\, paramedics\, EMT&#39\;s and firefighters who help keep our local communities safe throughout the year. The 2023 Joshua M. Freeman Valor Awards\, presented by the Carl M. Freeman Companies\, recognizes their service and dedication to our community.</span><br style="text-align: left\; color: rgb(51\, 51\, 51)\; text-transform: none\; text-indent: 0px\; letter-spacing: normal\; font-family: arial\; font-size: 14px\; font-style: normal\; font-variant: normal\; font-weight: 400\; text-decoration: none\; word-spacing: 0px\; white-space: normal\; orphans: 2\; background-color: transparent\; -webkit-text-stroke-width: 0px\;" />\n<br style="text-align: left\; color: rgb(51\, 51\, 51)\; text-transform: none\; text-indent: 0px\; letter-spacing: normal\; font-family: arial\; font-size: 14px\; font-style: normal\; font-variant: normal\; font-weight: 400\; text-decoration: none\; word-spacing: 0px\; white-space: normal\; orphans: 2\; background-color: transparent\; -webkit-text-stroke-width: 0px\;" />\n<span style="text-align: left\; color: rgb(51\, 51\, 51)\; text-transform: none\; text-indent: 0px\; letter-spacing: normal\; font-family: arial\; font-size: 14px\; font-style: normal\; font-variant: normal\; font-weight: 400\; text-decoration: none\; word-spacing: 0px\; float: none\; display: inline !important\; white-space: normal\; orphans: 2\; background-color: transparent\; -webkit-text-stroke-width: 0px\;">Attendance for department Chiefs and Honorees is complimentary. Guests of awardees\, dignitaries are invited to join for $30</span><br />\n&nbsp\;\n<div>\n<div style="color: rgb(51\, 51\, 51)\; text-align: center\;"><span style="font-size:16px\;"><em><strong><span font-size:="" trebuchet=""><span style="font-family: arial\;">LUNCHEON MENU</span></span></strong></em></span><br />\n&nbsp\;</div>\n\n<div font-size:="" style="color: rgb(51\, 51\, 51)\; text-align: center\;" trebuchet=""><em><strong><span style="font-family:arial\;"><span style="font-size:11.0pt\;"><u>Appetizers</u></span></span></strong><br />\n<span style="font-family:arial\;"><span style="font-size:11.0pt\;">Honey butter rolls with whipped butter<br />\nHouse Salad: bibb lettuce\, sliced cucumber\, cherry tomatoes with a champagne<strong><span style="font-family:arial\;"><span style="font-size:11.0pt\;"> </span></span></strong>vinaigrette</span></span><br />\n<br />\n<strong><span style="font-family:arial\;"><span style="font-size:11.0pt\;"><u>Entrees</u></span></span></strong><br />\n<span style="font-family:arial\;"><span style="font-size:11.0pt\;"><strong>Chicken Katsu</strong><br />\n(Japanese Fried Chicken) served with saffron rice\, roasted broccoli &amp\; cauliflower<br />\n<br />\n<strong>Short Rib Ravioli</strong><br />\nRavioli served with mushroom cream sauce<br />\n<br />\n<strong>Grilled Mahi</strong><br />\nMahi with lemon dill cream sauce served with saffron rice\,&nbsp\;roasted broccoli &amp\; cauliflower<br />\n<br />\n<strong>Vegetable Yakisoba</strong><br />\n(Vegetarian Option) stir fry noodles &amp\; vegetables</span></span><br />\n<br />\n<u><strong><span style="font-family:arial\;"><span style="font-size:11.0pt\;">Dessert&nbsp\;</span></span></strong></u><br />\n<span style="font-family:arial\;"><span style="font-size:14px\;">Lemon bar with raspberry compote</span></span></em></div>\n\n<div style="color: rgb(51\, 51\, 51)\;">&nbsp\;</div>\n<em><font face="arial"><span style="font-size: 14px\;">&nbsp\;</span></font></em></div>\n\n<div>&nbsp\;</div>\n
LOCATION:Signatures at Bayside 12021 North Haven Drive Selbyville\, DE 19975
UID:e.2126.25163
SEQUENCE:3
DTSTAMP:20260421T023753Z
URL:http://business.thequietresorts.com/events/details/2023-joshua-m-freeman-valor-awards-25163
END:VEVENT

END:VCALENDAR
