BEGIN:VCALENDAR
VERSION:2.0
PRODID:-//ChamberMaster//Event Calendar 2.0//EN
METHOD:PUBLISH
X-PUBLISHED-TTL:P3D
REFRESH-INTERVAL:P3D
CALSCALE:GREGORIAN
BEGIN:VEVENT
DTSTART:20230223T230000Z
DTEND:20230224T010000Z
X-MICROSOFT-CDO-ALLDAYEVENT:FALSE
SUMMARY:2023 Job Fair
DESCRIPTION:Join IRHS & the Bethany-Fenwick Area Chamber of Commerce at Indian River High School for a job fair on Thursday\, February 23rd. Visit with local businesses seeking to provide on the job training for career-oriented applicants! Apply and be interviewed onsite. Continue to check back as the list of participating businesses grows!\n\n\n\nThe following businesses will have representatives on site:  Some businesses will have co-op or job shadowing opportunities for students that meet the necessary requirements.\n\n \n\n\nInterested in representing your business at the job fair? Sign up for a booth here! \n\n\n\nPrintable Flyer
X-ALT-DESC;FMTTYPE=text/html:<span style="font-size:14px\;"><span style="color: rgb(29\, 33\, 41)\; font-family: Helvetica\, Arial\, sans-serif\; white-space: pre-wrap\;">Join IRHS &amp\; the Bethany-Fenwick Area Chamber of Commerce at Indian River High School for a job fair on <strong>Thursday\, February 23rd</strong>. Visit with local businesses seeking to provide on the job training for career-oriented applicants! Apply and be interviewed onsite. </span><span style="color: rgb(29\, 33\, 41)\; font-family: Helvetica\, Arial\, sans-serif\; white-space: pre-wrap\;">Continue to check back as the list of participating businesses grows!<br />\n<br />\n<strong>The following businesses will have representatives on site: </strong></span></span> <span style="font-family:arial\;"><em><span style="background-color: rgb(255\, 255\, 255)\; color: rgb(29\, 33\, 41)\; white-space: pre-wrap\;">Some businesses will have co-op or job shadowing </span><font background-color:="" color="#1d2129" font-size:="" style="font-family: sans-serif\, Arial\, Verdana\, " trebuchet=""><span style="color: rgb(51\, 51\, 51)\;" trebuchet="" white-space:="">opportunities for students that meet the&nbsp\;</span><span style="white-space: pre-wrap\;">necessary</span><span style="color: rgb(51\, 51\, 51)\;" trebuchet="" white-space:="">&nbsp\;requirements.</span></font></em></span><br />\n&nbsp\;\n<hr /><br />\n<strong><span style="font-size:14px\;">Interested in representing your business at the job fair? <a href="https://business.bethany-fenwick.org/events/details/2023-job-fair-business-application-25073">Sign up for a booth here!&nbsp\;</a></span></strong><br />\n<br />\n<a href="https://chambermaster.blob.core.windows.net/userfiles/UserFiles/chambers/2126/File/2023_JobFairFlyer.pdf">Printable Flyer</a><br style="font-size: 14px\;" />\n&nbsp\;
LOCATION:Indian River High School 29722 Armory Road Dagsboro\, DE 19939
UID:e.2126.25065
SEQUENCE:3
DTSTAMP:20260421T073705Z
URL:http://business.thequietresorts.com/events/details/2023-job-fair-25065
END:VEVENT

END:VCALENDAR
