BEGIN:VCALENDAR
VERSION:2.0
PRODID:-//ChamberMaster//Event Calendar 2.0//EN
METHOD:PUBLISH
X-PUBLISHED-TTL:P3D
REFRESH-INTERVAL:P3D
CALSCALE:GREGORIAN
BEGIN:VEVENT
DTSTART:20231022T150000Z
DTEND:20231022T190000Z
X-MICROSOFT-CDO-ALLDAYEVENT:FALSE
SUMMARY:2023 Family Fun Trail Run at Camp Barnes
DESCRIPTION:Join Mariners Bethel at Camp Barnes located in Frankford\, DE for the 20th Annual Family Fun Trail Run.  The course\, which is flat and fast\, begins and ends at Camp Barnes and takes you through cross country roads and trails of beautiful and scenic Assawoman Wildlife Refuge.  Not a runner\, bring the entire family for a day of fellowship\, activities\, music and food.  Proceeds raised from the event will benefit the Family and Children Ministries/Events of the church.  Please visit the Mariners Bethel website at https://www.marinersbethel.org for additional information.\n\n\n\nSponsorships available.
X-ALT-DESC;FMTTYPE=text/html:<div><span style="color:#000000">Join Mariners Bethel at Camp Barnes located in Frankford\, DE for the 20th Annual Family Fun Trail Run.&nbsp\; The course\, which is flat and fast\, begins and ends at Camp Barnes and takes you through cross country roads and trails of beautiful and scenic Assawoman Wildlife Refuge.&nbsp\; Not a runner\, bring the entire family for a day of fellowship\, activities\, music and food.&nbsp\; Proceeds raised from the event will benefit the Family and Children Ministries/Events of the church.&nbsp\; Please visit the Mariners Bethel website at <a href="https://www.marinersbethel.org" rel="nofollow noopener noreferrer" style="color: #000000\;" target="_blank">https://www.marinersbethel.org for additional information</a>.</span></div>\n\n<div><br />\nSponsorships available.</div>\n
LOCATION:Camp Barnes 37171 Camp Barnes Rd. Frankford\, DE 19945
UID:e.2126.27006
SEQUENCE:3
DTSTAMP:20260420T183049Z
URL:http://business.thequietresorts.com/events/details/2023-family-fun-trail-run-at-camp-barnes-27006
END:VEVENT

END:VCALENDAR
