BEGIN:VCALENDAR
VERSION:2.0
PRODID:-//ChamberMaster//Event Calendar 2.0//EN
METHOD:PUBLISH
X-PUBLISHED-TTL:P3D
REFRESH-INTERVAL:P3D
CALSCALE:GREGORIAN
BEGIN:VEVENT
DTSTART:20231116T223000Z
DTEND:20231117T010000Z
X-MICROSOFT-CDO-ALLDAYEVENT:FALSE
SUMMARY:2023 Best of the Quiet Resorts Awards & Member Celebration
DESCRIPTION:Join us for the Chamber Membership Celebration at Cripple Creek Country Club as we recognize the many amazing accomplishments and achievements of our Chamber members and businesses throughout the 2023 calendar year! The ticketed event will take place on Thursday\, November 16th from 5:30 - 8:00 p.m.\, and will recognize our flagship Lighthouse Award Recipient\, outgoing board members and the Best of the Quiet Resort winners. After Party on the Patio will extend until 9:00 p.m.\n\n\n\nNominees have first rights to reserve their tickets until Friday\, October 20th when public voting closes. After October 20th\, ticket reservations will be made available to all chamber businesses. If you would like assistance with purchasing your ticket(s)\, please call 302-539-2100.\n2023 Nominees receive a complimentary discount for up to two (2) tickets until October 20th using the promo code provided in congratulatory email. Reference email for more instructions.\n\n\n\nIt's a Party - Toot Your Horn!\nThe Member Celebration will also highlight significant achievements\, anniversaries\, and accomplishments. If you have photos\, press releases\, or stories you'd like us to highlight at the event\, please contact membership@thequietresorts.com. All RSVP's must be confirmed by November 10th. LAST YEAR'S PARTY SOLD OUT! \n\n \n*Menu*\n\nSlider Station:\n\n- Burger -\n\n- Chicken -\n\n- Amber Ale Cod - \n\n\n\nButler Hors d'ouerves:\n\n- Glazed Meatballs -\n\n- Buffalo Chicken Mac & Cheese Shooters -\n\n- Philly Spring Rolls -\n\n- Brie and Raspberry Phyllo -\n\n\n\nDessert: \n\n- Cookies & Brownies -\n\n\n\n*Cash Bar with full availability*\n\nIced Tea\, Lemonade\, and soft drinks are available at no charge.\n\n\n\nEntertainment\n\nDJ - Sponsored by Long & Foster\n\nBar Tickets - Sponsored by Taylor Bank\n\nToast Sponsor - Banks Wines & Spirits \n\nSpotlight Sponsor - Heather's Home Works\n\nDessert Sponsor - Jefferson\, Urian\, Doane & Sterner\, P.A.\n\n\n\nAgenda:\n\nCheck-In: 5:30 p.m.\n\nWelcome: 5:45 p.m.\n\nCeremony: 6:45 p.m. - 8:00 p.m.\n\nAfter Party on Patio: 8:00 p.m. - 9:00 p.m.\n\n\n\n Best in Business Awards\n\n*Best in Business Awards are presented to member businesses that provide\n\nhigh-quality customer service and experiences that are above and beyond industry standards.\n\n\n\nBest in Business - Restaurant\n\nBest in Business - Retail\n\nBest in Business - Real Estate\n\nBest in Business - Construction\n\nBest in Business - Business and Home Services\n\n\n\nCommunity Spirit Awards\n\nCommunity Spirit - Most Inspiring Person: \n\nPresented to an individual who works\, leads\, serves\, and cares in such a way that motivates and catalyzes others to follow the example they display.\n\n\n\nCommunity Spirit - Most Engaged: \n\nBetter described as the "Everywhere Award" -  this recognizes a member business that shows community spirit by consistently showing up and investing time\, energy\, and resources into local initiatives\, events\, and supporting the local business community.\n\n\n\nCommunity Spirit - Best Initiative: \n\nPresented to a member business who has adopted and executed a mission that extends beyond a successful business model. The Best Initiative Award is given to a member business that has been intentional in meeting a need in the community whether it be through awareness\, building a "good neighbor" culture\, or hosting a recurring event or regular activities that benefit our communities in a unique way.\n\n\n\nCommunity Spirit - Nonprofit: \n\nPresented to a nonprofit organization that has taken every opportunity to engage with and serve in our local community\, lifting up other businesses and individuals\, all while accomplishing their chosen objective.\n \n\n\nAdditional awards that will be recognized at the Member Celebration will be Chamber Anniversaries\, New Member of the Year\, Member of the Year\, Volunteer of the Year\, and Annual Lighthouse Award. \n\n\n\n\n\nMembership Anniversaries: \n\nRecognizes businesses that have been members of the Chamber for 45+ years and those celebrating their 25th Anniversary with the Chamber\n\n\n\nNew Member of the Year:\n\nPresented to a new Chamber member who took an immediate\, active role after joining\, whether it be through networking\, events\, volunteering\, or otherwise.\n\n\n\nMember of the Year: \n\nPresented to an individual who has demonstrated outstanding dedication by his or her involvement in the Chamber throughout the year.\n\n\n\nVolunteer of the Year: \n\nPresented to an individual who has gone above and beyond in their volunteer service to contribute to the success of Chamber events.\n\n\n\nLighthouse Award:\n\nThe Lighthouse Award recognizes an individual that is a long-term Chamber member who displays outstanding leadership and devotion to the chamber and the local community. This award is viewed as a type of "lifetime achievement" as the success it symbolizes has withstood the test of time and storms all while remaining a beach to its surroundings. This award is sponsored and handcrafted by Bellinger's Jewelers.\n\n\n\nBecome an Event Sponsor!\n\nSpotlight and other sponsorships are available for the Membership Celebration. Contact Alyssa at events@thequietresorts.com for more information.
X-ALT-DESC;FMTTYPE=text/html:<span style="border:none windowtext 1.0pt\;padding:0in\;background:white\;"><span style="color:#25201A\;">Join us for the Chamber Membership Celebration at Cripple Creek Country&nbsp\;Club&nbsp\;as we recognize the many amazing accomplishments and achievements of our Chamber members and businesses throughout the 2023 calendar year! The ticketed event will take place on </span><span style="color:#000080\;"><strong>Thursday\, November 16th from 5:30 - 8:00 p.m.</strong></span><span style="color:#25201A\;">\, and will recognize&nbsp\;our flagship&nbsp\;</span><span style="color:#000080\;"><strong>Lighthouse Award Recipient</strong></span><span style="color:#25201A\;"><strong>\,</strong>&nbsp\;outgoing board members and the Best of the Quiet Resort winners. After Party on the Patio will extend until 9:00 p.m.</span></span><br />\n<br />\n<span style="border:none windowtext 1.0pt\;padding:0in\;background:white\;"><span style="color:#000080\;"><strong>Nominees&nbsp\;</strong></span>have first rights to reserve their tickets until Friday\, October 20th when public voting closes. After October 20th\, ticket reservations will be made available to all chamber businesses. If you would like assistance with purchasing your ticket(s)\, please call 302-539-2100.</span>\n<div style="text-align: center\;"><span style="border:none windowtext 1.0pt\;padding:0in\;background:white\;"><span style="color:#000080\;"><strong>2023 Nominees receive a complimentary discount for up to two (2) tickets until October 20th using the promo code provided in congratulatory email. Reference email for more instructions.</strong></span></span></div>\n\n<div style="text-align: center\;"><br />\n<span 1pt="" background:="" border:="" font-size:="" none="" padding:="" style="color: rgb(51\, 51\, 51)\; font-family: sans-serif\, Arial\, Verdana\, " trebuchet=""><span style="color: rgb(0\, 0\, 128)\;"><strong>It&#39\;s a Party - Toot Your Horn!</strong></span></span></div>\n<span 1pt="" background:="" border:="" font-size:="" none="" padding:="" style="color: rgb(51\, 51\, 51)\; font-family: sans-serif\, Arial\, Verdana\, " trebuchet=""><span style="color: rgb(37\, 32\, 26)\;">The Member Celebration will also highlight significant achievements\, anniversaries\, and accomplishments.<strong>&nbsp\;</strong></span><span style="color: rgb(0\, 0\, 128)\;"><strong>If you have photos\, press releases\, or stories you&#39\;d like us to highlight at the event</strong></span><span style="color: rgb(37\, 32\, 26)\;">\, please contact membership@thequietresorts.com.&nbsp\;All RSVP&#39\;s must be confirmed by November 10th.</span></span><span 1pt="" background:="" border:="" font-size:="" none="" padding:="" style="color: rgb(51\, 51\, 51)\; font-family: sans-serif\, Arial\, Verdana\, " trebuchet=""><span style="color: rgb(37\, 32\, 26)\;">&nbsp\;</span>LAST YEAR&#39\;S PARTY SOLD OUT!</span>&nbsp\;<br />\n&nbsp\;\n<div style="text-align: center\;"><span style="color:#000080\;"><u><span style="font-size:14px\;"><strong><span style="border:none windowtext 1.0pt\;padding:0in\;">*Menu*</span></strong></span></u></span><br />\n<span style="color:#000080\;"><strong>Slider Station:</strong></span><br />\n<font color="#000080">- Burger -<br />\n- Chicken -<br />\n- Amber Ale Cod -</font><span style="color:#25201A\;">&nbsp\;</span><br />\n<br />\n<span style="color:#000080\;"><strong>Butler Hors d&#39\;ouerves:</strong><br />\n- Glazed Meatballs -<br />\n- Buffalo Chicken Mac &amp\; Cheese Shooters -<br />\n- Philly Spring Rolls -<br />\n- Brie and Raspberry Phyllo -<br />\n<br />\n<strong>Dessert:&nbsp\;</strong><br />\n- Cookies &amp\; Brownies -</span><br />\n<br />\n<span style="color:#000080\;">*Cash Bar with full availability*<br />\nIced Tea\, Lemonade\, and soft drinks are available at no charge.</span><br />\n<br />\n<u><span style="font-size:14px\;"><span style="color:#000080\;"><strong><span style="border:none windowtext 1.0pt\;padding:0in\;">Entertainment</span></strong></span></span></u><br />\n<span style="color:#000080\;">DJ - Sponsored by Long &amp\; Foster<br />\nBar Tickets - Sponsored by Taylor Bank<br />\nToast Sponsor&nbsp\;-&nbsp\;Banks Wines &amp\; Spirits</span><span style="color:#25201A\;">&nbsp\;</span><br />\n<span style="color:#000080\;">Spotlight Sponsor - Heather&#39\;s Home Works<br />\nDessert Sponsor - Jefferson\, Urian\, Doane &amp\; Sterner\, P.A.</span><br />\n<br />\n<span style="color:#000080\;"><b><u>Agenda:</u></b><br />\nCheck-In: 5:30 p.m.<br />\nWelcome: 5:45 p.m.<br />\nCeremony: 6:45 p.m. - 8:00 p.m.<br />\nAfter Party on Patio: 8:00 p.m. - 9:00 p.m.</span><br />\n<br />\n<span style="color:#25201A\;"><span style="font-size:14px\;">&nbsp\;</span></span><span style="color:#000080\;"><span style="font-size:14px\;"><strong><u>Best in Business Awards</u></strong></span></span><br />\n<strong><span style="color:#000080\;"><em>*Best in Business Awards are presented to member businesses that provide<br />\nhigh-quality customer service and experiences that are above and beyond industry standards.</em></span></strong><br />\n<br />\n<em><span style="color:#000080\;"><strong>Best in Business - Restaurant</strong><br />\n<strong>Best in Business - Retail</strong><br />\n<strong>Best in Business - Real Estate</strong><br />\n<strong>Best in Business - Construction</strong><br />\n<strong>Best in Business - Business and Home Services</strong></span></em><br />\n<br />\n<span style="font-size:14px\;"><strong><u><span style="color:#000080\;">Community Spirit Awards</span></u></strong></span><br />\n<em><span style="color:#000080\;"><strong>Community Spirit - Most Inspiring Person: </strong></span><br />\nPresented to an individual who works\, leads\, serves\, and cares in such a way that motivates and catalyzes others to follow the example they display.</em><br />\n<br />\n<strong><span style="color:#000080\;"><em>Community Spirit - Most Engaged:</em></span> </strong><br />\n<em>Better described as the &ldquo\;Everywhere Award&rdquo\; - &nbsp\;this recognizes a member business that shows community spirit by consistently showing up and investing time\, energy\, and resources into local initiatives\, events\, and supporting the local business community.</em><br />\n<br />\n<em><span style="color:#000080\;"><strong>Community Spirit - Best Initiative: </strong></span><br />\nPresented to a member business who has adopted and executed a mission that extends beyond a successful business model. The Best Initiative Award is given to a member business that has been intentional in meeting a need in the community whether it be through awareness\, building a &ldquo\;good neighbor&rdquo\; culture\, or hosting a recurring event or regular activities that benefit our communities in a unique way.</em><br />\n<br />\n<em><span style="color:#000080\;"><strong>Community Spirit - Nonprofit: </strong></span><br />\nPresented to a nonprofit organization that has taken every opportunity to engage with and serve in our local community\, lifting up other businesses and individuals\, all while accomplishing their chosen objective.</em></div>\n&nbsp\;\n\n<hr />\n<div style="text-align: center\;"><span style="font-size:14px\;"><span style="font-family:arial\;"><strong><span style="color:#000080\;"><em>Additional awards that will be recognized at the Member Celebration will be Chamber Anniversaries\, New Member of the Year\, Member of the Year\, Volunteer of the Year\, and Annual Lighthouse Award.&nbsp\;</em></span></strong></span></span>\n\n<hr /></div>\n\n<div style="text-align: center\;"><br />\n<span style="font-size:14px\;"><span style="font-family:arial\;"><strong><span style="color:#000080\;"><em>Membership Anniversaries:</em></span>&nbsp\;</strong><br />\n<em>Recognizes businesses that have been members of the Chamber for 45+ years and those celebrating their 25th Anniversary with the Chamber</em><br />\n<br />\n<span style="color:#000080\;"><em><strong>New Member of the Year:</strong></em></span><br />\n<em>Presented to a new Chamber member who took an immediate\, active role after joining\, whether it be through networking\, events\, volunteering\, or otherwise.</em><br />\n<br />\n<strong><em><span style="color:#000080\;">Member of the Year:</span></em> </strong><br />\n<em>Presented to an individual who has demonstrated outstanding dedication by his or her involvement in the Chamber throughout the year.</em><br />\n<br />\n<strong><span style="color:#000080\;"><em>Volunteer of the Year:</em></span> </strong><br />\n<em>Presented to an individual who has gone above and beyond in their volunteer service to contribute to the success of Chamber events.<br />\n<br />\n<strong><span style="color:#000080\;">Lighthouse Award:</span></strong><br />\nThe Lighthouse Award recognizes an individual that is a long-term Chamber member who displays outstanding leadership and devotion to the chamber and the local community. This award is viewed as a type of &quot\;lifetime achievement&quot\; as the success it symbolizes has withstood the test of time and storms all while remaining a beach to its surroundings. This award is sponsored and handcrafted by Bellinger&#39\;s Jewelers.</em></span></span></div>\n\n<div style="text-align: center\;"><br />\n<span style="color:#000080\;"><strong><span style="border:none windowtext 1.0pt\;padding:0in\;">Become an Event Sponsor!</span></strong><br />\n<strong>Spotlight and other sponsorships are available for the Membership Celebration. Contact Alyssa at events@thequietresorts.com for more information.</strong></span></div>\n\n<div style="text-align: center\;"><br />\n&nbsp\;</div>\n
LOCATION:Cripple Creek Country Club 29494 Cripple Creek Rd. Dagsboro\, DE 19939
UID:e.2126.26905
SEQUENCE:3
DTSTAMP:20260420T183321Z
URL:http://business.thequietresorts.com/events/details/2023-best-of-the-quiet-resorts-awards-member-celebration-26905
END:VEVENT

END:VCALENDAR
