BEGIN:VCALENDAR
VERSION:2.0
PRODID:-//ChamberMaster//Event Calendar 2.0//EN
METHOD:PUBLISH
X-PUBLISHED-TTL:P3D
REFRESH-INTERVAL:P3D
CALSCALE:GREGORIAN
BEGIN:VEVENT
DTSTART;VALUE=DATE:20230925
DTEND;VALUE=DATE:20230926
TRANSP:TRANSPARENT
X-MICROSOFT-CDO-ALLDAYEVENT:TRUE
SUMMARY:2023 Believe In Tomorrow Beach Bash
DESCRIPTION:Wrap up summer at Seacrets in Ocean City! The best deal in town  purchase your $100 raffle ticket for a chance to win $10\,000! Enjoy live music\, raffles\, a silent auction\, and a dine around with food from some of the area's finest restaurants. For more information or to purchase tickets\, go to www.believeintomorrow.org/beach bash\, email ocevents@believeintomorrow.org or call 410.723.2842.
X-ALT-DESC;FMTTYPE=text/html:<span style="color:rgb(59\, 59\, 61)\; font-family:arimo\,sans-serif\; font-size:15px">Wrap up summer at&nbsp\;</span><strong>Seacrets&nbsp\;</strong><span style="color:rgb(59\, 59\, 61)\; font-family:arimo\,sans-serif\; font-size:15px">in Ocean City! The best deal in town&hellip\; purchase your $100 raffle ticket for a chance to win&nbsp\;</span><strong>$10\,000!</strong><span style="color:rgb(59\, 59\, 61)\; font-family:arimo\,sans-serif\; font-size:15px">&nbsp\;Enjoy live music\, raffles\, a silent auction\, and a dine around with food from some of the area&#39\;s finest restaurants. For more information or to purchase tickets\, go to www.believeintomorrow.org/beach bash\, email</span><span style="color:rgb(59\, 59\, 61)\; font-family:arimo\,sans-serif\; font-size:15px">&nbsp\;ocevents@believeintomorrow.org or call 410.723.2842</span>.
LOCATION:Seacrets Bar and Grille 117 49th Street Ocean City\, MD 21842
UID:e.2126.26192
SEQUENCE:3
DTSTAMP:20260420T195539Z
URL:http://business.thequietresorts.com/events/details/2023-believe-in-tomorrow-beach-bash-26192
END:VEVENT

END:VCALENDAR
