BEGIN:VCALENDAR
VERSION:2.0
PRODID:-//ChamberMaster//Event Calendar 2.0//EN
METHOD:PUBLISH
X-PUBLISHED-TTL:P3D
REFRESH-INTERVAL:P3D
CALSCALE:GREGORIAN
BEGIN:VEVENT
DTSTART:20220816T220000Z
DTEND:20220817T000000Z
X-MICROSOFT-CDO-ALLDAYEVENT:FALSE
SUMMARY:2022 Lifeguard Award Celebration
DESCRIPTION:The Bethany-Fenwick Area Chamber of Commerce and Big Chill Beach Club proudly present the 2022 Lifeguard Award Celebration. This annual event honors the outstanding men and women of the local lifeguard patrols with an "Under the Sea" theme for the festivities. \n\n\n\nEnjoy a taco bar\, music by DJ Bump\, and a cash bar along with fire pits and killer views. Awards will be given to the 2022 "Lifeguards of the Year\," recognizing a member from each of the eight patrols as voted by their fellow lifeguards and selected by their captains. \n\n\n\nRSVP DEADLINE: AUGUST 12\n\nGuards attend for FREE! Guards must RSVP through the Chamber.\n\nGuests of guards\, Chamber\, and community members = $10\n\n\n\nSCHEDULE OF EVENTS\n\n6:00 pm Guest check-in\, receive 21+ wristband for cash bar\n\n6:15-7:00 pm Mingle and eat!\n\n7:00 pm Registration & Check-in closes\n\n7:00-7:30 pm Awards Ceremony (Emceed by Mike Bradley) \n\n7:30-8:00 pm Final Celebrations\n\n\n\nPARKING INFO\n\nFree parking is provided by Patrol Sponsors for all REGISTERED guests.\n\nBig Chill Beach Club is located on Delaware Seashore State Park at the Inlet\n\nVisit often? Consider purchasing a State Park Pass from the Chamber's Visitor and Information Center located at 36913 Coastal Highway in Fenwick Island!\n\n\n\nSHOW YOUR SUPPORT\n\nChamber members are invited to support the guards through event sponsorship. Please click here for available sponsorship opportunities.
X-ALT-DESC;FMTTYPE=text/html:<p><span style="font-family: arial\;"><span style="font-size: 14px\;">The Bethany-Fenwick Area Chamber of Commerce and Big Chill Beach Club&nbsp\;proudly present the 2022&nbsp\;Lifeguard Award Celebration. This annual event honors the outstanding men and women of the local lifeguard patrols with an &quot\;Under the Sea&quot\; theme for the festivities.&nbsp\;<br />\n<br />\nEnjoy a taco bar\, music by DJ Bump\,&nbsp\;and a cash bar&nbsp\;along with fire pits&nbsp\;and killer views. Awards will be given to the 2022&nbsp\;&quot\;Lifeguards of the Year\,&quot\;&nbsp\;recognizing&nbsp\;a&nbsp\;member from each of the eight patrols as voted by their fellow lifeguards and selected by their captains.&nbsp\;<br />\n<br />\n<span style="color: rgb(0\, 0\, 128)\;"><strong>RSVP DEADLINE: AUGUST 12</strong></span><br />\nGuards attend for FREE! Guards must RSVP through the Chamber.<br />\nGuests of guards\, Chamber\, and community members = $10<br />\n<br />\n<span style="color: rgb(0\, 0\, 128)\;"><b>SCHEDULE OF EVENTS</b></span><br />\n<strong>6:00 pm</strong>&nbsp\;Guest check-in\, receive 21+ wristband&nbsp\;for cash bar<br />\n<strong>6:15-7:00 pm </strong>Mingle and eat!<br />\n<strong>7:00 pm&nbsp\;</strong>Registration &amp\; Check-in&nbsp\;closes<br />\n<strong>7:00-7:30 pm</strong>&nbsp\;Awards Ceremony (Emceed by Mike Bradley)&nbsp\;</span></span><br />\n<strong style="font-family: arial\; font-size: 14px\;">7:30-8:00 pm</strong><span style="font-family: arial\; font-size: 14px\;">&nbsp\;Final Celebrations</span><br />\n<br />\n<span style="font-family: arial\;"><span style="font-size: 14px\;"><span style="color: rgb(0\, 0\, 128)\;"><b>PARKING INFO</b></span><br />\nFree parking is provided by Patrol&nbsp\;Sponsors for all REGISTERED guests.<br />\nBig Chill Beach Club is located on Delaware Seashore State Park at the Inlet<br />\n<em><strong>Visit often?</strong>&nbsp\;Consider purchasing a State Park Pass from the Chamber&#39\;s Visitor and Information Center located at 36913 Coastal Highway in Fenwick Island!</em><br />\n<br />\n<span style="color: rgb(0\, 0\, 128)\;"><b>SHOW YOUR SUPPORT</b></span><br />\nChamber members are invited to support the guards through event sponsorship. Please&nbsp\;<a href="https://chambermaster.blob.core.windows.net/userfiles/UserFiles/chambers/2126/File/Lifeguard/LGASponsorshipOppurtunities.pdf">click here&nbsp\;</a>for available sponsorship opportunities.</span></span></p>\n
LOCATION:Big Chill Beach Club 27099 Coastal Hwy. Bethany Beach\, DE 19930
UID:e.2126.23750
SEQUENCE:3
DTSTAMP:20260421T191045Z
URL:http://business.thequietresorts.com/events/details/2022-lifeguard-award-celebration-23750
END:VEVENT

END:VCALENDAR
