BEGIN:VCALENDAR
VERSION:2.0
PRODID:-//ChamberMaster//Event Calendar 2.0//EN
METHOD:PUBLISH
X-PUBLISHED-TTL:P3D
REFRESH-INTERVAL:P3D
CALSCALE:GREGORIAN
BEGIN:VEVENT
DTSTART:20220506T160000Z
DTEND:20220506T180000Z
X-MICROSOFT-CDO-ALLDAYEVENT:FALSE
SUMMARY:2022 Joshua M. Freeman Valor Awards
DESCRIPTION:The Bethany-Fenwick Area Chamber of Commerce is pleased to honor the outstanding police officers\, paramedics\, EMT's and firefighters who help keep our local communities safe throughout the year. The 2022 Joshua M. Freeman Valor Awards\, presented by the Carl M. Freeman Companies\, recognizes their service and dedication to our community.\n\n\n\nAttendance for department Chiefs and Honorees is complimentary. Guests of awardees\, dignitaries are invited to join for $30\n\n\n\nChamber Members sponsorship opportunities available here..\n\n \n\nLUNCH OPTIONS\;\n\nBeef Grilled Petite NY Strip\, whipped potatoes\, asparagus\, compound butter\n\n \n\nChicken Pan Roasted Airline Chicken Breast with whipped potatoes\, asparagus\, lemon herb jus\n\n\n\nVegan Quinoa jambalaya stuffed zucchini with roasted pepper coulis\n\n \n\nDESSERT\n\nCheesecake
X-ALT-DESC;FMTTYPE=text/html:<span style="text-align: left\; color: rgb(51\, 51\, 51)\; text-transform: none\; text-indent: 0px\; letter-spacing: normal\; font-family: arial\; font-size: 14px\; font-style: normal\; font-variant: normal\; font-weight: 400\; text-decoration: none\; word-spacing: 0px\; float: none\; display: inline !important\; white-space: normal\; orphans: 2\; background-color: transparent\; -webkit-text-stroke-width: 0px\;">The Bethany-Fenwick Area Chamber of Commerce is pleased to honor the outstanding police officers\, paramedics\, EMT&#39\;s and firefighters who help keep our local communities safe throughout the year. The 2022 Joshua M. Freeman Valor Awards\, presented by the Carl M. Freeman Companies\, recognizes their service and dedication to our community.</span><br style="text-align: left\; color: rgb(51\, 51\, 51)\; text-transform: none\; text-indent: 0px\; letter-spacing: normal\; font-family: arial\; font-size: 14px\; font-style: normal\; font-variant: normal\; font-weight: 400\; text-decoration: none\; word-spacing: 0px\; white-space: normal\; orphans: 2\; background-color: transparent\; -webkit-text-stroke-width: 0px\;" />\n<br style="text-align: left\; color: rgb(51\, 51\, 51)\; text-transform: none\; text-indent: 0px\; letter-spacing: normal\; font-family: arial\; font-size: 14px\; font-style: normal\; font-variant: normal\; font-weight: 400\; text-decoration: none\; word-spacing: 0px\; white-space: normal\; orphans: 2\; background-color: transparent\; -webkit-text-stroke-width: 0px\;" />\n<span style="text-align: left\; color: rgb(51\, 51\, 51)\; text-transform: none\; text-indent: 0px\; letter-spacing: normal\; font-family: arial\; font-size: 14px\; font-style: normal\; font-variant: normal\; font-weight: 400\; text-decoration: none\; word-spacing: 0px\; float: none\; display: inline !important\; white-space: normal\; orphans: 2\; background-color: transparent\; -webkit-text-stroke-width: 0px\;">Attendance for department Chiefs and Honorees is complimentary. Guests of awardees\, dignitaries are invited to join for $30<br />\n<br />\nChamber Members sponsorship opportunities available </span><a href="https://documentcloud.adobe.com/link/review?uri=urn:aaid:scds:US:99aaef84-30ce-3d58-9dee-fd7cca526875" style="font-family: arial\; font-size: 14px\;">here.</a>.<br />\n&nbsp\;\n<div>\n<div style="color: rgb(51\, 51\, 51)\; font-family: sans-serif\, Arial\, Verdana\, &quot\;Trebuchet MS&quot\;\; font-size: 13px\;"><span style="font-size: 14px\;"><span style="font-family: arial\;"><strong>LUNCH OPTIONS\;</strong></span></span><br />\n<strong style="color: rgb(51\, 51\, 51)\; font-family: arial\; font-size: 14.6667px\; background-color: rgb(255\, 255\, 255)\;">Beef&nbsp\;</strong><em style="color: rgb(51\, 51\, 51)\; font-family: arial\; font-size: 14.6667px\; background-color: rgb(255\, 255\, 255)\;">Grilled Petite NY Strip\, whipped potatoes\, asparagus\, compound butter</em><br />\n&nbsp\;</div>\n\n<div style="color: rgb(51\, 51\, 51)\; font-family: sans-serif\, Arial\, Verdana\, &quot\;Trebuchet MS&quot\;\; font-size: 13px\;"><span style="font-family:arial\;"><span style="font-size:11.0pt\;"><strong>Chicken</strong><em> Pan Roasted Airline Chicken Breast with whipped potatoes\, asparagus\, lemon herb jus</em><br />\n<br />\n<strong>Vegan</strong><em> Quinoa jambalaya stuffed zucchini with roasted pepper coulis</em></span></span><br />\n&nbsp\;</div>\n\n<div style="color: rgb(51\, 51\, 51)\; font-family: sans-serif\, Arial\, Verdana\, &quot\;Trebuchet MS&quot\;\; font-size: 13px\;"><span style="font-size: 14px\;"><span style="font-family: arial\;"><strong>DESSERT</strong></span></span></div>\n\n<div style="color: rgb(51\, 51\, 51)\;"><em><font face="arial"><span style="font-size: 14px\;">Cheesecake</span></font></em></div>\n<em><font face="arial"><span style="font-size: 14px\;">&nbsp\;</span></font></em></div>\n\n<div>&nbsp\;</div>\n
LOCATION:The Den at Bear Trap Dunes 7 Clubhouse Drive Ocean View\, DE 19970
UID:e.2126.23478
SEQUENCE:3
DTSTAMP:20260422T001336Z
URL:http://business.thequietresorts.com/events/details/2022-joshua-m-freeman-valor-awards-23478
END:VEVENT

END:VCALENDAR
