BEGIN:VCALENDAR
VERSION:2.0
PRODID:-//ChamberMaster//Event Calendar 2.0//EN
METHOD:PUBLISH
X-PUBLISHED-TTL:P3D
REFRESH-INTERVAL:P3D
CALSCALE:GREGORIAN
BEGIN:VEVENT
DTSTART:20221117T223000Z
DTEND:20221118T010000Z
X-MICROSOFT-CDO-ALLDAYEVENT:FALSE
SUMMARY:2022 Best of the Quiet Resorts Awards & Member Celebration
DESCRIPTION:Join us for the Chamber Membership Celebration at Cripple Creek Country Club as we recognize the many amazing accomplishments and achievements of our Chamber members and businesses throughout the 2022 calendar year! The ticketed event will take place on Thursday\, November 17th from 5:30 - 8:00 pm\, and will recognize our flagship Lighthouse Award Recipient\, outgoing board members and the Best of the Quiet Resort winners. \n\n\n\nIt's a Party - Toot Your Horn!\n\nThe Member Celebration will also highlight significant achievements\, anniversaries\, and accomplishments. If you have photos\, press releases\, or stories you'd like us to highlight at the event\, please contact events@thequietresorts.com. All RSVP's must be confirmed by November 11th. \n\n LAST YEAR'S PARTY SOLD OUT!\n*Menu*\n\nSlider Stations\n\nCharcuterie\n\nButler Hors D' Oeuvres\n\nDessert Table\n\n \n\nCash Bar with full availability\n\nIced Tea\, Lemonade\, and soft drinks are available.\n\n\n\nEntertainment\n\nDJ Hook- Sponsored by Long & Foster\n\nBar Tickets - Sponsored by Taylor Bank\n\nChampagne Toast- Sponsored by Banks Wines & Spirits \n\n \n\n \n \n\nCOMMUNITY SPIRIT AWARD: This award recognizes member businesses by size that has demonstrated an exemplary commitment to the community\, above and beyond its business contributions throughout the year. \n\n\n	Small Business: 1-6 full-time employees\n	Mid-Sized Business: 7-14 full-time employees\n	Large Business: 15+ full-time employees\n	Non-profit: 501c3  \n\n\nBEST IN BUSINESS AWARD: Presented to a member business that provides high-quality customer service above and beyond industry standards.\n\n\n	Best In Business (Restaurant)\n	Best In Business (Retail)\n	Best In Business (Real Estate & Construction)\n	Best In Business (Services) \n\n\nINSPIRING BUSINESS AWARD: Presented to a group or an individual who actively encourages and perpetuates business innovation\, freely shares ideas and opinions regarding business issues\, and is a catalyst for the future of business.\n  \n\nAdditional awards that will be recognized at the Member Celebration will be the New Member of the Year\, Member of the Year\, Annual Lighthouse Award\, and Chamber Anniversaries. \n\n \nNEW MEMBER OF THE YEAR AWARD: Presented to a new Chamber member that immediately became active after joining\, whether through networking\, events\, volunteerism\, or otherwise.\n   \n\nMEMBER OF THE YEAR AWARD: Presented to the individual who has demonstrated the most dedication by his or her involvement in the Chamber throughout the year. \n  \n\nLIGHTHOUSE AWARD: Recognizes an individual that is a long-term chamber member and that contributes outstanding leadership and devotion to both the chamber and the local community. The Lighthouse Award is viewed as a type of "lifetime achievement" recognition.\n\nSponsored and handcrafted by Bellinger's Jewelers. \n\n\n\n\n\nMEMBERSHIP ANNIVERSARIES: Recognizes businesses that have been members of the chamber for 45+ years and those celebrating their 25th Anniversary with the Chamber.\n\n \nBecome an Event Sponsor\n\nIf you are interested in sponsoring the event\, see sponsorship opportunities here.\n\n\n\n \n\n\n.
X-ALT-DESC;FMTTYPE=text/html:<span style="font-size:14px\;"><span style="font-family:arial\;"><span style="border:none windowtext 1.0pt\;padding:0in\;background:white\;"><span style="color:#25201A\;">Join us for the Chamber Membership Celebration at Cripple Creek Country&nbsp\;Club&nbsp\;as we recognize the many amazing accomplishments and achievements of our Chamber members and businesses throughout the 2022 calendar year! The ticketed event will take place on Thursday<strong>\, November 17th from 5:30 - 8:00 pm</strong>\, and will recognize&nbsp\;our flagship&nbsp\;<strong>Lighthouse Award Recipient\,</strong>&nbsp\;outgoing board members and the Best of the Quiet Resort winners.&nbsp\;<br />\n<br />\n<strong>It&#39\;s a Party - Toot Your Horn!</strong><br />\nThe Member Celebration will also highlight significant achievements\, anniversaries\, and accomplishments.<strong>&nbsp\;If you have photos\, press releases\, or stories you&#39\;d like us to highlight at the event</strong>\, please contact events@thequietresorts.com.&nbsp\;All RSVP&#39\;s must be confirmed by November 11th.&nbsp\;<br />\n&nbsp\;<strong><em>LAST YEAR&#39\;S PARTY SOLD OUT!</em></strong></span></span></span></span>\n<div style="text-align: center\;"><span style="font-size:14px\;"><span style="font-family:arial\;"><span style="color:#25201A\;"><strong><span style="border:none windowtext 1.0pt\;padding:0in\;">*Menu*</span></strong><br />\n<span style="border:none windowtext 1.0pt\;padding:0in\;">Slider Stations<br />\nCharcuterie<br />\nButler Hors D&#39\; Oeuvres<br />\nDessert Table</span><br />\n&nbsp\;<br />\nCash Bar with full availability<br />\nIced Tea\, Lemonade\, and soft drinks are available.<br />\n<br />\n<strong><span style="border:none windowtext 1.0pt\;padding:0in\;">Entertainment</span></strong><br />\nDJ Hook- Sponsored by Long &amp\; Foster<br />\nBar Tickets - Sponsored by Taylor Bank<br />\nChampagne Toast- Sponsored by Banks Wines &amp\; Spirits&nbsp\;<br />\n&nbsp\;</span><br />\n&nbsp\;</span></span></div>\n&nbsp\;\n\n<div style="color:#25201A\;margin-bottom:0in\;margin-bottom:0in\;margin-top:0in\;line-height:normal\;background:white\;vertical-align:baseline\;"><span style="font-size:14px\;"><span style="font-family:arial\;"><em><strong><span style="border:none windowtext 1.0pt\;padding:0in\;"><span style="color:navy\;">COMMUNITY SPIRIT AWARD</span></span></strong>:</em>&nbsp\;<em><span style="border:none windowtext 1.0pt\;padding:0in\;">This award recognizes member businesses by size that has demonstrated an exemplary commitment to the community\, above and beyond its business contributions throughout the year.&#8203\;</span></em></span></span></div>\n\n<ul>\n	<li style="color:#25201A\;margin-bottom:0in\;margin-bottom:0in\;margin-top:0in\;line-height:normal\;background:white\;vertical-align:baseline\;"><span style="font-size:14px\;"><span style="font-family:arial\;"><em><span style="border:none windowtext 1.0pt\;padding:0in\;">Small Business: 1-6 full-time employees</span></em></span></span></li>\n	<li style="color:#25201A\;margin-bottom:0in\;margin-bottom:0in\;margin-top:0in\;line-height:normal\;background:white\;vertical-align:baseline\;"><span style="font-size:14px\;"><span style="font-family:arial\;"><em><span style="border:none windowtext 1.0pt\;padding:0in\;">Mid-Sized Business: 7-14 full-time employees</span></em></span></span></li>\n	<li style="color:#25201A\;margin-bottom:0in\;margin-bottom:0in\;margin-top:0in\;line-height:normal\;background:white\;vertical-align:baseline\;"><span style="font-size:14px\;"><span style="font-family:arial\;"><em><span style="border:none windowtext 1.0pt\;padding:0in\;">Large Business: 15+ full-time employees</span></em></span></span></li>\n	<li style="color:#25201A\;margin-bottom:0in\;margin-bottom:0in\;margin-top:0in\;line-height:normal\;background:white\;vertical-align:baseline\;"><span style="font-size:14px\;"><span style="font-family:arial\;"><em><span style="border:none windowtext 1.0pt\;padding:0in\;">Non-profit: 501c3&nbsp\;&#8203\;</span></em></span></span></li>\n</ul>\n\n<div style="color:#25201A\;margin-bottom:0in\;margin-bottom:0in\;margin-top:0in\;line-height:normal\;background:white\;vertical-align:baseline\;"><span style="font-size:14px\;"><span style="font-family:arial\;"><em><span style="border:none windowtext 1.0pt\;padding:0in\;"><span style="font-size:14px\;"><span style="font-family:arial\;"><strong><span style="border:none windowtext 1.0pt\;padding:0in\;"><span style="color:navy\;">BEST IN BUSINESS AWARD</span></span></strong>:&nbsp\;<em><span style="border:none windowtext 1.0pt\;padding:0in\;">Presented to a member business that provides high-quality customer service above and beyond industry standards.</span></em></span></span></span></em></span></span></div>\n\n<ul>\n	<li style="color:#25201A\;margin-bottom:0in\;margin-bottom:0in\;margin-top:0in\;line-height:normal\;background:white\;vertical-align:baseline\;"><span style="font-size:14px\;"><span style="font-family:arial\;"><em><span style="border:none windowtext 1.0pt\;padding:0in\;">Best In Business (Restaurant)</span></em></span></span></li>\n	<li style="color:#25201A\;margin-bottom:0in\;margin-bottom:0in\;margin-top:0in\;line-height:normal\;background:white\;vertical-align:baseline\;"><span style="font-size:14px\;"><span style="font-family:arial\;"><em><span style="border:none windowtext 1.0pt\;padding:0in\;">Best In Business (Retail)</span></em></span></span></li>\n	<li style="color:#25201A\;margin-bottom:0in\;margin-bottom:0in\;margin-top:0in\;line-height:normal\;background:white\;vertical-align:baseline\;"><span style="font-size:14px\;"><span style="font-family:arial\;"><em><span style="border:none windowtext 1.0pt\;padding:0in\;">Best In Business (Real Estate &amp\; Construction)</span></em></span></span></li>\n	<li style="color:#25201A\;margin-bottom:0in\;margin-bottom:0in\;margin-top:0in\;line-height:normal\;background:white\;vertical-align:baseline\;"><span style="font-size:14px\;"><span style="font-family:arial\;"><em><span style="border:none windowtext 1.0pt\;padding:0in\;">Best In Business (Services) </span></em></span></span></li>\n</ul>\n\n<div style="color:#25201A\;margin-bottom:0in\;margin-bottom:0in\;margin-top:0in\;line-height:normal\;background:white\;vertical-align:baseline\;"><span style="font-size:14px\;"><span style="font-family:arial\;"><strong><em><span style="border:none windowtext 1.0pt\;padding:0in\;"><span style="color:navy\;">INSPIRING BUSINESS AWARD</span></span></em></strong><em><span style="border:none windowtext 1.0pt\;padding:0in\;">:&nbsp\;Presented to a group or an individual who actively encourages and perpetuates business innovation\, freely shares ideas and opinions regarding business issues\, and is a catalyst for the future of business.</span></em></span></span></div>\n<span style="font-size:14px\;"><span style="font-family:arial\;"> &nbsp\;<br />\n<span style="color:#25201A\;">Additional awards that will be recognized at the Member Celebration will be the New Member of the Year\, Member of the Year\, Annual Lighthouse Award\, and Chamber Anniversaries.&nbsp\;</span></span></span><br />\n&nbsp\;\n<div style="color:#25201A\;margin-bottom:0in\;margin-bottom:0in\;margin-top:0in\;line-height:normal\;background:white\;vertical-align:baseline\;"><span style="font-size:14px\;"><span style="font-family:arial\;"><strong><em><span style="border:none windowtext 1.0pt\;padding:0in\;"><span style="color:navy\;">NEW MEMBER OF THE YEAR AWARD</span></span></em></strong><em><span style="border:none windowtext 1.0pt\;padding:0in\;">:&nbsp\;Presented to a new Chamber member that immediately became active after joining\, whether through networking\, events\, volunteerism\, or otherwise.</span></em></span></span></div>\n<span style="font-size:14px\;"><span style="font-family:arial\;"> <em><span style="border:none windowtext 1.0pt\;padding:0in\;"><span style="color:#25201A\;">&nbsp\;&#8203\;</span></span></em></span></span>\n\n<div style="color:#25201A\;margin-bottom:0in\;margin-bottom:0in\;margin-top:0in\;line-height:normal\;background:white\;vertical-align:baseline\;"><span style="font-size:14px\;"><span style="font-family:arial\;"><strong><em><span style="border:none windowtext 1.0pt\;padding:0in\;"><span style="color:navy\;">MEMBER OF THE YEAR AWARD</span></span></em></strong><em><span style="border:none windowtext 1.0pt\;padding:0in\;">:&nbsp\;Presented to the individual who has demonstrated the most dedication by his or her involvement in the Chamber throughout the year.&#8203\;</span></em></span></span></div>\n<span style="font-size:14px\;"><span style="font-family:arial\;"> &nbsp\;</span></span>\n\n<div style="margin-bottom: 0in\; margin-top: 0in\; line-height: normal\; background: white\; vertical-align: baseline\;"><span style="color: rgb(37\, 32\, 26)\; font-size: 14px\;"><span style="font-family:arial\;"><strong><em><span style="border:none windowtext 1.0pt\;padding:0in\;"><span style="color:navy\;">LIGHTHOUSE AWARD</span></span></em></strong><em><span style="border:none windowtext 1.0pt\;padding:0in\;">:&nbsp\;Recognizes an individual that is a long-term chamber member and that contributes outstanding leadership and devotion to both the chamber and the local community.&nbsp\;The Lighthouse Award is viewed as a type of &ldquo\;lifetime achievement&rdquo\; recognition.<br />\nSponsored and handcrafted by Bellinger&#39\;s Jewelers.&nbsp\;</span></em></span></span><br />\n<br />\n<br />\n<em style="font-family: arial\; font-size: 14px\; background-color: rgb(255\, 255\, 255)\;"><span style="border: 1pt none windowtext\; padding: 0in\;"><font color="#000080"><b>MEMBERSHIP ANNIVERSARIES</b></font><font color="#25201a">:&nbsp\;Recognizes businesses that have been members of the chamber for 45+ years and those celebrating their 25th Anniversary with the Chamber.</font></span></em><br />\n&nbsp\;</div>\n<span style="font-size:14px\;"><span style="font-family:arial\;"><span style="color:#25201A\;"><strong><span style="border:none windowtext 1.0pt\;padding:0in\;">Become an Event Sponsor</span></strong><br />\n<span style="border:none windowtext 1.0pt\;padding:0in\;">If you are interested in sponsoring the event\, see sponsorship opportunities&nbsp\;<a href="https://chambermaster.blob.core.windows.net/userfiles/UserFiles/chambers/2126/File/MCSPONSORFORM2022.pdf"><span style="color:#537499\;">here.</span></a></span></span></span></span><br />\n<br />\n&nbsp\;\n<div><br />\n<span style="font-size: 14px\;"><span style="font-family: arial\;">.</span></span><br />\n&nbsp\;</div>\n
LOCATION:Cripple Creek Country Club 29494 Cripple Creek Rd. Dagsboro\, DE 19939
UID:e.2126.24202
SEQUENCE:3
DTSTAMP:20260421T142300Z
URL:http://business.thequietresorts.com/events/details/2022-best-of-the-quiet-resorts-awards-member-celebration-24202
END:VEVENT

END:VCALENDAR
