BEGIN:VCALENDAR
VERSION:2.0
PRODID:-//ChamberMaster//Event Calendar 2.0//EN
METHOD:PUBLISH
X-PUBLISHED-TTL:P3D
REFRESH-INTERVAL:P3D
CALSCALE:GREGORIAN
BEGIN:VEVENT
DTSTART:20220101T130000Z
DTEND:20220101T170000Z
X-MICROSOFT-CDO-ALLDAYEVENT:FALSE
SUMMARY:2022 Annual Hair of the Dog Run & Leo Brady Exercise Like the Eskimos
DESCRIPTION:ON-SITE REGISTRATION & PACKET PICK UP\n\nFriday\, December 31st\n\nBethany Boathouse\,39187 Hickman Plaza Rd\n\n12 p.m. - 3 p.m. for race day packet pick-up\n\nBethany Boathouse will be opened for lunch between the hours of pickup\n\n\n\nSaturday\, January 1st\n\nBethany Beach Bandstand Plaza\n\n8:30 a.m.  - 9:30 a.m.  Packet Pick Up \n\n10:00 a.m. 5k Race Starts\n\n10:05 a.m. 1 Mile Walk Starts\n\n11:00 a.m. 5k Awards\n\n12 NOON- Plunge\n\n\n\n\nRING IN 2022 in the QUIET RESORTS with a RUN & PLUNGE!\n\nThe Quiet Resorts Charitable Foundation & the Bethany-Fenwick Area Chamber of Commerce proudly present the Hair of the Dog Run/Walk and the Leo Brady Exercise Like the Eskimos Plunge!\n\n\n\n'Like" the facebook event page for day-of updates and information!\n\n\n\nHighlights:\n\n\n	\n		\n			HOD 5K + 1 Mile Walk \n			    ELE Plunge\n		\n		\n			\n			\n				Overall & Age Group Awards\n				Music\n				Family Fun and Festive Course\n				Long-sleeved event shirt guaranteed to everyone registered by 12/03/2021\n				Post Event Party at Bethany Boathouse doors open at 11 a.m.\n			\n			\n			\n			\n				A New Year's Day Tradition\n				Long-sleeved event shirt guaranteed to everyone registered by 12/03/2021\n				Post Event Party at Bethany Boathouse doors open at 11 a.m. \n			\n			\n		\n	\n\n\n\nAll those participating in the walk/run/plunge will be eligible to purchase a wristband for $5 that would give them access to an after party at Bethany Boathouse which will include a nacho bar and a drink ticket.\n\n\n\nPost-event after party wristbands can be purchased for $10 by the public providing access to the nacho bar and one drink ticket.\n\n\n\nAfter party wristbands can be purchased on Friday\, December 31st and Saturday\, January 1st at packet pick-up and registration. \n\n\n\nREGISTER FOR TEAM COTTAGE/BOATHOUSE \n\nJoin Team Cottage for the Leo Brady Exercise Like the Eskimos Swim. Register online or in house. $55 per person includes: Registration Fee\, Breakfast Buffet\, Drink Specials\, Liquid Courage Team Apparel\, Official Long- Sleeve\, Transportation to and from the swim\, and Post Plunge Party at The Boathouse with an all you can eat Nacho Bar. A mock-up on the Team Cottage/Boathouse t-shirt can be found here.\n\n\n\nLocations:\n\nPacket Pick-up: Race & Plunge\n\n\n	Friday\, December 31st at Bethany Boathouse from 12 p.m. - 3 p.m.\n	Saturday\, January 1st on the Bethany Beach Bandstand (Oceanfront Garfield Pkwy) from 8:30 a.m. - 9:30 a.m. for race day packet pick-up. Plunge packet pick-up will go until 11:30am. \n\nRace Start- Parkwood St. & Atlantic Ave.\, Bethany Beach\n\nRace Finish- Bethany Beach Bandstand (Oceanfront Garfield Parkway)\n\nPlunge- Beach (Oceanfront Garfield Parkway)\n\n\n\nOn Site Registration Prices: \n\n\n	\n		\n			Plunge\n			$20\n		\n		\n			HOD 5K\n			$35\n			 \n		\n		\n			HOD 1 mile walk\n			$25\n			 \n		\n		\n			Virtual 5K & 1 mile walk\n			$25\n		\n		\n			Combo 5K & Plunge\n			$50\n			 \n		\n		\n			Combo 1 Mile & Plunge\n			$35\n			 \n		\n		\n			Team Cottage/Boathouse\n			$55\n			 \n		\n		\n			Post Party Wristband - Runners/Plungers\n			$5\n		\n		\n			Post Party Wristband for non-participants\n			$10\n		\n	\n\n\n\nItinerary for HOD & ELE:\n\nFriday\, December 31\, 2021\n\n\n	12pm-3pm - Onsite registration and packet pick-up at Bethany Boathouse for all runners and plungers\n	Bethany Boathouse will be open during packet pick up\n\nSaturday\, January 1\, 2022\n\n\n	8:30-9:30am - Race day packet pick-up located at the Coastal Tented Events heated tent on the Bethany Beach Bandstand. \n	10:00am - HOD 5K Start\n	10:05am -  1 Mile walk starts\n	11:00am- HOD 5K Awards\n	11:00am Bethany Boathouse Opens for ELE Post Event Party \n	11:45am- ELE Plungers gather \n	NOON- ELE Plunge\n\n\n \nAwards: \n\n\n	\n		\n			      5K Race + 1 Mile Walk\n			 ELE Plunge \n		\n		\n			Overall Male & Female\n\n			\n\n			Male & Female Master\n\n			\n\n			Male & Female Grand Master\n\n			\n\n			Age Groups* \n\n			     1st\, 2nd & 3rd\n			\n\n			Teams must have a minimum of 6 registrants to qualify.\n		\n	\n\n\n\n* Race Age Groups\n\n\n	9 & Under\n	10-14\n	15-19\n	20-29\n	30-39\n	40-49\n	50-59\n	60-69\n	70+\n\nPolicies: \n\n\n	\n		\n			HOD 5K + 1 Mile Walk\n			ELE Plunge\n		\n		\n			\n			\n				Rain or Shine Event\n				Dogs & owners in permitted in 1 mile walk only\n				Dogs must be on a leash at all times (NO RECOIL LEASHES)\n				Doggy doo-doo bags are a must have with all messes cleaned up\n				No dogs allowed in Boathouse post party\n				There are no refunds for any reason.\n			\n			\n			\n			\n				Rain or shine event (with exception of lightening)\n				All Plungers must wear their wrist band to indicate affiliation with the event.\n				Waivers must be signed for all participants. \n				There will be lifeguards\, and is a "swim"/plunge at your own risk event.\n			\n			\n		\n	\n\n\n\nTax Deductible Donations support the Captain O. Murray Scholarship and the QRCF\n\n\n\nRace Details & Information:\n\nHOD 5k Course Map\n\nHOD 1 Mile Course Map\n\nHOD Athlete Guide\n\n\n\nELE/HOD Event Shirt:\n\nEach registrant will receive a complimentary 2022 ELE/HOD event shirt the day of the event. Additional shirts are available for purchase for $12. A picture of race day shirt can be found below. \n\n\n\n \n\n\n\n\n\nVolunteer! \n\nNot interested in running or plunging but still want to get involved? Sign up to volunteer! All volunteer opportunities can be found here. Need community service hours? Please be sure to bring the proper paperwork to be signed!
X-ALT-DESC;FMTTYPE=text/html:<p><span style="font-family: arial\;"><span style="color: rgb(255\, 140\, 0)\;"><strong>ON-SITE REGISTRATION &amp\; PACKET PICK UP</strong></span><br />\n<span style="color: rgb(0\, 0\, 128)\;"><strong>Friday\, December 31st</strong></span><br />\nBethany Boathouse\,39187 Hickman Plaza Rd</span><br />\n12 p.m. - 3 p.m. for race day packet pick-up<br />\nBethany Boathouse will be opened for lunch between the hours of pickup<br />\n<br />\n<span style="font-family: arial\;"><span style="color: rgb(0\, 0\, 128)\;"><strong>Saturday\, January 1st</strong></span></span><br />\nBethany Beach&nbsp\;Bandstand Plaza<br />\n8:30 a.m.&nbsp\; - 9:30 a.m.&nbsp\; Packet Pick Up&nbsp\;<br />\n10:00 a.m. 5k Race Starts<br />\n10:05 a.m. 1 Mile Walk Starts<br />\n11:00&nbsp\;a.m. 5k Awards<br />\n12 NOON- Plunge</p>\n\n<hr />\n<p><br />\n<span style="font-size: 14px\;"><span style="font-family: arial\;"><span style="color: rgb(0\, 0\, 128)\;"><strong>RING IN 2022&nbsp\;in the QUIET RESORTS with a RUN &amp\; PLUNGE!</strong></span><br />\nThe Quiet Resorts Charitable Foundation &amp\; the Bethany-Fenwick Area Chamber of Commerce proudly present the<strong>&nbsp\;Hair of the Dog Run/Walk&nbsp\;</strong>and the<strong>&nbsp\;Leo Brady Exercise Like the Eskimos Plunge</strong>!<br />\n<br />\n&#39\;Like&quot\; the&nbsp\;<a href="https://www.facebook.com/events/395851098709539/?ref=newsfeed">facebook event page</a>&nbsp\;for day-of updates and information!</span></span><br />\n<br />\n<strong><span style="color:navy\;"><span style="font-family:arial\,sans-serif\;"><span style="font-size:10.5pt\;">Highlights:</span></span></span></strong></p>\n\n<table border="1" cellpadding="0" cellspacing="1" style="width:550px\;" width="550">\n	<tbody>\n		<tr>\n			<td style="padding:.75pt .75pt .75pt .75pt\;"><strong><span style="color:#333333\;"><span style="font-family:arial\,sans-serif\;"><span style="font-size:10.5pt\;">HOD 5K + 1 Mile Walk&nbsp\;</span></span></span></strong></td>\n			<td style="padding:.75pt .75pt .75pt .75pt\;"><strong><span style="color:#333333\;"><span style="font-family:arial\,sans-serif\;"><span style="font-size:10.5pt\;">&nbsp\; &nbsp\;&nbsp\;ELE Plunge</span></span></span></strong></td>\n		</tr>\n		<tr>\n			<td style="padding:.75pt .75pt .75pt .75pt\;">\n			<ul>\n				<li style="color:#333333\;line-height:normal\;"><span style="font-family:arial\,sans-serif\;"><span style="font-size:10.5pt\;">Overall&nbsp\;&amp\; Age Group Awards</span></span></li>\n				<li style="color:#333333\;line-height:normal\;"><span style="font-family:arial\,sans-serif\;"><span style="font-size:10.5pt\;">Music</span></span></li>\n				<li style="color:#333333\;line-height:normal\;"><span style="font-family:arial\,sans-serif\;"><span style="font-size:10.5pt\;">Family Fun and&nbsp\;Festive Course</span></span></li>\n				<li style="color:#333333\;line-height:normal\;"><span style="font-family:arial\,sans-serif\;"><span style="font-size:10.5pt\;">Long-sleeved event shirt guaranteed to everyone registered by&nbsp\;12/03/2021</span></span></li>\n				<li style="color:#333333\;line-height:normal\;">Post Event Party at Bethany Boathouse doors open at 11 a.m.</li>\n			</ul>\n			</td>\n			<td style="padding:.75pt .75pt .75pt .75pt\;">\n			<ul>\n				<li style="color:#333333\;line-height:normal\;"><span style="font-family:arial\,sans-serif\;"><span style="font-size:10.5pt\;">A New&nbsp\;Year&#39\;s Day Tradition</span></span></li>\n				<li style="color:#333333\;line-height:normal\;"><span style="font-family:arial\,sans-serif\;"><span style="font-size:10.5pt\;">Long-sleeved event shirt guaranteed to everyone registered by&nbsp\;12/03/2021</span></span></li>\n				<li style="color:#333333\;line-height:normal\;"><span style="font-family:arial\,sans-serif\;"><span style="font-size:10.5pt\;">Post Event Party at Bethany Boathouse doors open at 11 a.m.&nbsp\;</span></span></li>\n			</ul>\n			</td>\n		</tr>\n	</tbody>\n</table>\n<br />\n<span style="color: rgb(51\, 51\, 51)\; font-family: sans-serif\, Arial\, Verdana\, &quot\;Trebuchet MS&quot\;\; font-size: 13px\; background-color: rgb(255\, 255\, 255)\;">All those participating in the walk/run/plunge will be eligible to purchase a wristband for $5 that would give them access to an after party at Bethany Boathouse which will include a nacho bar and a drink ticket.</span><br style="color: rgb(51\, 51\, 51)\; font-family: sans-serif\, Arial\, Verdana\, &quot\;Trebuchet MS&quot\;\; font-size: 13px\; background-color: rgb(255\, 255\, 255)\;" />\n<br style="color: rgb(51\, 51\, 51)\; font-family: sans-serif\, Arial\, Verdana\, &quot\;Trebuchet MS&quot\;\; font-size: 13px\; background-color: rgb(255\, 255\, 255)\;" />\n<span background-color:="" font-size:="" style="color: rgb(51\, 51\, 51)\; font-family: sans-serif\, Arial\, Verdana\, &quot\;Trebuchet MS&quot\;\; font-size: 13px\; background-color: rgb(255\, 255\, 255)\;" trebuchet="">Post-event after party wristbands&nbsp\;can be purchased for $10 by the public providing access to the nacho bar and one drink ticket.</span><br style="color: rgb(51\, 51\, 51)\; font-family: sans-serif\, Arial\, Verdana\, &quot\;Trebuchet MS&quot\;\; font-size: 13px\; background-color: rgb(255\, 255\, 255)\;" />\n<br style="color: rgb(51\, 51\, 51)\; font-family: sans-serif\, Arial\, Verdana\, &quot\;Trebuchet MS&quot\;\; font-size: 13px\; background-color: rgb(255\, 255\, 255)\;" />\n<span style="color: rgb(51\, 51\, 51)\; font-family: sans-serif\, Arial\, Verdana\, &quot\;Trebuchet MS&quot\;\; font-size: 13px\; background-color: rgb(255\, 255\, 255)\;">After party&nbsp\;wristbands can be purchased on Friday\, December 31st and Saturday\, January 1st at packet pick-up and registration.&nbsp\;</span>\n\n<div align="center" style="margin-bottom:0in\;text-align:center\;line-height:normal\;">\n<hr align="center" noshade="noshade" size="2" style="color:#333333\;" width="100%" /></div>\n<strong><span style="color:#0782C1\;"><span style="font-family:arial\,sans-serif\;"><span style="font-size:10.5pt\;">REGISTER FOR TEAM COTTAGE/BOATHOUSE&nbsp\;</span></span></span></strong><br />\n<span style="color:#333333\;"><span style="font-family:arial\,sans-serif\;"><span style="font-size:10.5pt\;">Join Team Cottage for the Leo Brady Exercise Like the Eskimos Swim. Register online or in house.&nbsp\;$55&nbsp\;per person includes: Registration Fee\, Breakfast Buffet\, Drink Specials\, Liquid Courage Team Apparel\, Official Long- Sleeve\, Transportation to and from the swim\, and Post Plunge Party at The Boathouse with an all you can eat Nacho Bar. A mock-up on the Team Cottage/Boathouse t-shirt can be found <a href="https://documentcloud.adobe.com/link/review?uri=urn:aaid:scds:US:5ddf96d0-7321-4e6f-8743-123350a83f8a">here.</a></span></span></span><br />\n<br />\n<strong><span style="color:navy\;"><span style="font-family:arial\,sans-serif\;"><span style="font-size:10.5pt\;">Locations:</span></span></span></strong><br />\n<span style="color:#333333\;"><span style="font-family:arial\,sans-serif\;"><span style="font-size:10.5pt\;">Packet Pick-up: Race &amp\; Plunge</span></span></span>\n\n<ul>\n	<li style="color:#333333\;line-height:normal\;"><span style="font-family:arial\,sans-serif\;"><span style="font-size:10.5pt\;">Friday\,&nbsp\;December 31st at Bethany Boathouse from 12 p.m. - 3 p.m.</span></span></li>\n	<li style="color:#333333\;line-height:normal\;"><span style="font-family:arial\,sans-serif\;"><span style="font-size:10.5pt\;">Saturday\, January 1st on the Bethany Beach Bandstand (Oceanfront Garfield Pkwy) from&nbsp\;8:30 a.m. - 9:30 a.m.&nbsp\;for race day packet pick-up</span></span><span style="font-family:arial\,sans-serif\;"><span style="font-size:10.0pt\;">.&nbsp\;</span></span><span style="font-family:arial\,sans-serif\;"><span style="font-size:10.5pt\;">Plunge packet pick-up will go until 11:30am.&nbsp\;</span></span></li>\n</ul>\n<span style="color:#333333\;"><span style="font-family:arial\,sans-serif\;"><span style="font-size:10.5pt\;">Race Start- Parkwood St. &amp\; Atlantic Ave.\, Bethany Beach<br />\nRace Finish-&nbsp\;Bethany Beach Bandstand (Oceanfront Garfield Parkway)<br />\nPlunge- Beach (Oceanfront Garfield Parkway)</span></span></span><br />\n<br />\n<strong><span style="color:navy\;"><span style="font-family:arial\,sans-serif\;"><span style="font-size:10.5pt\;">On Site Registration Prices:&nbsp\;</span></span></span></strong>\n\n<table border="1" cellpadding="0" cellspacing="1" style="width:300px\;background:white\;" width="300">\n	<tbody>\n		<tr>\n			<td style="padding:.75pt .75pt .75pt .75pt\;"><span style="color:#333333\;"><span style="font-family:arial\,sans-serif\;"><span style="font-size:10.5pt\;">Plunge</span></span></span></td>\n			<td style="padding:.75pt .75pt .75pt .75pt\;"><span style="color:#333333\;"><span style="font-family:arial\,sans-serif\;"><span style="font-size:10.5pt\;">$20</span></span></span></td>\n		</tr>\n		<tr>\n			<td style="padding:.75pt .75pt .75pt .75pt\;"><span style="color:#333333\;"><span style="font-family:arial\,sans-serif\;"><span style="font-size:10.5pt\;">HOD 5K</span></span></span></td>\n			<td style="padding:.75pt .75pt .75pt .75pt\;"><span style="color:#333333\;"><span style="font-family:arial\,sans-serif\;"><span style="font-size:10.5pt\;">$35</span></span></span></td>\n			<td style="padding:.75pt .75pt .75pt .75pt\;">&nbsp\;</td>\n		</tr>\n		<tr>\n			<td style="padding:.75pt .75pt .75pt .75pt\;"><span style="color:#333333\;"><span style="font-family:arial\,sans-serif\;"><span style="font-size:10.5pt\;">HOD 1 mile walk</span></span></span></td>\n			<td style="padding:.75pt .75pt .75pt .75pt\;"><span style="color:#333333\;"><span style="font-family:arial\,sans-serif\;"><span style="font-size:10.5pt\;">$25</span></span></span></td>\n			<td style="border:none\;padding:.75pt .75pt .75pt .75pt\;">&nbsp\;</td>\n		</tr>\n		<tr>\n			<td style="padding:.75pt .75pt .75pt .75pt\;">Virtual 5K &amp\; 1 mile walk</td>\n			<td style="padding:.75pt .75pt .75pt .75pt\;">$25</td>\n		</tr>\n		<tr>\n			<td style="padding:.75pt .75pt .75pt .75pt\;"><span style="color:#333333\;"><span style="font-family:arial\,sans-serif\;"><span style="font-size:10.5pt\;">Combo 5K &amp\; Plunge</span></span></span></td>\n			<td style="padding:.75pt .75pt .75pt .75pt\;"><span style="color:#333333\;"><span style="font-family:arial\,sans-serif\;"><span style="font-size:10.0pt\;">$50</span></span></span></td>\n			<td style="border:none\;padding:.75pt .75pt .75pt .75pt\;">&nbsp\;</td>\n		</tr>\n		<tr>\n			<td style="padding:.75pt .75pt .75pt .75pt\;"><span style="color:#333333\;"><span style="font-family:arial\,sans-serif\;"><span style="font-size:10.5pt\;">Combo 1 Mile &amp\; Plunge</span></span></span></td>\n			<td style="padding:.75pt .75pt .75pt .75pt\;"><span style="color:#333333\;"><span style="font-family:arial\,sans-serif\;"><span style="font-size:10.5pt\;">$35</span></span></span></td>\n			<td style="border:none\;padding:.75pt .75pt .75pt .75pt\;">&nbsp\;</td>\n		</tr>\n		<tr>\n			<td style="padding:.75pt .75pt .75pt .75pt\;">Team Cottage/Boathouse</td>\n			<td style="padding:.75pt .75pt .75pt .75pt\;">$55</td>\n			<td style="border:none\;padding:.75pt .75pt .75pt .75pt\;">&nbsp\;</td>\n		</tr>\n		<tr>\n			<td style="padding:.75pt .75pt .75pt .75pt\;">Post Party Wristband - Runners/Plungers</td>\n			<td style="padding:.75pt .75pt .75pt .75pt\;">$5</td>\n		</tr>\n		<tr>\n			<td style="padding:.75pt .75pt .75pt .75pt\;">Post Party Wristband for non-participants</td>\n			<td style="padding:.75pt .75pt .75pt .75pt\;">$10</td>\n		</tr>\n	</tbody>\n</table>\n<br />\n<strong><span style="color:navy\;"><span style="font-family:arial\,sans-serif\;"><span style="font-size:10.5pt\;">Itinerary for HOD &amp\; ELE:</span></span></span></strong><br />\n<span style="color:#333333\;"><span style="font-family:arial\,sans-serif\;"><span style="font-size:10.5pt\;"><strong>Friday\, December 31\, 2021</strong></span></span></span>\n\n<ul>\n	<li style="color:#333333\;line-height:normal\;"><span style="font-family:arial\,sans-serif\;"><span style="font-size:10.5pt\;">12pm-3pm - Onsite registration and packet pick-up at Bethany Boathouse for all runners and plungers</span></span></li>\n	<li style="color:#333333\;line-height:normal\;"><span style="font-family:arial\,sans-serif\;"><span style="font-size:10.5pt\;">Bethany Boathouse will be open during packet pick up</span></span></li>\n</ul>\n<strong><span style="color:#333333\;"><span style="font-family:arial\,sans-serif\;"><span style="font-size:10.5pt\;">Saturday\, January 1\, 2022</span></span></span></strong>\n\n<ul>\n	<li style="color:#333333\;line-height:normal\;"><span style="font-family:arial\,sans-serif\;"><span style="font-size:10.5pt\;">8:30-9:30am - Race day packet pick-up located at the Coastal Tented Events heated tent on the Bethany Beach Bandstand.&nbsp\;</span></span></li>\n	<li style="color:#333333\;line-height:normal\;"><span style="font-family:arial\,sans-serif\;"><span style="font-size:10.5pt\;">10:00am - HOD 5K&nbsp\;Start</span></span></li>\n	<li style="color:#333333\;line-height:normal\;"><span style="font-family:arial\,sans-serif\;"><span style="font-size:10.5pt\;">10:05am -&nbsp\; 1 Mile walk starts</span></span></li>\n	<li style="color:#333333\;line-height:normal\;"><span style="font-family:arial\,sans-serif\;"><span style="font-size:10.5pt\;">11:00am- HOD 5K&nbsp\;Awards</span></span></li>\n	<li style="color:#333333\;line-height:normal\;"><span style="font-family:arial\,sans-serif\;"><span style="font-size:10.5pt\;">11:00am Bethany Boathouse Opens for ELE Post Event&nbsp\;Party&nbsp\;</span></span></li>\n	<li style="color:#333333\;line-height:normal\;"><span style="font-family:arial\,sans-serif\;"><span style="font-size:10.5pt\;">11:45am- ELE Plungers gather&nbsp\;</span></span></li>\n	<li style="color:#333333\;line-height:normal\;"><span style="font-family:arial\,sans-serif\;"><span style="font-size:10.5pt\;">NOON- ELE Plunge</span></span></li>\n</ul>\n\n<div style="color:#333333\;line-height:normal\;">&nbsp\;</div>\n<strong><span style="color:navy\;"><span style="font-family:arial\,sans-serif\;"><span style="font-size:10.5pt\;">Awards:&nbsp\;</span></span></span></strong>\n\n<table border="1" cellpadding="0" cellspacing="1" style="width:550px\;" width="550">\n	<tbody>\n		<tr>\n			<td style="padding:.75pt .75pt .75pt .75pt\;"><strong><span style="color:#333333\;"><span style="font-family:arial\,sans-serif\;"><span style="font-size:10.5pt\;">&nbsp\; &nbsp\; &nbsp\; 5K Race + 1 Mile Walk</span></span></span></strong></td>\n			<td style="padding:.75pt .75pt .75pt .75pt\;"><strong><span style="color:#333333\;"><span style="font-family:arial\,sans-serif\;"><span style="font-size:10.5pt\;">&nbsp\;ELE Plunge&nbsp\;</span></span></span></strong></td>\n		</tr>\n		<tr>\n			<td style="padding:.75pt .75pt .75pt .75pt\;"><span style="color:#333333\;"><span style="font-family:arial\,sans-serif\;"><span style="font-size:10.5pt\;">Overall Male &amp\; Female<br />\n			<br />\n			Male &amp\; Female Master<br />\n			<br />\n			Male &amp\; Female Grand Master<br />\n			<br />\n			Age Groups*&nbsp\;<br />\n			&nbsp\; &nbsp\; &nbsp\;1st\, 2nd &amp\; 3rd</span></span></span></td>\n			<td style="padding:.75pt .75pt .75pt .75pt\;"><br />\n			<span style="color:#333333\;"><span style="font-family:arial\,sans-serif\;"><span style="font-size:10.5pt\;"><em>Teams must have a minimum of 6 registrants to qualify.</em></span></span></span></td>\n		</tr>\n	</tbody>\n</table>\n<br />\n<span style="color:#333333\;"><span style="font-family:arial\,sans-serif\;"><span style="font-size:10.5pt\;">* Race Age Groups</span></span></span>\n\n<ul>\n	<li style="color:#333333\;line-height:normal\;"><span style="font-family:arial\,sans-serif\;"><span style="font-size:10.5pt\;">9 &amp\; Under</span></span></li>\n	<li style="color:#333333\;line-height:normal\;"><span style="font-family:arial\,sans-serif\;"><span style="font-size:10.5pt\;">10-14</span></span></li>\n	<li style="color:#333333\;line-height:normal\;"><span style="font-family:arial\,sans-serif\;"><span style="font-size:10.5pt\;">15-19</span></span></li>\n	<li style="color:#333333\;line-height:normal\;"><span style="font-family:arial\,sans-serif\;"><span style="font-size:10.5pt\;">20-29</span></span></li>\n	<li style="color:#333333\;line-height:normal\;"><span style="font-family:arial\,sans-serif\;"><span style="font-size:10.5pt\;">30-39</span></span></li>\n	<li style="color:#333333\;line-height:normal\;"><span style="font-family:arial\,sans-serif\;"><span style="font-size:10.5pt\;">40-49</span></span></li>\n	<li style="color:#333333\;line-height:normal\;"><span style="font-family:arial\,sans-serif\;"><span style="font-size:10.5pt\;">50-59</span></span></li>\n	<li style="color:#333333\;line-height:normal\;"><span style="font-family:arial\,sans-serif\;"><span style="font-size:10.5pt\;">60-69</span></span></li>\n	<li style="color:#333333\;line-height:normal\;"><span style="font-family:arial\,sans-serif\;"><span style="font-size:10.5pt\;">70+</span></span></li>\n</ul>\n<strong><span style="color:navy\;"><span style="font-family:arial\,sans-serif\;"><span style="font-size:10.5pt\;">Policies:&nbsp\;</span></span></span></strong>\n\n<table border="1" cellpadding="0" cellspacing="1" style="width:550px\;" width="550">\n	<tbody>\n		<tr>\n			<td style="padding:.75pt .75pt .75pt .75pt\;"><strong><span style="color:#333333\;"><span style="font-family:arial\,sans-serif\;"><span style="font-size:10.5pt\;">HOD 5K + 1 Mile Walk</span></span></span></strong></td>\n			<td style="padding:.75pt .75pt .75pt .75pt\;"><strong><span style="color:#333333\;"><span style="font-family:arial\,sans-serif\;"><span style="font-size:10.5pt\;">ELE Plunge</span></span></span></strong></td>\n		</tr>\n		<tr>\n			<td style="padding:.75pt .75pt .75pt .75pt\;">\n			<ul>\n				<li style="color:#333333\;line-height:normal\;"><span style="font-family:arial\,sans-serif\;"><span style="font-size:10.5pt\;">Rain or Shine Event</span></span></li>\n				<li style="color:#333333\;line-height:normal\;"><span style="font-family:arial\,sans-serif\;"><span style="font-size:10.5pt\;">Dogs &amp\; owners in permitted in 1 mile walk only</span></span></li>\n				<li style="color:#333333\;line-height:normal\;"><span style="font-family:arial\,sans-serif\;"><span style="font-size:10.5pt\;">Dogs must be on a leash&nbsp\;at all times (NO RECOIL LEASHES)</span></span></li>\n				<li style="color:#333333\;line-height:normal\;"><span style="font-family:arial\,sans-serif\;"><span style="font-size:10.5pt\;">Doggy doo-doo bags are a must have with all messes cleaned up</span></span></li>\n				<li style="color:#333333\;line-height:normal\;"><span style="font-family:arial\,sans-serif\;"><span style="font-size:10.5pt\;">No dogs allowed in Boathouse post party</span></span></li>\n				<li style="color:#333333\;line-height:normal\;"><span style="font-family:arial\,sans-serif\;"><span style="font-size:10.5pt\;">There are no refunds for any reason.</span></span></li>\n			</ul>\n			</td>\n			<td style="padding:.75pt .75pt .75pt .75pt\;">\n			<ul>\n				<li style="color:#333333\;line-height:normal\;"><span style="font-family:arial\,sans-serif\;"><span style="font-size:10.5pt\;">Rain or shine event (with exception of lightening)</span></span></li>\n				<li style="color:#333333\;line-height:normal\;"><span style="font-family:arial\,sans-serif\;"><span style="font-size:10.5pt\;">All Plungers must wear their wrist band to indicate affiliation with the event.</span></span></li>\n				<li style="color:#333333\;line-height:normal\;"><span style="font-family:arial\,sans-serif\;"><span style="font-size:10.5pt\;">Waivers must be signed for all participants.&nbsp\;</span></span></li>\n				<li style="color:#333333\;line-height:normal\;"><span style="font-family:arial\,sans-serif\;"><span style="font-size:10.5pt\;">There will be lifeguards\, and is a &quot\;swim&quot\;/plunge at your own risk event.</span></span></li>\n			</ul>\n			</td>\n		</tr>\n	</tbody>\n</table>\n<br />\n<span style="font-size:14px\;"><strong><span style="color:#000080\;"><span style="font-family: Arial\, sans-serif\;">Tax Deductible Donations support the Captain O. Murray Scholarship and the QRCF</span></span></strong></span><br />\n<br />\n<strong><span style="color:navy\;"><span style="font-family:arial\,sans-serif\;"><span style="font-size:10.5pt\;">Race Details &amp\; Information:</span></span></span></strong><br />\n<a href="https://www.plotaroute.com/route/1719621"><strong><span style="color:#373737\;"><span style="font-family:arial\,sans-serif\;"><span style="font-size:10.5pt\;">HOD 5k Course Map</span></span></span></strong></a><br />\n<a href="https://www.plotaroute.com/route/1738237">HOD 1 Mile Course Map</a><br />\n<span style="color:#333333\;"><span style="font-family:arial\,sans-serif\;"><span style="font-size:10.5pt\;">HOD Athlete Guide</span></span></span><br />\n<br />\n<strong><span style="color:navy\;"><span style="font-family:arial\,sans-serif\;"><span style="font-size:10.5pt\;">ELE/HOD Event&nbsp\;Shirt:</span></span></span></strong><br />\n<span style="color:#333333\;"><span style="font-family:arial\,sans-serif\;"><span style="font-size:10.5pt\;">Each registrant will receive a complimentary 2022 ELE/HOD event shirt the day of the event. Additional shirts are available for purchase for $12. A picture of race day shirt can be found below.&nbsp\;</span></span></span><br />\n<br />\n&nbsp\;\n<div align="center" style="margin-bottom:0in\;text-align:center\;line-height:normal\;">\n<hr align="center" noshade="noshade" size="2" style="color:#333333\;" width="100%" /></div>\n\n<p><br />\n<strong><span style="color:navy\;"><span style="font-family:arial\,sans-serif\;"><span style="font-size:10.5pt\;">Volunteer!&nbsp\;</span></span></span></strong><br />\n<span style="color:#333333\;"><span style="font-family:arial\,sans-serif\;"><span style="font-size:10.5pt\;">Not interested in running or plunging but still want to get involved? Sign up to volunteer!&nbsp\;All volunteer opportunities can be found here.&nbsp\;Need community service hours? Please be sure to bring the proper paperwork to be signed!&nbsp\;</span></span></span></p>\n<title></title>\n<p align="center" style="line-height: 10.5pt\;">&nbsp\;</p>\n
LOCATION:Packet Pick Up: Bethany Boathouse 39187 Hickman Plaza Rd Bethany Beach\, DE Post Party: Bethany Boathouse 39187 Hickman Plaza Rd Bethany Beach\, DE
UID:e.2126.22694
SEQUENCE:3
DTSTAMP:20260424T085317Z
URL:http://business.thequietresorts.com/events/details/2022-annual-hair-of-the-dog-run-leo-brady-exercise-like-the-eskimos-22694
END:VEVENT

END:VCALENDAR
