BEGIN:VCALENDAR
VERSION:2.0
PRODID:-//ChamberMaster//Event Calendar 2.0//EN
METHOD:PUBLISH
X-PUBLISHED-TTL:P3D
REFRESH-INTERVAL:P3D
CALSCALE:GREGORIAN
BEGIN:VEVENT
DTSTART;VALUE=DATE:20210304
DTEND;VALUE=DATE:20210312
TRANSP:TRANSPARENT
X-MICROSOFT-CDO-ALLDAYEVENT:TRUE
SUMMARY:2021 Virtual Ocean City Film Festival
DESCRIPTION:Streaming Virtually March 4-11\, 2021\n\nJoin us for the 5th annual Ocean City Film Festival\, now a week-long event! Watch more than 80 independent films from 15 states and 11 countries\, all from the comfort of your own home. www.ocmdfilmfestival.com
X-ALT-DESC;FMTTYPE=text/html:Streaming Virtually March 4-11\, 2021<br />\nJoin us for the 5th annual Ocean City Film Festival\, now a week-long event! Watch more than 80 independent films from 15 states and 11 countries\, all from the comfort of your own home. <a href="http://www.ocmdfilmfestival.com">www.ocmdfilmfestival.com</a>
LOCATION:www.ocmdfilmfestival.com
UID:e.2126.21891
SEQUENCE:3
DTSTAMP:20260425T000344Z
URL:http://business.thequietresorts.com/events/details/2021-virtual-ocean-city-film-festival-21891
END:VEVENT

END:VCALENDAR
