BEGIN:VCALENDAR
VERSION:2.0
PRODID:-//ChamberMaster//Event Calendar 2.0//EN
METHOD:PUBLISH
X-PUBLISHED-TTL:P3D
REFRESH-INTERVAL:P3D
CALSCALE:GREGORIAN
BEGIN:VEVENT
DTSTART:20210918T160000Z
DTEND:20210918T193000Z
X-MICROSOFT-CDO-ALLDAYEVENT:FALSE
SUMMARY:2021 Southern Delaware Wine\, Food & Music Festival
DESCRIPTION:Savor delicious cuisine from over 25 of coastal Delaware's top restaurants\, enjoy tastings of 100+ wines\, locally brewed craft beers & spirits\, be wildly entertained by a LIVE Chef Throw Down\, and get swept away by the styles and sounds of our talented musicians.\n\n\n\nBack for its 6th year\, the Southern Delaware Wine\, Food & Music Festival has grown to over 700 attendees\, plus well over 100 volunteers\, staff\, and vendors. Spend a great fall day enjoying specialty culinary delights and refreshing beverages as you listen to great tunes and peruse the auction items.\n\n\n\nEarly bird tickets are on sale now until August 1.
X-ALT-DESC;FMTTYPE=text/html:<span style="font-family:arial\;"><span style="font-size:14px\;">Savor delicious cuisine from over 25 of coastal Delaware&#39\;s top restaurants\, enjoy tastings of 100+ wines\, locally brewed craft beers &amp\; spirits\, be wildly entertained by a LIVE Chef Throw Down\, and get swept away by the styles and sounds of our talented musicians.<br />\n<br />\nBack for its 6th year\, the Southern Delaware Wine\, Food &amp\; Music Festival has grown to over 700 attendees\, plus well over 100 volunteers\, staff\, and vendors. Spend a great fall day enjoying specialty culinary delights and refreshing beverages as you listen to great tunes and peruse the auction items.<br />\n<br />\nEarly bird tickets are on sale now until August 1.</span></span>
LOCATION:23767 Samuel Adams Circle Millsboro\, DE 19966
UID:e.2126.22580
SEQUENCE:3
DTSTAMP:20260424T135737Z
URL:http://business.thequietresorts.com/events/details/2021-southern-delaware-wine-food-music-festival-22580
END:VEVENT

END:VCALENDAR
