BEGIN:VCALENDAR
VERSION:2.0
PRODID:-//ChamberMaster//Event Calendar 2.0//EN
METHOD:PUBLISH
X-PUBLISHED-TTL:P3D
REFRESH-INTERVAL:P3D
CALSCALE:GREGORIAN
BEGIN:VEVENT
DTSTART:20211128T140000Z
DTEND:20211128T153000Z
X-MICROSOFT-CDO-ALLDAYEVENT:FALSE
SUMMARY:2021 Sea Colony Turkey Trot 5K Run/Walk
DESCRIPTION:Join us for our 18th annual 5K Run/Walk through our beautiful resort community to help raise funds for the Special Olympics Delaware athletes. \n\n\n\nIs your business interested in becoming a sponsor? Email mike at Michael.pitts@vacasa.com or call 302-539-4511
X-ALT-DESC;FMTTYPE=text/html:<span style="font-size:14px\;"><span style="font-family:arial\;">Join us for our 18th annual 5K Run/Walk through our beautiful resort community to help raise funds for the Special Olympics Delaware athletes.&nbsp\;<br />\n<br />\nIs your business interested in becoming a sponsor? Email mike at Michael.pitts@vacasa.com or call 302-539-4511</span></span>
LOCATION:Sea Colony Fitness Center 38994 Westway Drive Bethany Beach\, DE 19930
UID:e.2126.23019
SEQUENCE:3
DTSTAMP:20260424T102512Z
URL:http://business.thequietresorts.com/events/details/2021-sea-colony-turkey-trot-5k-run-walk-23019
END:VEVENT

END:VCALENDAR
