BEGIN:VCALENDAR
VERSION:2.0
PRODID:-//ChamberMaster//Event Calendar 2.0//EN
METHOD:PUBLISH
X-PUBLISHED-TTL:P3D
REFRESH-INTERVAL:P3D
CALSCALE:GREGORIAN
BEGIN:VEVENT
DTSTART:20210507T160000Z
DTEND:20210507T180000Z
X-MICROSOFT-CDO-ALLDAYEVENT:FALSE
SUMMARY:2021 Joshua M. Freeman Valor Awards
DESCRIPTION:The Bethany-Fenwick Area Chamber of Commerce is pleased to honor the outstanding police officers\, paramedics\, EMT's and firefighters who help keep our local communities safe throughout the year. The 2021 Joshua M. Freeman Valor Awards\, presented by the Carl M. Freeman Companies\, recognizes their service and dedication to our community.\n\n\n\nAttendance for department Chiefs and honorees is complimentary\; guests of awardees\, dignitaries\, and Chamber members are invited to join for $25. Attendance may be limited due to the COVID-19 pandemic. All COVID-19 guidelines and protocols will be adhered to.\n\n\n\nThe Joshua M. Freeman Awards will be livestreamed for those unable to physically attend. If you would like to watch the livestream\, please click here.\n\n \nLUNCH OPTIONS\n\nChicken Breast with preserved lemon demi-glace\, served with herb roasted potatoes and sauteed green beans\n\nFlank Steak (cooked to medium) with homemade chimichurri sauce\, served with herb roasted potatoes and sauteed green beans\n\nRoasted Salmon with curry butter drizzle\, served with herb roasted potatoes and sauteed green beans\n\n \n\nDESSERT\n\nPlated Cheesecake with fruit compote and fresh whipped cream\n\n\n\nSponsorship Opportunities\n\nIf you are interested in sponsoring the 2021 Joshua M. Freeman Valor Awards\, please click here
X-ALT-DESC;FMTTYPE=text/html:<span style="text-align: left\; color: rgb(51\, 51\, 51)\; text-transform: none\; text-indent: 0px\; letter-spacing: normal\; font-family: arial\; font-size: 14px\; font-style: normal\; font-variant: normal\; font-weight: 400\; text-decoration: none\; word-spacing: 0px\; float: none\; display: inline !important\; white-space: normal\; orphans: 2\; background-color: transparent\; -webkit-text-stroke-width: 0px\;">The Bethany-Fenwick Area Chamber of Commerce is pleased to honor the outstanding police officers\, paramedics\, EMT&#39\;s and firefighters who help keep our local communities safe throughout the year. The 2021 Joshua M. Freeman Valor Awards\, presented by the Carl M. Freeman Companies\, recognizes their service and dedication to our community.</span><br style="text-align: left\; color: rgb(51\, 51\, 51)\; text-transform: none\; text-indent: 0px\; letter-spacing: normal\; font-family: arial\; font-size: 14px\; font-style: normal\; font-variant: normal\; font-weight: 400\; text-decoration: none\; word-spacing: 0px\; white-space: normal\; orphans: 2\; background-color: transparent\; -webkit-text-stroke-width: 0px\;" />\n<br style="text-align: left\; color: rgb(51\, 51\, 51)\; text-transform: none\; text-indent: 0px\; letter-spacing: normal\; font-family: arial\; font-size: 14px\; font-style: normal\; font-variant: normal\; font-weight: 400\; text-decoration: none\; word-spacing: 0px\; white-space: normal\; orphans: 2\; background-color: transparent\; -webkit-text-stroke-width: 0px\;" />\n<span style="text-align: left\; color: rgb(51\, 51\, 51)\; text-transform: none\; text-indent: 0px\; letter-spacing: normal\; font-family: arial\; font-size: 14px\; font-style: normal\; font-variant: normal\; font-weight: 400\; text-decoration: none\; word-spacing: 0px\; float: none\; display: inline !important\; white-space: normal\; orphans: 2\; background-color: transparent\; -webkit-text-stroke-width: 0px\;">Attendance for department Chiefs and honorees is complimentary\;&nbsp\;guests of awardees\, dignitaries\, and&nbsp\;Chamber members are invited to join for&nbsp\;$25. Attendance may be limited due to the COVID-19 pandemic. All COVID-19 guidelines and protocols will be adhered to.<br />\n<br />\nThe Joshua M. Freeman Awards will be livestreamed for those unable to physically attend. If you would like to watch the livestream\, please <strong><a href="https://fb.me/e/EGoQjSrL" target="_blank">click here</a></strong>.</span><br />\n&nbsp\;\n<div><span style="font-size: 14px\;"><span style="font-family: arial\;"><strong>LUNCH OPTIONS</strong></span></span></div>\n\n<div><span style="font-size: 14px\;"><span style="font-family: arial\;">Chicken Breast with preserved lemon demi-glace\, served with herb roasted potatoes and sauteed green beans<br />\nFlank Steak (cooked to medium) with homemade chimichurri sauce\, served with herb roasted potatoes and sauteed green beans<br />\nRoasted Salmon with curry butter drizzle\, served with herb roasted potatoes and sauteed green beans</span></span><br />\n&nbsp\;</div>\n\n<div><span style="font-size: 14px\;"><span style="font-family: arial\;"><strong>DESSERT</strong></span></span></div>\n\n<div><span style="font-size: 14px\;"><span style="font-family: arial\;">Plated Cheesecake with fruit compote and fresh whipped cream</span></span><br />\n<br />\n<strong><span style="font-size: 14px\;"><span style="font-family: arial\;">Sponsorship Opportunities</span></span></strong><br />\n<span style="font-size: 14px\;"><span style="font-family: arial\;">If you are interested in sponsoring the 2021&nbsp\;Joshua M. Freeman Valor Awards\, please <a href="https://chambermaster.blob.core.windows.net/userfiles/UserFiles/chambers/2126/File/Valor_Awards/2021/2021Sponsorship-VA.pdf" target="_blank"><strong>click here</strong></a></span></span></div>\n
LOCATION:Signatures at Bayside 12021 North Haven Dr Selbyville\, DE 19975
UID:e.2126.21951
SEQUENCE:3
DTSTAMP:20260424T204001Z
URL:http://business.thequietresorts.com/events/details/2021-joshua-m-freeman-valor-awards-21951
END:VEVENT

END:VCALENDAR
