BEGIN:VCALENDAR
VERSION:2.0
PRODID:-//ChamberMaster//Event Calendar 2.0//EN
METHOD:PUBLISH
X-PUBLISHED-TTL:P3D
REFRESH-INTERVAL:P3D
CALSCALE:GREGORIAN
BEGIN:VEVENT
DTSTART:20211009T140000Z
DTEND:20211009T200000Z
X-MICROSOFT-CDO-ALLDAYEVENT:FALSE
SUMMARY:2021 Historic Cottages Tour
DESCRIPTION:Historic Cottages Tour\n\nThe Historical Coastal Towns invites you to join us for the fourth annual Historic Cottages Tour featuring Bethany Beach on Saturday\, October 9\, 2021 from 10 am to 4 pm. Historic Coastal Towns offer you a glimpse of earlier times in  Bethany Beach by touring seven historic cottages. Masks will be required for all attendees and masks will be available if you don't have one.\n\n\n\nPurchase Tickets: \n\nTickets will go on sale June 9th\, 2021 for $25\, and proceeds support the Coastal Towns Museum at 40 West Ave. in Ocean View.  \n\n\n\nOnline from the Bethany-Fenwick Area Chamber of Commerce click the green "Register Now" button above. \n\n\n\nYou can purchase your tickets in person after August 1\, 2021 at the following locations:\nMade By Hand International Cooperative\n\n34444 Coastal Hwy. \n\nYork Beach Mall\n\nSouth Bethany\, DE 19944\n\n\n\nGallery One\n\n32 Atlantic Ave.\n\nOcean View\, DE 19970\n\n\n\nBethany Beach Books\n\n99 Garfield Parkway\n\nBethany Beach\, DE 19930\n\n\n\nBethany Beach Town Hall on the day of the tour only.  \n\n\nDay of Logistics: \n\nCome to Bethany Beach Town Hall at 214 Garfield Parkway\, Bethany Beach\, DE 19930 to purchase and/or pick up your booklet from 9 am to 1 pm. The booklet is your ticket and will grant you access to all locations.\n\n\n\nInformation Center contact information: www.ovhistoricalsociety.org
X-ALT-DESC;FMTTYPE=text/html:<span style="font-size: 14px\;"><span style="font-family: arial\;"><strong>Historic Cottages Tour</strong><br />\nThe Historical Coastal Towns invites you to join us for the fourth annual Historic Cottages Tour featuring Bethany Beach on Saturday\, October 9\, 2021 from 10 am to 4 pm. Historic Coastal Towns offer you a glimpse of earlier times in&nbsp\; Bethany Beach by touring&nbsp\;seven historic cottages.&nbsp\;<strong>Masks will be required for all attendees and masks will be available if you don&#39\;t have one.</strong><br />\n<br />\n<strong>Purchase Tickets:&nbsp\;</strong><br />\nTickets will go on sale June 9th\, 2021 for $25\,&nbsp\;and proceeds support the Coastal Towns Museum at 40 West Ave. in Ocean View.&nbsp\;&nbsp\;</span></span><br />\n<br />\n<strong><span style="color: rgb(51\, 51\, 51)\; font-family: arial\; font-size: 14px\; background-color: rgb(255\, 255\, 255)\;">Online from the Bethany-Fenwick Area Chamber of Commerce&nbsp\;</span><em style="color: rgb(51\, 51\, 51)\; font-family: arial\; font-size: 14px\; background-color: rgb(255\, 255\, 255)\;">click the green &quot\;Register Now&quot\; button above.&nbsp\;</em></strong><br />\n<br />\n<span style="font-size: 14px\;"><span style="font-family: arial\;">You can purchase your tickets in person after August 1\, 2021 at the following locations:</span></span>\n<div style="margin-left: 40px\;"><span style="font-size: 14px\;"><span style="font-family: arial\;">Made By Hand International Cooperative<br />\n34444 Coastal Hwy.&nbsp\;<br />\nYork Beach Mall<br />\nSouth Bethany\, DE 19944<br />\n<br />\nGallery One<br />\n32 Atlantic Ave.<br />\nOcean View\, DE 19970<br />\n<br />\nBethany Beach Books<br />\n99 Garfield Parkway<br />\nBethany Beach\, DE 19930<br />\n<br />\nBethany Beach&nbsp\;Town Hall <i>on the day of the tour only.&nbsp\;</i>&nbsp\;</span></span></div>\n<br />\n<span style="font-size: 14px\;"><span style="font-family: arial\;"><strong>Day of Logistics:&nbsp\;</strong><br />\nCome to Bethany Beach Town Hall at 214 Garfield Parkway\, Bethany Beach\, DE 19930 to purchase and/or pick up your booklet from 9 am to 1 pm. The booklet is your ticket and will grant you access to all locations.<br />\n<br />\nInformation Center contact information: <span style="margin: 0px\;"><span style="margin: 0px\; padding: 0in\; border: 1pt windowtext\; border-image: none\; line-height: 115%\;"><a href="http://www.ovhistoricalsociety.org/"><font color="#0000ff">www.ovhistoricalsociety.org</font></a></span></span></span></span><br />\n&nbsp\;
LOCATION:Tickets are picked up on the day of the tour at: Bethany Beach Town Hall 214 Garfield Parkway Bethany Beach\, DE 19930
UID:e.2126.22020
SEQUENCE:3
DTSTAMP:20260424T122551Z
URL:http://business.thequietresorts.com/events/details/2021-historic-cottages-tour-22020
END:VEVENT

END:VCALENDAR
