BEGIN:VCALENDAR
VERSION:2.0
PRODID:-//ChamberMaster//Event Calendar 2.0//EN
METHOD:PUBLISH
X-PUBLISHED-TTL:P3D
REFRESH-INTERVAL:P3D
CALSCALE:GREGORIAN
BEGIN:VEVENT
DTSTART;VALUE=DATE:20201214
DTEND;VALUE=DATE:20210128
TRANSP:TRANSPARENT
X-MICROSOFT-CDO-ALLDAYEVENT:TRUE
SUMMARY:2021 Discover the Quiet Resorts Guide & Map Ad Sales
DESCRIPTION:The Ultimate Information Source of The Quiet Resorts Area!\n\nThe Discover the Quiet Resorts Guide & Map is the only publication focused on southeastern Delaware. This annual publication features content and information for visitors and locals alike. \n\n\n\nAbout the Guide\n\n	30\,000 guides printed annually and only local publication distributed out of the market. \n	Includes a Business Directory listing of all Chamber members\n	All ads include a premium listing in the guide \n	Included inside: \n	\n		A perforated\, detailed map highlighting communities\, parks\, and roadways\n		Beach regulations\n		Rainy day guide\n		Visitors guide\n		State Parks highlight\n		New Visit Delaware Discoveries Art Trail coverage\n		Town information\n	\n	\n	Electronic version highlighted on thequietresorts.com all year long \n\n Distribution\n\n\n	107 locations in 6 states\n	Distributed in 34 Travel Centers throughout the Mid-Atlantic Region \n	Distributed in local businesses (Real Estate Agencies\, Accommodations\, Grocery Stores\, Gas Stations\, Etc.) \n	Distributed in the Chamber Information Center\n	Mailed nationwide to over 3\,000 + individuals upon request in 2019 (inquiries via phone\, email\, web\, advertising leads)\n	Distribution Date: April 2021 \n\n**Deadline to Reserve Ad Space: Tuesday\, January 19\, 2021\n\nAll ads are due to Melissa O'Brien by Wednesday\, January 27\, 2021.\n\nAds must meet the following requirements:\n\n\n	PDF Format\n	1/4" bleeds\n	300 PPI\n\nSend us your ad or have us create one for you for a fee of $50. The Chamber is offering three payment options:\n\n\n	Paid in full\n	Quarterly \n	Monthly\n\nCorporate Sponsors\n\nReserve your ad space now\, and it will be built into your corporate sponsorship. Select "invoice" at checkout. \n\n \n\n\nPlease do not delay in reserving your ad space!\n\np.p1 {margin: 0.0px 0.0px 0.0px 18.0px\; text-indent: -18.0px\; font: 11.0px 'Century Gothic'\; color: #1b4b77}\n\np.p1 {margin: 0.0px 0.0px 0.0px 0.0px\; font: 11.0px 'Century Gothic'}\n\np.p1 {margin: 0.0px 0.0px 0.0px 0.0px\; font: 11.0px 'Century Gothic'}\n\np.p1 {margin: 0.0px 0.0px 0.0px 0.0px\; font: 11.0px 'Century Gothic'}\n\np.p1 {margin: 0.0px 0.0px 0.0px 0.0px\; font: 11.0px 'Century Gothic'\; color: #01137b}
X-ALT-DESC;FMTTYPE=text/html:<span style="font-size:14px\;"><span style="font-family:arial\;"><strong>The Ultimate Information Source of The Quiet Resorts Area!</strong><br />\nThe <em>Discover the Quiet Resorts Guide &amp\; Map</em> is the only publication focused on southeastern Delaware. This annual publication features content and information for visitors and locals alike.&nbsp\;<br />\n<br />\n<strong>About the Guide</strong></span></span>\n<ul>\n	<li><span style="font-size:14px\;"><span style="font-family:arial\;">30\,000 guides printed annually and only local publication distributed out of the market.&nbsp\;</span></span></li>\n	<li><span style="font-size:14px\;"><span style="font-family:arial\;">Includes a Business Directory&nbsp\;listing of all Chamber members</span></span></li>\n	<li><span style="font-size:14px\;"><span style="font-family:arial\;">All ads include a premium listing in the guide&nbsp\;</span></span></li>\n	<li><span style="font-size:14px\;"><span style="font-family:arial\;">Included inside: </span></span>\n	<ul>\n		<li><span style="font-size:14px\;"><span style="font-family:arial\;">A perforated\, detailed map highlighting communities\, parks\, and roadways</span></span></li>\n		<li><span style="font-size:14px\;"><span style="font-family:arial\;">Beach regulations</span></span></li>\n		<li><span style="font-size:14px\;"><span style="font-family:arial\;">Rainy day guide</span></span></li>\n		<li><span style="font-size:14px\;">Visitors guide</span></li>\n		<li><span style="font-size:14px\;">State Parks highlight</span></li>\n		<li><span style="font-size:14px\;">New Visit Delaware Discoveries Art Trail coverage</span></li>\n		<li><span style="font-size:14px\;">Town information</span></li>\n	</ul>\n	</li>\n	<li><span style="font-size:14px\;"><span style="font-family:arial\;"><a href="https://thequietresorts.com/app/themes/evolution/chamber_flipbook" target="_blank">Electronic version</a> highlighted on <a href="https://thequietresorts.com/">thequietresorts.com</a> all year long&nbsp\;</span></span></li>\n</ul>\n<span style="font-size:14px\;"><span style="font-family:arial\;"> <strong>Distribution</strong></span></span>\n\n<ul>\n	<li><span style="font-size:14px\;"><span style="font-family:arial\;">107 locations in 6 states</span></span></li>\n	<li><span style="font-size:14px\;"><span style="font-family:arial\;">Distributed in 34 Travel Centers throughout the Mid-Atlantic Region&nbsp\;</span></span></li>\n	<li><span style="font-size:14px\;"><span style="font-family:arial\;">Distributed in local businesses (Real Estate Agencies\, Accommodations\, Grocery Stores\, Gas Stations\, Etc.)&nbsp\;</span></span></li>\n	<li><span style="font-size:14px\;"><span style="font-family:arial\;">Distributed in the Chamber Information Center</span></span></li>\n	<li><span style="font-size:14px\;"><span style="font-family:arial\;">Mailed nationwide to over 3\,000 + individuals upon request in 2019 (inquiries via phone\, email\, web\, advertising leads)</span></span></li>\n	<li><span style="font-size:14px\;"><span style="font-family:arial\;"><strong>Distribution Date: April 2021 </strong></span></span></li>\n</ul>\n<span style="font-size:14px\;"><span style="font-family:arial\;"><strong><span style="font-size:16px\;">**Deadline to Reserve Ad Space: Tuesday\, January 19\, 2021</span></strong></span></span><br />\n<span style="font-size:14px\;"><span style="font-family:arial\;">All ads are due to Melissa O&#39\;Brien by Wednesday\, January 27\, 2021.<br />\nAds must meet the following requirements:</span></span>\n\n<ul>\n	<li><span style="font-size:14px\;"><span style="font-family:arial\;">PDF Format</span></span></li>\n	<li><span style="font-size:14px\;"><span style="font-family:arial\;">1/4&quot\; bleeds</span></span></li>\n	<li><span style="font-size:14px\;"><span style="font-family:arial\;">300 PPI</span></span></li>\n</ul>\n<span style="font-size:14px\;"><span style="font-family:arial\;">Send us your ad or have us create one for you for a fee of $50.&nbsp\;</span><strong style="font-family: arial\; font-size: 14px\;">The Chamber is offering three payment options:</strong></span>\n\n<ul>\n	<li><span style="font-size:14px\;"><strong style="font-family: arial\; font-size: 14px\;">Paid in full</strong></span></li>\n	<li><span style="font-size:14px\;"><strong style="font-family: arial\; font-size: 14px\;">Quarterly&nbsp\;</strong></span></li>\n	<li><span style="font-size:14px\;"><strong style="font-family: arial\; font-size: 14px\;">Monthly</strong></span></li>\n</ul>\n<span style="font-size:14px\;"><span style="font-family:arial\;"><strong>Corporate Sponsors</strong><br />\nReserve your ad space now\, and it will be built into your corporate sponsorship. Select &quot\;invoice&quot\; at checkout.&nbsp\;</span></span><br />\n&nbsp\;\n<hr /><br />\n<span style="font-size:14px\;"><span style="font-family:arial\;"><em><strong>Please do not delay in reserving your ad space!</strong></em></span></span><br />\n<style type="text/css">p.p1 {margin: 0.0px 0.0px 0.0px 18.0px\; text-indent: -18.0px\; font: 11.0px 'Century Gothic'\; color: #1b4b77}\n</style>\n<style type="text/css">p.p1 {margin: 0.0px 0.0px 0.0px 0.0px\; font: 11.0px 'Century Gothic'}\n</style>\n<style type="text/css">p.p1 {margin: 0.0px 0.0px 0.0px 0.0px\; font: 11.0px 'Century Gothic'}\n</style>\n<style type="text/css">p.p1 {margin: 0.0px 0.0px 0.0px 0.0px\; font: 11.0px 'Century Gothic'}\n</style>\n<style type="text/css">p.p1 {margin: 0.0px 0.0px 0.0px 0.0px\; font: 11.0px 'Century Gothic'\; color: #01137b}\n</style>\n
LOCATION:
UID:e.2126.21840
SEQUENCE:3
DTSTAMP:20260425T032512Z
URL:http://business.thequietresorts.com/events/details/2021-discover-the-quiet-resorts-guide-map-ad-sales-21840
END:VEVENT

END:VCALENDAR
