BEGIN:VCALENDAR
VERSION:2.0
PRODID:-//ChamberMaster//Event Calendar 2.0//EN
METHOD:PUBLISH
X-PUBLISHED-TTL:P3D
REFRESH-INTERVAL:P3D
CALSCALE:GREGORIAN
BEGIN:VEVENT
DTSTART:20210414T110000Z
DTEND:20210414T230000Z
X-MICROSOFT-CDO-ALLDAYEVENT:FALSE
SUMMARY:2021 Coastal Sussex Career & Job Fair
DESCRIPTION:The 2021 Coastal Sussex Career & Job Fair hosted by the Bethany-Fenwick Area Chamber of Commerce will be held virtually on April 14\, 2021\, from 7:00am to 7:00pm.\n\n\n\nThe 2021 Coastal Sussex Career & Job Fair seeks to connect job candidates interested in seasonal and part-time jobs\, volunteer and internship opportunities\, or full-time careers with the Coastal Sussex business community. Whether you are a high-school or college student looking for seasonal and part-time jobs\, semi-retired or retired adults looking for part-time employment\, or seeking full-time career opportunities in Coastal Sussex County Delaware\, register now !  Registration is FREE!\n\n\n\nConnect with over 30 local employers seeking  to fill seasonal\, part-time\, and full-time positions!  Candidates can register here beginning April 1\, 2020. \n\n\n\nParticipating Businesses\n\n	\n		\n		\n	\n	\n		\n			Addy Sea Bed & Breakfast\n			Japanesque\n		\n		\n			Bayside Resort & Golf Club\n			 \n		\n		\n			Best Aquatic\n			Middlesex Beach Association\n		\n		\n			Bethany Blues\n			Millville Boardwalk/Agape Creamery\n		\n		\n			Bethany Fitness\n			Ocean Area Tire\n		\n		\n			Big Fish Restaurant Group\n			Off the Hook Restaurant Group\n		\n		\n			Brandywine Senior Living\n			Royal Lawn Care\n		\n		\n			 \n			Schagrin Gas\n		\n		\n			Candy Kitchen\n			Sea Colony Recreation Association\n		\n		\n			CarQuest Auto Parts & Supplies\n			Seaside Plumbing Inc\n		\n		\n			Coastal Kayak\n			Shipwrecked\n		\n		\n			Coastal Point\n			 \n		\n		\n			Continental Pools\n			Su Casa\n		\n		\n			Craftbox - S.T.E.A.M\n			Sussex County Association of Realtors\n		\n		\n			Delaware Botanic Gardens\n			Tangerine Goods\n		\n		\n			Fells Point Surf Co\n			The Bethany Boathouse\n		\n		\n			 \n			The Cottage Cafe\n		\n		\n			Fulton Bank\n			The Salted Rim\n		\n		\n			Gale Force Rentals\n			Vacasa Vacation Rentals\n		\n		\n			Grotto Pizza\n			WSFS\n		\n		\n			 \n			 \n		\n	\n\n\n\n\n\nCandidates will be able to learn open postions\, and apply on line\, upload resume's and complete applications on-line. Video and text chat will be available with employers during predetermined hours.\n\n\n\nView this video\, to see how it works here
X-ALT-DESC;FMTTYPE=text/html:<br />\n<span style="font-family:arial\;">The 2021 Coastal Sussex Career &amp\; Job Fair hosted by the Bethany-Fenwick Area Chamber of Commerce will be held virtually on April 14\, 2021\, from 7:00am to 7:00pm.</span><br />\n<br />\nThe 2021 Coastal Sussex Career &amp\; Job Fair seeks to connect job candidates interested in seasonal and part-time jobs\, volunteer and internship opportunities\, or full-time careers with the Coastal Sussex business community. Whether you are a high-school or college student looking for seasonal and part-time jobs\, semi-retired or retired adults looking for part-time employment\, or seeking full-time career opportunities in Coastal Sussex County Delaware\, register now !&nbsp\; Registration is FREE!<br />\n<br />\nConnect with over 30 local employers seeking&nbsp\; to fill seasonal\, part-time\, and full-time positions!&nbsp\; Candidates can register <a href="https://coastalsussex.easyvirtualfair.com/" target="_blank"><strong>here</strong></a> beginning April 1\, 2020.&nbsp\;<br />\n<br />\nParticipating Businesses\n<table border="0" cellpadding="0" cellspacing="0" style="border-collapse:collapse\;width:828px\;" width="828">\n	<colgroup>\n		<col style="width:453px\;" />\n		<col style="width:374px\;" />\n	</colgroup>\n	<tbody>\n		<tr height="21" style="height:21px\;">\n			<td addy="" bed="" data-sheets-value="{" height="21" sea="" style="height:21px\;width:453px\;">Addy Sea Bed &amp\; Breakfast</td>\n			<td data-sheets-value="{" style="border-left:none\;width:374px\;">Japanesque</td>\n		</tr>\n		<tr height="21" style="height:21px\;">\n			<td bayside="" data-sheets-value="{" golf="" height="21" resort="" style="height:21px\;width:453px\;">Bayside Resort &amp\; Golf Club</td>\n			<td data-sheets-value="{" s="" style="border-left:none\;width:374px\;" td="" valet="">&nbsp\;</td>\n		</tr>\n		<tr height="21" style="height:21px\;">\n			<td best="" data-sheets-value="{" height="21" style="height:21px\;width:453px\;">Best Aquatic</td>\n			<td beach="" data-sheets-value="{" middlesex="" style="border-left:none\;width:374px\;">Middlesex Beach Association</td>\n		</tr>\n		<tr height="21" style="height:21px\;">\n			<td bethany="" data-sheets-value="{" height="21" style="height:21px\;width:453px\;">Bethany Blues</td>\n			<td agape="" boardwalk="" data-sheets-value="{" millville="" style="border-left:none\;width:374px\;">Millville Boardwalk/Agape Creamery</td>\n		</tr>\n		<tr height="21" style="height:21px\;">\n			<td bethany="" data-sheets-value="{" height="21" style="height:21px\;width:453px\;">Bethany Fitness</td>\n			<td area="" data-sheets-value="{" ocean="" style="border-left:none\;width:374px\;">Ocean Area Tire</td>\n		</tr>\n		<tr height="21" style="height:21px\;">\n			<td big="" data-sheets-value="{" fish="" height="21" restaurant="" style="height:21px\;width:453px\;">Big Fish Restaurant Group</td>\n			<td data-sheets-value="{" hook="" off="" restaurant="" style="border-left:none\;width:374px\;" the="">Off the Hook Restaurant Group</td>\n		</tr>\n		<tr height="21" style="height:21px\;">\n			<td brandywine="" data-sheets-value="{" height="21" senior="" style="height:21px\;width:453px\;">Brandywine Senior Living</td>\n			<td data-sheets-value="{" lawn="" royal="" style="border-left:none\;width:374px\;">Royal Lawn Care</td>\n		</tr>\n		<tr height="21" style="height:21px\;">\n			<td carpet="" data-sheets-value="{" height="21" s="" style="height:21px\;width:453px\;" td="">&nbsp\;</td>\n			<td data-sheets-value="{" schagrin="" style="border-left:none\;width:374px\;">Schagrin Gas</td>\n		</tr>\n		<tr height="21" style="height:21px\;">\n			<td candy="" data-sheets-value="{" height="21" style="height:21px\;width:453px\;">Candy Kitchen</td>\n			<td colony="" data-sheets-value="{" recreation="" sea="" style="border-left:none\;width:374px\;">Sea Colony Recreation Association</td>\n		</tr>\n		<tr height="21" style="height:21px\;">\n			<td auto="" carquest="" data-sheets-value="{" height="21" parts="" style="height:21px\;width:453px\;">CarQuest Auto Parts &amp\; Supplies</td>\n			<td data-sheets-value="{" plumbing="" seaside="" style="border-left:none\;width:374px\;">Seaside Plumbing Inc</td>\n		</tr>\n		<tr height="21" style="height:21px\;">\n			<td coastal="" data-sheets-value="{" height="21" style="height:21px\;width:453px\;">Coastal Kayak</td>\n			<td data-sheets-value="{" style="border-left:none\;width:374px\;">Shipwrecked</td>\n		</tr>\n		<tr height="21" style="height:21px\;">\n			<td coastal="" data-sheets-value="{" height="21" style="height:21px\;width:453px\;">Coastal Point</td>\n			<td data-sheets-value="{" smitty="" style="border-left:none\;width:374px\;" td="">&nbsp\;</td>\n		</tr>\n		<tr height="21" style="height:21px\;">\n			<td continental="" data-sheets-value="{" height="21" style="height:21px\;width:453px\;">Continental Pools</td>\n			<td data-sheets-value="{" style="border-left:none\;width:374px\;" su="">Su Casa</td>\n		</tr>\n		<tr height="21" style="height:21px\;">\n			<td -="" craftbox="" data-sheets-value="{" height="21" style="height:21px\;width:453px\;">Craftbox - S.T.E.A.M</td>\n			<td association="" county="" data-sheets-value="{" of="" style="border-left:none\;width:374px\;" sussex="">Sussex County Association of Realtors</td>\n		</tr>\n		<tr height="21" style="height:21px\;">\n			<td botanic="" data-sheets-value="{" delaware="" height="21" style="height:21px\;width:453px\;">Delaware Botanic Gardens</td>\n			<td data-sheets-value="{" style="border-left:none\;width:374px\;" tangerine="">Tangerine Goods</td>\n		</tr>\n		<tr height="21" style="height:21px\;">\n			<td data-sheets-value="{" fells="" height="21" point="" style="height:21px\;width:453px\;" surf="">Fells Point Surf Co</td>\n			<td bethany="" data-sheets-value="{" style="border-left:none\;width:374px\;" the="">The Bethany Boathouse</td>\n		</tr>\n		<tr height="21" style="height:21px\;">\n			<td data-sheets-value="{" height="21" s="" style="height:21px\;width:453px\;" td="">&nbsp\;</td>\n			<td cottage="" data-sheets-value="{" style="border-left:none\;width:374px\;" the="">The Cottage Cafe</td>\n		</tr>\n		<tr height="21" style="height:21px\;">\n			<td data-sheets-value="{" fulton="" height="21" style="height:21px\;width:453px\;">Fulton Bank</td>\n			<td data-sheets-value="{" salted="" style="border-left:none\;width:374px\;" the="">The Salted Rim</td>\n		</tr>\n		<tr height="21" style="height:21px\;">\n			<td data-sheets-value="{" force="" gale="" height="21" style="height:21px\;width:453px\;">Gale Force Rentals</td>\n			<td data-sheets-value="{" style="border-left:none\;width:374px\;" vacasa="" vacation="">Vacasa Vacation Rentals</td>\n		</tr>\n		<tr height="21" style="height:21px\;">\n			<td data-sheets-value="{" grotto="" height="21" style="height:21px\;width:453px\;">Grotto Pizza</td>\n			<td data-sheets-value="{" style="border-left:none\;width:374px\;">WSFS</td>\n		</tr>\n		<tr height="21" style="height:21px\;">\n			<td data-sheets-value="{" harpoon="" height="21" style="height:21px\;width:453px\;" td="">&nbsp\;</td>\n			<td>&nbsp\;</td>\n		</tr>\n	</tbody>\n</table>\n<br />\n<br />\nCandidates will be able to learn open postions\, and apply on line\, upload resume&#39\;s and complete applications on-line. Video and text chat will be available with employers during predetermined hours.<br />\n<br />\nView this video\, to see how it works<a href="https://vimeo.com/356018259" target="_blank"><strong> here</strong></a><br />\n<span style="font-family:arial\;">&nbsp\;</span><br />\n<br />\n&nbsp\;<br />\n<span style="font-size:14px\;"><span style="font-family:arial\;">&nbsp\;</span></span>
LOCATION:Virtual
UID:e.2126.21910
SEQUENCE:3
DTSTAMP:20260424T223013Z
URL:http://business.thequietresorts.com/events/details/2021-coastal-sussex-career-job-fair-21910
END:VEVENT

END:VCALENDAR
