BEGIN:VCALENDAR
VERSION:2.0
PRODID:-//ChamberMaster//Event Calendar 2.0//EN
METHOD:PUBLISH
X-PUBLISHED-TTL:P3D
REFRESH-INTERVAL:P3D
CALSCALE:GREGORIAN
BEGIN:VEVENT
DTSTART;VALUE=DATE:20191201
DTEND;VALUE=DATE:20191225
TRANSP:TRANSPARENT
X-MICROSOFT-CDO-ALLDAYEVENT:TRUE
SUMMARY:2019 Calendar Raffle
DESCRIPTION:Southern Delaware Therapeutic Riding fund raising event. Daily raffle drawing each day from December 1 thru December 24 worth at least $150.00 Prizes include gift certificates to great local restaurants and shops\, amusements\, fishing & golf outings . Plus jewelry\, outdoor furnishings\, a Yeti cooler and a Surface Pro Tickets are just $20 each 3 for $50 or 5 for $75 Purchase online at sdtrhr.com or call: 302-644-1920
X-ALT-DESC;FMTTYPE=text/html:<span style="font-size: 14px\;"><span style="font-family: arial\;">Southern Delaware Therapeutic Riding fund raising event. Daily raffle drawing each day from December 1 thru December 24 worth at least $150.00 Prizes include gift certificates to great local restaurants and shops\, amusements\, fishing &amp\; golf outings . Plus jewelry\, outdoor furnishings\, a Yeti cooler and a Surface Pro Tickets are just $20 each 3 for $50 or 5 for $75 Purchase online at sdtrhr.com or call: 302-644-1920</span></span>
LOCATION:
UID:e.2126.19452
SEQUENCE:3
DTSTAMP:20260426T034400Z
URL:http://business.thequietresorts.com/events/details/2019-calendar-raffle-19452
END:VEVENT

END:VCALENDAR
