BEGIN:VCALENDAR
VERSION:2.0
PRODID:-//ChamberMaster//Event Calendar 2.0//EN
METHOD:PUBLISH
X-PUBLISHED-TTL:P3D
REFRESH-INTERVAL:P3D
CALSCALE:GREGORIAN
BEGIN:VEVENT
DTSTART:20230310T163000Z
DTEND:20230320T020000Z
X-MICROSOFT-CDO-ALLDAYEVENT:FALSE
SUMMARY:2 St. Pat's WEEKENDS at The Salted Rim Margarita Bar & Grille
DESCRIPTION:"THE" Place to be for ST. PAT'S\n\n2 GIANT Party Weekends  \n\nAll Day & Night\n\n\n\nOC PARADE WEEKEND\n\nFriday 3/10\n\nSaturday 3/11 \n\nSunday 3/12\n\n&\n\nSt. Pat's Weekend\n\nFriday 3/17\n\nSaturday 3/18\n\nSunday 3/19\n\n\n\nEntertainment\n\nOC Parade Weekend\n\nFriday 3/10   Dustin Showers 8-11\n\nSaturday 3/11   DJ Rupe 12-and Lauren Glick Trio 7-10\n\nWatch us in the OC Parade on Saturday then come party at The Salted Rim\n\nSunday 3/12   Danny Dolan Duo 3-6\n\n\n\nSt. Pat's Weekend\n\nFriday 3/17 - Locals Blow Out   DJ Rupe 12-6 & DJ Denny 6-12\n\nSaturday 3/18   DJ Rupe 12-6 & DJ Denny 6-12\n\nSunday 3/19   Darren O'Neill 3-6\n\n\n\nFood Specials\n\nCorned Beef & Cabbage\n\nCorned Beef Reuben\n\nIrish Stew\n\n\, Shepard's Pie\n\nBangers & Mash\n\nFish & Chips\n\nWhile They Last!!\n\n\n\nDrink Specials\n\nGreen Draft\n\nGreen Margaritas\n\nGuinness\n\nJello Shooters\n\nPickle Shots\n\nCar Bombs\n\nIrish Coffee\n\nGreen Shooters\n\n\n\nCOME GET YOUR IRISH ON!!!\n\n\n\n* Happy Hour NOT available during St. Pat's Event Days *
X-ALT-DESC;FMTTYPE=text/html:<div style="text-align:center"><span style="font-family:comic sans ms"><span style="font-size:20px"><span style="color:rgb(0\, 204\, 51)"><strong>&quot\;THE&quot\; Place to be for ST. PAT&#39\;S<br />\n2 GIANT Party Weekends&nbsp\;</strong></span>&nbsp\;</span></span></div>\n\n<div style="text-align:center"><span style="font-family:arial"><span style="font-size:14px">All Day &amp\; Night<br />\n<br />\n<span style="font-family:verdana"><span style="color:#008000"><em><strong>OC PARADE WEEKEND</strong></em></span></span><br />\n<span style="color:#FF8C00"><em><strong>Friday 3/10<br />\nSaturday 3/11&nbsp\;<br />\nSunday 3/12<br />\n&amp\;</strong></em></span><br />\n<span style="font-family:verdana"><span style="color:#008000"><em><strong>St. Pat&#39\;s Weekend</strong></em></span></span><br />\n<span style="color:#FF8C00"><em><strong>Friday 3/17<br />\nSaturday 3/18<br />\nSunday 3/19</strong></em></span><br />\n<br />\n<span style="color:#008000"><em><strong>Entertainment</strong></em></span></span></span></div>\n\n<div><span style="font-family:arial"><span style="font-size:14px"><span style="color:#008000"><em><strong><span style="font-family:comic sans ms">OC Parade Weekend</span></strong></em></span></span></span></div>\n\n<div><strong>Friday 3/10</strong><span style="font-family:arial\; font-size:14px">&nbsp\;&bull\; Dustin Showers 8-11</span><br />\n<strong>Saturday 3/11</strong><span style="font-family:arial\; font-size:14px">&nbsp\;&bull\; DJ Rupe 12-and Lauren Glick Trio 7-10</span><br />\n<span style="font-family:arial\; font-size:12px">Watch us in the OC Parade on Saturday then come party at The Salted Rim</span><br />\n<strong>Sunday 3/12</strong><span style="font-family:arial\; font-size:14px">&nbsp\;&bull\; Danny Dolan Duo 3-6</span><br />\n<br />\n<strong><span style="font-size:14px"><span style="font-family:comic sans ms"><span style="color:#008000">St. Pat&#39\;s Weekend</span></span></span><br />\nFriday 3/17</strong><span style="font-family:arial\; font-size:14px"> - </span><strong><span style="color:#008000"><em>Locals Blow Out</em></span></strong><span style="font-family:arial\; font-size:14px"> &bull\; DJ Rupe 12-6 &amp\; DJ Denny 6-12<br />\n<strong>Saturday 3/18</strong> &bull\; DJ Rupe 12-6 &amp\; DJ Denny 6-12<br />\n<strong>Sunday 3/19</strong> &bull\; Darren O&#39\;Neill 3-6</span></div>\n\n<div style="text-align:center"><br />\n<span style="font-family:arial"><span style="font-size:14px"><span style="color:#006400"><em><strong>Food Specials</strong></em></span></span></span><br />\nCorned Beef &amp\; Cabbage<br />\nCorned Beef Reuben<br />\nIrish Stew<br />\n\, Shepard&#39\;s Pie<br />\nBangers &amp\; Mash<br />\n<span style="font-family:arial\; font-size:14px">Fish &amp\; Chips</span><br />\n<span style="font-family:arial\; font-size:11px">While They Last!!</span></div>\n\n<div style="text-align:center"><br />\n<span style="font-size:14px"><strong><span style="color:#006400"><em>Drink Specials</em></span></strong></span><br />\n<span style="color:rgb(0\, 0\, 0)\; font-family:arial\; font-size:14px">Green Draft</span><br />\n<span style="font-family:arial\; font-size:14px">Green Margaritas</span><br />\n<span style="color:rgb(0\, 0\, 0)\; font-family:arial\; font-size:14px">Guinness</span><br />\n<span style="color:rgb(0\, 0\, 0)\; font-family:arial\; font-size:14px">Jello Shooters</span><br />\n<span style="color:rgb(0\, 0\, 0)\; font-family:arial\; font-size:14px">Pickle Shots</span><br />\n<span style="color:rgb(0\, 0\, 0)\; font-family:arial\; font-size:14px">Car Bombs</span><br />\n<span style="color:rgb(0\, 0\, 0)\; font-family:arial\; font-size:14px">Irish Coffee</span><br />\n<span style="color:rgb(0\, 0\, 0)\; font-family:arial\; font-size:14px">Green Shooters</span></div>\n\n<div style="text-align:center"><br />\n<span style="font-family:arial"><span style="font-size:14px"><span style="color:#FF8C00"><em><strong><span style="font-size:16px">COME GET YOUR IRISH ON!!!</span></strong></em></span><br />\n<br />\n<span style="color:#000000"><em><strong><span style="font-size:16px"><span style="font-size:12px">* Happy Hour NOT available during St. Pat&#39\;s Event Days *</span></span></strong></em></span></span></span></div>\n
LOCATION:The Salted Rim Margarita Bar & Grille 35553 Atlantic Avenue Millville\, DE 19967
UID:e.2126.25216
SEQUENCE:3
DTSTAMP:20260421T060358Z
URL:http://business.thequietresorts.com/events/details/2-st-pat-s-weekends-at-the-salted-rim-margarita-bar-grille-25216
END:VEVENT

END:VCALENDAR
