BEGIN:VCALENDAR
VERSION:2.0
PRODID:-//ChamberMaster//Event Calendar 2.0//EN
METHOD:PUBLISH
X-PUBLISHED-TTL:P3D
REFRESH-INTERVAL:P3D
CALSCALE:GREGORIAN
BEGIN:VEVENT
DTSTART;VALUE=DATE:20231115
DTEND;VALUE=DATE:20231219
TRANSP:TRANSPARENT
X-MICROSOFT-CDO-ALLDAYEVENT:TRUE
SUMMARY:2.3 for 23 Food Drive with Pro Exteriors
DESCRIPTION:Join us in our "2.3 for 23" Food Drive!\n\n\n\nOur goal is to raise 2.3 tons of food by December 18th\, and we NEED your help!\n\n\n\nItems to consider donating:\n\n	canned fuits & vegetables\n	hot & cold cereals\n	dessert items\n	condiments\n	side dishes\n	beverages\n	canned meats\n	canned or dried beans\n	grains\n	peanut butter\n	healthy snack\n	evaporated milk\n\nDrop off locations:\n\n\n	Lansing Salisbury\n	Expert Wire\n	Pro Exteriors\n\nYour contribution can bring warmth and nourishment to those who need it most. Help us achieve "2.3 for 23" and support the Food Bank of Delaware.\n\n\n\nTogether\, we can make a real impact this holiday season!
X-ALT-DESC;FMTTYPE=text/html:Join us in our &quot\;2.3 for 23&quot\; Food Drive!<br />\n<br />\nOur goal is to raise 2.3 tons of food by December 18th\, and we NEED your help!<br />\n<br />\nItems to consider donating:\n<ul>\n	<li>canned fuits &amp\; vegetables</li>\n	<li>hot &amp\; cold cereals</li>\n	<li>dessert items</li>\n	<li>condiments</li>\n	<li>side dishes</li>\n	<li>beverages</li>\n	<li>canned meats</li>\n	<li>canned or dried beans</li>\n	<li>grains</li>\n	<li>peanut butter</li>\n	<li>healthy snack</li>\n	<li>evaporated milk</li>\n</ul>\nDrop off locations:\n\n<ul>\n	<li>Lansing Salisbury</li>\n	<li>Expert Wire</li>\n	<li>Pro Exteriors</li>\n</ul>\nYour contribution can bring warmth and nourishment to those who need it most. Help us achieve &quot\;2.3 for 23&quot\; and support the Food Bank of Delaware.<br />\n<br />\nTogether\, we can make a real impact this holiday season!
LOCATION:Pro Exteriors 221 Milton Ellendale Hwy. Milton\, DE 19968
UID:e.2126.27165
SEQUENCE:3
DTSTAMP:20260420T152120Z
URL:http://business.thequietresorts.com/events/details/2-3-for-23-food-drive-with-pro-exteriors-27165
END:VEVENT

END:VCALENDAR
