BEGIN:VCALENDAR
VERSION:2.0
PRODID:-//ChamberMaster//Event Calendar 2.0//EN
METHOD:PUBLISH
X-PUBLISHED-TTL:P3D
REFRESH-INTERVAL:P3D
CALSCALE:GREGORIAN
BEGIN:VEVENT
DTSTART:20230525T160000Z
DTEND:20230525T173000Z
X-MICROSOFT-CDO-ALLDAYEVENT:FALSE
SUMMARY:1st Choice Properties New Location Grand Opening & Ribbon Cutting
DESCRIPTION:Join the Chamber staff in celebrating the Grand Opening of 1st Choice Properties new location in Bear Trap Dunes with a ribbon cutting on Thursday\, May 25\, 2023!  The celebration begins at 12:00pm\, with the ribbon to be cut at 1:00pm.  Refreshments will be provided and a golf themed gift basket will be raffled off!
X-ALT-DESC;FMTTYPE=text/html:<span style="color: rgb(51\, 51\, 51)\; font-family: sans-serif\, Arial\, Verdana\, &quot\;Trebuchet MS&quot\;\; font-size: 13px\; background-color: rgb(255\, 255\, 255)\;">Join the Chamber staff in celebrating the Grand Opening of 1st Choice Properties new location in Bear Trap Dunes with a ribbon cutting on Thursday\, May 25\, 2023!&nbsp\; The celebration begins at 12:00pm\, with the ribbon to be cut at 1:00pm.&nbsp\; Refreshments will be provided and a golf themed gift basket will be raffled off!</span><br />\n&nbsp\;
LOCATION:1st Choice Properties - Bear Trap Dunes 24 Village Green Drive\, Suite 101 Ocean View DE 19970
UID:e.2126.25556
SEQUENCE:3
DTSTAMP:20260421T024323Z
URL:http://business.thequietresorts.com/events/details/1st-choice-properties-new-location-grand-opening-ribbon-cutting-25556
END:VEVENT

END:VCALENDAR
