BEGIN:VCALENDAR
VERSION:2.0
PRODID:-//ChamberMaster//Event Calendar 2.0//EN
METHOD:PUBLISH
X-PUBLISHED-TTL:P3D
REFRESH-INTERVAL:P3D
CALSCALE:GREGORIAN
BEGIN:VEVENT
DTSTART:20200731T000000Z
DTEND:20200731T020000Z
X-MICROSOFT-CDO-ALLDAYEVENT:FALSE
SUMMARY:19th Street Band
DESCRIPTION:Characterized by high energy and strong vocal harmonies\, The 19th Street Band bridges the musical traditions of bluegrass and roots from Ireland to the Appalachia with their eclectic gypsy-rock spirit literally leaping from the stage and engaging every crowd. The charismatic vibe that Caolaidhe Davis (guitar player and vocalist) blends with fiddle/mandolin player\, vocalist (and wife)\, Meghan\, creates a joy-filled chemistry that no crowd can resist. Add to the mix the talented rhythm section\, Greg Hardin (bass) & Patty Dougherty (drums)\, and this band will have every crowd addicted. The band's second album\, "Diamond in the Rough\," is due to be released in August and includes three songs that were co-written by Philip Donnelly and John Prine.
X-ALT-DESC;FMTTYPE=text/html:<span style="font-size: 14px\;"><span style="font-family: arial\;">Characterized by high energy and strong vocal harmonies\, The 19th Street Band bridges the musical traditions of bluegrass and roots from Ireland to the Appalachia with their eclectic gypsy-rock spirit literally leaping from the stage and engaging every crowd. The charismatic vibe that Caolaidhe Davis (guitar player and vocalist) blends with fiddle/mandolin player\, vocalist (and wife)\, Meghan\, creates a joy-filled chemistry that no crowd can resist. Add to the mix the talented rhythm section\, Greg Hardin (bass) &amp\; Patty Dougherty (drums)\, and this band will have every crowd addicted. The band&rsquo\;s second album\, &quot\;Diamond in the Rough\,&quot\; is due to be released in August and includes three songs that were co-written by Philip Donnelly and John Prine.</span></span>
LOCATION:The Freeman Stage 31750 Lake View Drive Selbyville\, DE 19975
UID:e.2126.21701
SEQUENCE:3
DTSTAMP:20260425T163233Z
URL:http://business.thequietresorts.com/events/details/19th-street-band-07-30-2020-21701
END:VEVENT

END:VCALENDAR
