BEGIN:VCALENDAR
VERSION:2.0
PRODID:-//ChamberMaster//Event Calendar 2.0//EN
METHOD:PUBLISH
X-PUBLISHED-TTL:P3D
REFRESH-INTERVAL:P3D
CALSCALE:GREGORIAN
BEGIN:VEVENT
DTSTART:20200308T190000Z
DTEND:20200308T210000Z
X-MICROSOFT-CDO-ALLDAYEVENT:FALSE
SUMMARY:19th Amendment Celebration March
DESCRIPTION:To celebrate International Women's Day and the Centennial of the 19th Amendment ratification\, The Freeman Stage will host a celebratory march in Georgetown to honor all women. This free event is open to the public (adults and children) and will commemorate the suffragettes who marched for women to have the right to vote. Join us in the fun and wear the colors of the suffragettes: white\, purple and yellow. Feel free to make your own sign to carry in the march! Stickers and sashes will be made available.
X-ALT-DESC;FMTTYPE=text/html:<span style="font-size:14px\;"><span style="font-family:arial\;">To celebrate International Women&rsquo\;s Day and the Centennial of the 19th Amendment ratification\, The Freeman Stage will host a celebratory march in Georgetown to honor all women. This free event is open to the public (adults and children) and will commemorate the suffragettes who marched for women to have the right to vote. Join us in the fun and wear the colors of the suffragettes: white\, purple and yellow. Feel free to make your own sign to carry in the march! Stickers and sashes will be made available.</span></span>
LOCATION:The Circle\, Georgetown DE 19947
UID:e.2126.20158
SEQUENCE:3
DTSTAMP:20260425T224947Z
URL:http://business.thequietresorts.com/events/details/19th-amendment-celebration-march-20158
END:VEVENT

END:VCALENDAR
