BEGIN:VCALENDAR
VERSION:2.0
PRODID:-//ChamberMaster//Event Calendar 2.0//EN
METHOD:PUBLISH
X-PUBLISHED-TTL:P3D
REFRESH-INTERVAL:P3D
CALSCALE:GREGORIAN
BEGIN:VEVENT
DTSTART:20240215T150000Z
DTEND:20240216T220000Z
X-MICROSOFT-CDO-ALLDAYEVENT:FALSE
SUMMARY:18th Century Trade Sign Workshop at Lewes Historical Society
DESCRIPTION:The Lewes Historical Society has partnered with artist Brandyn Charlton to conduct a class on designing and rendering an 18th - century trade sign.\n\n\n\nThe day-long workshop will include the creation and painting of a 16 by 24-inch sign for each attendee. Each sign will be completed on a flat wooden board. All necessary materials will be available at the class and included in the $140 fee\, ($115 for LHS Members). \n\n\n\nParticipants are encouraged to choose from one of three historical designs on which to base their own custom sign. Registrants will be contacted by email to provide their design choice before the class.\n\n\n\nSpace is limited so early registration is encouraged. Each participant should bring lunch with them.\n\n\n\nTo register go to historiclewes.org/events or call 302.645.7670.
X-ALT-DESC;FMTTYPE=text/html:<span style="font-family:times new roman\;"><span style="font-size:14px\;"><strong><span style="line-height: 107%\; color: black\; background-image: initial\; background-position: initial\; background-size: initial\; background-repeat: initial\; background-attachment: initial\; background-origin: initial\; background-clip: initial\; font-weight: normal\;">The Lewes Historical Society has partnered with artist Brandyn Charlton to conduct a class on designing and rendering an 18<sup>th </sup>- century trade sign.</span><br />\n<br />\n<span style="background-image:initial\;background-position:initial\;background-size:initial\;background-repeat:initial\;background-attachment:initial\;background-origin:initial\;background-clip:initial\;font-weight:normal\;"><span style="color:black\;">The day-long workshop will include the creation and painting of a 16 by 24-inch sign for each attendee. Each sign will be completed on a flat wooden board. All necessary materials will be available at the class and included in the $140 fee\, ($115 for LHS Members). </span></span></strong><br />\n<br />\n<span style="background-image:initial\;background-position:initial\;background-size:initial\;background-repeat:initial\;background-attachment:initial\;background-origin:initial\;background-clip:initial\;"><span style="color:black\;">Participants are encouraged to choose from one of three historical designs on which to base their own custom sign. Registrants will be contacted by email to provide their design choice before the class.</span></span><br />\n<br />\n<span style="background-image:initial\;background-position:initial\;background-size:initial\;background-repeat:initial\;background-attachment:initial\;background-origin:initial\;background-clip:initial\;"><span style="color:black\;">Space is limited so early registration is encouraged. Each participant should bring lunch with them.<br />\n<br />\nTo register go to historiclewes.org/events or call 302.645.7670.</span></span></span></span>
LOCATION:Lewes Historical Society 110 Shipcarpenter St. Lewes\, DE 19958
UID:e.2126.27763
SEQUENCE:3
DTSTAMP:20260420T112507Z
URL:http://business.thequietresorts.com/events/details/18th-century-trade-sign-workshop-at-lewes-historical-society-27763
END:VEVENT

END:VCALENDAR
