BEGIN:VCALENDAR
VERSION:2.0
PRODID:-//ChamberMaster//Event Calendar 2.0//EN
METHOD:PUBLISH
X-PUBLISHED-TTL:P3D
REFRESH-INTERVAL:P3D
CALSCALE:GREGORIAN
BEGIN:VEVENT
DTSTART:20191201T140000Z
DTEND:20191201T160000Z
X-MICROSOFT-CDO-ALLDAYEVENT:FALSE
SUMMARY:17th Annual Turkey Trot at Sea Colony
DESCRIPTION:Work off that extra Thanksgiving weight and help support local athletes at the same time!\n\n\n\nRun\, Walk or Sponsor\n\nSea Colony staff is hosting the 17th annual Turkey Trot to benefit Special Olympics Delaware (SODE)\, a not-for-profit\, volunteer organization offering athletes with intellectual disabilities the opportunity to participate in 16 different sports.\n\nSea Colony has helped raise roughly $12\,000 from the Turkey Trot over the last several events and helped purchase new uniforms\, training and equipment for local Special Olympics. With your help\, we can bring their athletic dreams of competing come to life!
X-ALT-DESC;FMTTYPE=text/html:<h1><span style="font-size: 16px\;"><span style="font-family: arial\;"><strong>Work off that extra Thanksgiving weight and help support local athletes at the same time!</strong></span></span></h1>\n\n<div style="background: 0px 0px\; padding: 0px\; border: 0px currentColor\; border-image: none\;">\n<hr />\n<h2><span style="font-family: arial\;"><strong><span style="font-size: 14px\;"><span style="color: rgb(0\, 0\, 0)\;">Run\, Walk or Sponsor</span></span></strong></span></h2>\n\n<p><span style="font-family: arial\;"><span style="color: rgb(0\, 0\, 0)\;">Sea Colony staff is hosting the <strong>17th annual Turkey Trot&nbsp\;to benefit Special Olympics Delaware</strong> (SODE)\, a not-for-profit\, volunteer organization offering athletes with&nbsp\;intellectual disabilities the opportunity to participate in&nbsp\;16 different sports.<br />\nSea Colony has helped raise roughly $12\,000 from the Turkey Trot over the last several events and helped purchase new uniforms\, training and equipment for local Special Olympics. With your help\, we can bring their athletic dreams of competing come to life!</span></span></p>\n</div>\n
LOCATION:Freeman Fitness Center located 1 mile west of Rt. 1 & Sea Colony Marketplace 38994 West Way Drive in Bethany Beach\, DE.
UID:e.2126.19440
SEQUENCE:3
DTSTAMP:20260426T034533Z
URL:http://business.thequietresorts.com/events/details/17th-annual-turkey-trot-at-sea-colony-19440
END:VEVENT

END:VCALENDAR
