BEGIN:VCALENDAR
VERSION:2.0
PRODID:-//ChamberMaster//Event Calendar 2.0//EN
METHOD:PUBLISH
X-PUBLISHED-TTL:P3D
REFRESH-INTERVAL:P3D
CALSCALE:GREGORIAN
BEGIN:VEVENT
DTSTART:20230603T140000Z
DTEND:20230603T203000Z
X-MICROSOFT-CDO-ALLDAYEVENT:FALSE
SUMMARY:17th Annual Seaside Craft Show
DESCRIPTION:Experience an array of vendors in this juried fine craft show sponsored by the Bethany Beach Cultural and Historical Affairs Committee.
X-ALT-DESC;FMTTYPE=text/html:<span style="font-size:14px\;"><span style="font-family:arial\;">Experience an array of vendors in this juried fine craft show sponsored by the Bethany Beach Cultural and Historical Affairs Committee.</span></span>
LOCATION:Bethany Beach Boardwalk
UID:e.2126.25569
SEQUENCE:3
DTSTAMP:20260421T004716Z
URL:http://business.thequietresorts.com/events/details/17th-annual-seaside-craft-show-25569
END:VEVENT

END:VCALENDAR
