BEGIN:VCALENDAR
VERSION:2.0
PRODID:-//ChamberMaster//Event Calendar 2.0//EN
METHOD:PUBLISH
X-PUBLISHED-TTL:P3D
REFRESH-INTERVAL:P3D
CALSCALE:GREGORIAN
BEGIN:VEVENT
DTSTART:20240622T130000Z
DTEND:20240622T160000Z
X-MICROSOFT-CDO-ALLDAYEVENT:FALSE
SUMMARY:14th annual Wings of Hope Butterfly Release with Cancer Suppor Community Delaware
DESCRIPTION:Cancer Support Community Delaware is excited to announce the return of their 14th annual Wings of Hope: A Butterfly Release. This popular celebration of life will be held on Saturday\, June 22\, 2024 at Milton Memorial Park from 9AM to 12noon and is free to the public. This very special and unique celebration of life has become an inspiration for many in the community who have been touched by cancer. \n\n\n\nButterflies are available to purchase now!  To purchase Butterflies\, t-shirts\, raffle and 50/50 tickets or to become a sponsor or vendor for the event\, visit www.cancersupportdelaware.org and click on 2024 Wings of Hope.
X-ALT-DESC;FMTTYPE=text/html:<span style="font-family:georgia\,serif\;">Cancer Support Community Delaware is excited to announce the return of their 14<sup>th</sup> annual Wings of Hope: A Butterfly Release. This popular celebration of life will be held on Saturday\, June 22\, 2024 at Milton Memorial Park from 9AM to 12noon and is free to the public. This very special and unique celebration of life has become an inspiration for many in the community who have been touched by cancer. </span><br />\n<br />\n<span style="font-family:georgia\,serif\;">Butterflies are available to purchase now!&nbsp\; To purchase Butterflies\, t-shirts\, raffle and 50/50 tickets or to become a sponsor or vendor for the event\, visit </span><a href="http://www.cancersupportdelaware.org"><span style="font-family:georgia\,serif\;">www.cancersupportdelaware.org</span></a><span style="font-family:georgia\,serif\;"> and click on 2024 Wings of Hope.</span><br />\n&nbsp\;
LOCATION:Milton Memorial Park 113 Union St. Milton\, DE 19968
UID:e.2126.29259
SEQUENCE:3
DTSTAMP:20260420T060756Z
URL:http://business.thequietresorts.com/events/details/14th-annual-wings-of-hope-butterfly-release-with-cancer-suppor-community-delaware-29259
END:VEVENT

END:VCALENDAR
