BEGIN:VCALENDAR
VERSION:2.0
PRODID:-//ChamberMaster//Event Calendar 2.0//EN
METHOD:PUBLISH
X-PUBLISHED-TTL:P3D
REFRESH-INTERVAL:P3D
CALSCALE:GREGORIAN
BEGIN:VEVENT
DTSTART:20240330T123000Z
DTEND:20240330T150000Z
X-MICROSOFT-CDO-ALLDAYEVENT:FALSE
SUMMARY:12th Annual Bunny Palooza 5K/1M with The Quiet Resorts Charitable Foundation
DESCRIPTION:ANNUAL BUNNY PALOOZA 5K/1M Run/Walk\n\nJoin The Quiet Resorts Charitable Foundation on March 30th\, Easter Saturday\, for the Annual Bunny Palooza 5K/1M Run/Walk.\n\n\n\nRACE HIGHLIGHTS\n\n	Overall\, Masters and age group awards\n	Fun\, festive course\n	Event shirts to all pre-registered Runners (guaranteed to all 5k/10k participants who pre-register)\n	Music pre and post race!\n	Post-race party with Michelob Ultra provided by NKS Distributors!\n	Palooza Plaza with music\, games and more!\n	A perfect way to start the spring season\n	Finish oceanfront on the Bethany Beach Boardwalk\n\n\nSCHEDULE OF EVENTS\n\nTHURSDAY\, MARCH 28\, 2024\n\n\n	Online Registration closes at noon\n\n\nFRIDAY\, MARCH 29\, 2024\n\n\n	1-4pm: Packet pick up and on-site registration at Mango's Bethany Beach (NO GUARANTEE OF EVENT T-SHIRT)\n\n\nSATURDAY\, MARCH 30\, 2024\n\n\n	8-8:30 am: Packet pick up \n	8:55 am: Mandatory Pre-Race meeting at the starting line\n	9:00am: 5K start\n	9:10am: 1m start\n	9:00 am-11:00 am: Post-race party at Mango's (Garfield Pkwy & Bethany Boardwalk)\n\nEVENT AWARDS\n\n5k AWARDS ARE AS FOLLOWS:\n\n\n	1st place overall male\n	1st place overall female\n	1st Master male & female (Masters are 40-49)\n	1st Grand Master male & female (Grand Masters are 50-59)\n	1st Senior Grand male & female (Senior Grand Masters are 60+)\n	1st\, 2nd\, 3rd place age group male\n	1st\, 2nd\, 3rd place age group female\n\nRACE AGE GROUPS\n\n\n\n5k Run: 9 & under   10   14   15   19   20   29   30   39   40   49   50   59   60   69   70+\n\n\n\nRACE POLICY AND INFORMATION\n\n\n	Policies\n	Rain or shine event.\n	No dogs permitted \n\n\nWant to VOLUNTEER or be a SPONSOR for the event ? Click Here!
X-ALT-DESC;FMTTYPE=text/html:<span style="font-size:18px\;"><strong><span style="color:#800080\;"><span style="font-family:arial\;">ANNUAL BUNNY&nbsp\;PALOOZA&nbsp\;5K/1M Run/Walk</span></span></strong></span><br />\nJoin The Quiet Resorts Charitable Foundation on March 30th\, Easter Saturday\, for the Annual Bunny Palooza 5K/1M Run/Walk.<br />\n<br />\n<span style="font-size:18px\;"><span style="font-family:arial\;"><span style="color:#800080\;"><strong>RACE HIGHLIGHTS</strong></span></span></span>\n<ul>\n	<li><span style="font-size:14px\;"><span style="font-family:arial\;">Overall\, Masters and age group awards</span></span></li>\n	<li><span style="font-size:14px\;"><span style="font-family:arial\;">Fun\, festive course</span></span></li>\n	<li><span style="font-size:14px\;"><span style="font-family:arial\;">Event shirts to all pre-registered Runners (guaranteed to all 5k/10k participants who pre-register)</span></span></li>\n	<li><span style="font-size:14px\;"><span style="font-family:arial\;">Music pre and post race!</span></span></li>\n	<li><span style="font-size:14px\;"><span style="font-family:arial\;">Post-race party with Michelob Ultra provided by NKS Distributors!</span></span></li>\n	<li><span style="font-size:14px\;"><span style="font-family:arial\;">Palooza Plaza with music\, games and more!</span></span></li>\n	<li><span style="font-size:14px\;"><span style="font-family:arial\;">A perfect way to start the spring season</span></span></li>\n	<li><span style="font-size:14px\;"><span style="font-family:arial\;">Finish oceanfront on the Bethany Beach Boardwalk</span></span></li>\n</ul>\n\n<h4><span style="font-size:14px\;"><span style="font-family:arial\;"><span style="font-size:18px\;"><span style="color:#800080\;"><span style="background-color:#FFFFFF\;">SCHEDULE OF EVENTS</span></span></span><br />\n<strong>THURSDAY\, MARCH 28\, 2024</strong></span></span></h4>\n\n<ul>\n	<li><span style="font-size:14px\;"><span style="font-family:arial\;">Online Registration closes at noon</span></span></li>\n</ul>\n\n<h4><strong><span style="font-size:14px\;"><span style="font-family:arial\;">FRIDAY\, MARCH 29\, 2024</span></span></strong></h4>\n\n<ul>\n	<li><span style="font-size:14px\;"><span style="font-family:arial\;"><strong>1-4pm:</strong> Packet pick up and on-site registration at Mango&rsquo\;s Bethany Beach (NO GUARANTEE OF EVENT T-SHIRT)</span></span></li>\n</ul>\n\n<h4><strong><span style="font-size:14px\;"><span style="font-family:arial\;">SATURDAY\, MARCH 30\, 2024</span></span></strong></h4>\n\n<ul>\n	<li><span style="font-size:14px\;"><span style="font-family:arial\;"><strong>8-8:30 am</strong>: Packet&nbsp\;pick up&nbsp\;</span></span></li>\n	<li><span style="font-size:14px\;"><span style="font-family:arial\;"><strong>8:55&nbsp\;am:</strong>&nbsp\;Mandatory Pre-Race meeting at the starting line</span></span></li>\n	<li><span style="font-size:14px\;"><span style="font-family:arial\;"><strong>9:00am:</strong></span></span> 5K start</li>\n	<li><span style="font-size:14px\;"><span style="font-family:arial\;"><strong>9:10am:</strong></span></span> 1m start</li>\n	<li><span style="font-size:14px\;"><span style="font-family:arial\;"><strong>9:00 am-11:00 am:</strong> Post-race party at Mango&rsquo\;s&nbsp\;(Garfield Pkwy &amp\; Bethany Boardwalk)</span></span></li>\n</ul>\n<span style="font-size:18px\;"><span style="font-family:arial\;"><span style="color:#800080\;"><strong>EVENT AWARDS</strong></span></span></span><br />\n<strong>5k AWARDS ARE AS FOLLOWS:</strong>\n\n<ul>\n	<li>1st place overall male</li>\n	<li>1st place overall female</li>\n	<li>1st Master male &amp\; female (Masters are 40-49)</li>\n	<li>1st Grand Master male &amp\; female (Grand Masters are 50-59)</li>\n	<li>1st Senior Grand male &amp\; female (Senior Grand Masters are 60+)</li>\n	<li>1st\, 2nd\, 3rd place age group male</li>\n	<li>1st\, 2nd\, 3rd place age group female</li>\n</ul>\n<span style="font-size:18px\;"><span style="color:#800080\;"><strong>RACE AGE GROUPS</strong></span></span><br />\n<br />\n<strong>5k Run:</strong> 9 &amp\; under &bull\; 10 &ndash\; 14 &bull\; 15 &ndash\; 19 &bull\; 20 &ndash\; 29 &bull\; 30 &ndash\; 39 &bull\; 40 &ndash\; 49 &bull\; 50 &ndash\; 59 &bull\; 60 &ndash\; 69 &bull\; 70+<br />\n<br />\n<strong><span style="font-size:18px\;"><span style="color:#800080\;">RACE POLICY AND INFORMATION</span></span></strong>\n\n<ul>\n	<li><a href="https://www.races2run.com/about-us/policies/">Policies</a></li>\n	<li><span style="font-size:14px\;"><span style="font-family:arial\;">Rain or shine event.</span></span></li>\n	<li><span style="font-size:14px\;"><span style="font-family:arial\;">No dogs permitted&nbsp\;</span></span></li>\n</ul>\n\n<p><span style="font-size:14px\;"><span style="font-family:arial\;"><em><strong>Want to <span style="color:#800080\;">VOLUNTEER</span>&nbsp\;or be a <span style="color:#4B0082\;">SPONSOR</span> for the event ?<a href="https://raceroster.com/events/2024/79833/the-quiet-resorts-charitable-foundation-presents-the-bunny-palooza-5k-1m" target="_blank"> Click Here!</a></strong></em></span></span></p>\n
LOCATION:Downtown Bethany Beach\, DE 19930
UID:e.2126.28509
SEQUENCE:3
DTSTAMP:20260420T074025Z
URL:http://business.thequietresorts.com/events/details/12th-annual-bunny-palooza-5k-1m-with-the-quiet-resorts-charitable-foundation-28509
END:VEVENT

END:VCALENDAR
